BEGIN:VCALENDAR
VERSION:2.0
PRODID:-//BlueWaterParent.com - ECPv6.15.20//NONSGML v1.0//EN
CALSCALE:GREGORIAN
METHOD:PUBLISH
X-ORIGINAL-URL:https://bluewaterparent.com
X-WR-CALDESC:Events for BlueWaterParent.com
REFRESH-INTERVAL;VALUE=DURATION:PT1H
X-Robots-Tag:noindex
X-PUBLISHED-TTL:PT1H
BEGIN:VTIMEZONE
TZID:America/New_York
BEGIN:DAYLIGHT
TZOFFSETFROM:-0500
TZOFFSETTO:-0400
TZNAME:EDT
DTSTART:20290311T070000
END:DAYLIGHT
BEGIN:STANDARD
TZOFFSETFROM:-0400
TZOFFSETTO:-0500
TZNAME:EST
DTSTART:20291104T060000
END:STANDARD
BEGIN:DAYLIGHT
TZOFFSETFROM:-0500
TZOFFSETTO:-0400
TZNAME:EDT
DTSTART:20300310T070000
END:DAYLIGHT
BEGIN:STANDARD
TZOFFSETFROM:-0400
TZOFFSETTO:-0500
TZNAME:EST
DTSTART:20301103T060000
END:STANDARD
BEGIN:DAYLIGHT
TZOFFSETFROM:-0500
TZOFFSETTO:-0400
TZNAME:EDT
DTSTART:20310309T070000
END:DAYLIGHT
BEGIN:STANDARD
TZOFFSETFROM:-0400
TZOFFSETTO:-0500
TZNAME:EST
DTSTART:20311102T060000
END:STANDARD
END:VTIMEZONE
BEGIN:VEVENT
DTSTART;TZID=America/New_York:20300610T100000
DTEND;TZID=America/New_York:20300610T110000
DTSTAMP:20260425T064158
CREATED:20260125T194928Z
LAST-MODIFIED:20260125T194929Z
UID:10017675-1907316000-1907319600@bluewaterparent.com
SUMMARY:Storytime - Marysville
DESCRIPTION:From SCCLS – Preschoolers and their adults: Join us at the library for a happy blend of stories\, rhymes\, music and movement\, followed by a creative activity time.
URL:https://bluewaterparent.com/event/storytime-marysville-3/2030-06-10/
LOCATION:Marysville Library\, 1175 Delaware\, Marysville\, MI
CATEGORIES:Free,Playgroups
END:VEVENT
BEGIN:VEVENT
DTSTART;TZID=America/New_York:20300610T100000
DTEND;TZID=America/New_York:20300610T110000
DTSTAMP:20260425T064158
CREATED:20260307T142323Z
LAST-MODIFIED:20260307T142325Z
UID:10017414-1907316000-1907319600@bluewaterparent.com
SUMMARY:Storytime - Yale
DESCRIPTION:
URL:https://bluewaterparent.com/event/storytime-yale-2-2-2/2030-06-10/
LOCATION:Yale Library\, 2 Jones St\, Yale\, MI\, 48097\, United States
CATEGORIES:Free,Playgroups
END:VEVENT
BEGIN:VEVENT
DTSTART;TZID=America/New_York:20300610T103000
DTEND;TZID=America/New_York:20300610T110000
DTSTAMP:20260425T064158
CREATED:20260401T010404Z
LAST-MODIFIED:20260401T010407Z
UID:10025179-1907317800-1907319600@bluewaterparent.com
SUMMARY:Storytime - Burtchville
DESCRIPTION:
URL:https://bluewaterparent.com/event/storytime-burtchville-3-2/2030-06-10/
LOCATION:Burtchville Library\, 7093 2nd St\, Lakeport\, MI\, 48059\, United States
CATEGORIES:Free,Playgroups
END:VEVENT
BEGIN:VEVENT
DTSTART;TZID=America/New_York:20300610T103000
DTEND;TZID=America/New_York:20300610T113000
DTSTAMP:20260425T064158
CREATED:20260321T165751Z
LAST-MODIFIED:20260321T165752Z
UID:10017936-1907317800-1907321400@bluewaterparent.com
SUMMARY:Storytime - Marine City
DESCRIPTION:From SCCLS – Preschoolers and their adults join us at the library for a happy blend of stories and activities.
URL:https://bluewaterparent.com/event/storytime-marine-city-2-2/2030-06-10/
LOCATION:Marine City Library\, 300 S Parker St\, Marine City\, MI\, 48039\, United States
CATEGORIES:Free,Playgroups
END:VEVENT
BEGIN:VEVENT
DTSTART;TZID=America/New_York:20300610T160000
DTEND;TZID=America/New_York:20300610T180000
DTSTAMP:20260425T064158
CREATED:20260101T211427Z
LAST-MODIFIED:20260101T211427Z
UID:10021085-1907337600-1907344800@bluewaterparent.com
SUMMARY:Teen Scene
DESCRIPTION:Ages 13-18.
URL:https://bluewaterparent.com/event/teen-scene/2030-06-10/
LOCATION:Capac Library\, 111 N Main St\, Capac\, MI\, 48014\, United States
CATEGORIES:Teens
END:VEVENT
BEGIN:VEVENT
DTSTART;TZID=America/New_York:20300611T100000
DTEND;TZID=America/New_York:20300611T103000
DTSTAMP:20260425T064158
CREATED:20260418T235804Z
LAST-MODIFIED:20260419T000903Z
UID:10025557-1907402400-1907404200@bluewaterparent.com
SUMMARY:Rhythm and Rhyme - Port Huron
DESCRIPTION:For children ages 0-3 and their caregivers.
URL:https://bluewaterparent.com/event/rhythm-and-rhyme-port-huron/2030-06-11/
LOCATION:Main Library\, 210 McMorran Blvd\, Port Huron\, MI\, 48060\, United States
CATEGORIES:Playgroups
END:VEVENT
BEGIN:VEVENT
DTSTART;TZID=America/New_York:20300611T180000
DTEND;TZID=America/New_York:20300611T183000
DTSTAMP:20260425T064158
CREATED:20260419T002148Z
LAST-MODIFIED:20260419T003520Z
UID:10025818-1907431200-1907433000@bluewaterparent.com
SUMMARY:Bedtime Storytime - Port Huron
DESCRIPTION:
URL:https://bluewaterparent.com/event/bedtime-storytime/2030-06-11/
LOCATION:Main Library\, 210 McMorran Blvd\, Port Huron\, MI\, 48060\, United States
CATEGORIES:Playgroups
END:VEVENT
BEGIN:VEVENT
DTSTART;TZID=America/New_York:20300612T080000
DTEND;TZID=America/New_York:20300612T170000
DTSTAMP:20260425T064158
CREATED:20260419T012510Z
LAST-MODIFIED:20260419T012510Z
UID:10026820-1907481600-1907514000@bluewaterparent.com
SUMMARY:Discovery Lab for Littles
DESCRIPTION:This event is included with admission.
URL:https://bluewaterparent.com/event/discovery-lab-for-littles/2030-06-12/
LOCATION:Discovery City Children’s Museum\, 317 Grand River Avenue\, Port huron\, MI\, 48060
END:VEVENT
BEGIN:VEVENT
DTSTART;TZID=America/New_York:20300612T100000
DTEND;TZID=America/New_York:20300612T110000
DTSTAMP:20260425T064158
CREATED:20260419T003159Z
LAST-MODIFIED:20260419T003555Z
UID:10026079-1907488800-1907492400@bluewaterparent.com
SUMMARY:Storytime - Port Huron
DESCRIPTION:
URL:https://bluewaterparent.com/event/storytime-port-huron/2030-06-12/
LOCATION:Main Library\, 210 McMorran Blvd\, Port Huron\, MI\, 48060\, United States
CATEGORIES:Playgroups
END:VEVENT
BEGIN:VEVENT
DTSTART;TZID=America/New_York:20300613T100000
DTEND;TZID=America/New_York:20300613T110000
DTSTAMP:20260425T064158
CREATED:20251201T004011Z
LAST-MODIFIED:20260307T021133Z
UID:10024045-1907575200-1907578800@bluewaterparent.com
SUMMARY:Great Start Playgroup - Avoca
DESCRIPTION:
URL:https://bluewaterparent.com/event/great-start-playgroup-emmett/2030-06-13/
LOCATION:Avoca Elementary\, 8751 Willow St.\, Avoca\, MI\, 48006\, United States
CATEGORIES:Playgroups
END:VEVENT
BEGIN:VEVENT
DTSTART;TZID=America/New_York:20300613T100000
DTEND;TZID=America/New_York:20300613T110000
DTSTAMP:20260425T064158
CREATED:20260307T014510Z
LAST-MODIFIED:20260307T014908Z
UID:10023784-1907575200-1907578800@bluewaterparent.com
SUMMARY:Great Start Playgroup - Marysville
DESCRIPTION:
URL:https://bluewaterparent.com/event/great-start-playgroup-marysville-3/2030-06-13/
LOCATION:St. Clair County RESA East Campus\, 1111 Delaware Avenue\, Marysville\, MI
CATEGORIES:Playgroups
END:VEVENT
BEGIN:VEVENT
DTSTART;TZID=America/New_York:20300613T110000
DTEND;TZID=America/New_York:20300613T113000
DTSTAMP:20260425T064158
CREATED:20260101T200511Z
LAST-MODIFIED:20260101T213808Z
UID:10021330-1907578800-1907580600@bluewaterparent.com
SUMMARY:Storytime - Algonac
DESCRIPTION:  \n 
URL:https://bluewaterparent.com/event/storytime-algonac-2/2030-06-13/
LOCATION:Algonac-Clay Library\, 2011 St Clair River Dr\, Algonac\, MI\, 48001\, United States
CATEGORIES:Playgroups
END:VEVENT
BEGIN:VEVENT
DTSTART;TZID=America/New_York:20300613T143000
DTEND;TZID=America/New_York:20300613T160000
DTSTAMP:20260425T064158
CREATED:20260101T200828Z
LAST-MODIFIED:20260101T200854Z
UID:10019824-1907591400-1907596800@bluewaterparent.com
SUMMARY:Teen Time - Yale
DESCRIPTION:
URL:https://bluewaterparent.com/event/teen-time-yale-3/2030-06-13/
LOCATION:Yale Library\, 2 Jones St\, Yale\, MI\, 48097\, United States
CATEGORIES:Teens
END:VEVENT
BEGIN:VEVENT
DTSTART;TZID=America/New_York:20300613T171500
DTEND;TZID=America/New_York:20300613T174500
DTSTAMP:20260425T064158
CREATED:20260328T183605Z
LAST-MODIFIED:20260328T183607Z
UID:10024876-1907601300-1907603100@bluewaterparent.com
SUMMARY:Little House on the Prairie Book Club for Kids
DESCRIPTION:  \n 
URL:https://bluewaterparent.com/event/little-house-on-the-prairie-book-club-for-kids-2-3/2030-06-13/
LOCATION:Capac Library\, 111 N Main St\, Capac\, MI\, 48014\, United States
CATEGORIES:Free
END:VEVENT
BEGIN:VEVENT
DTSTART;TZID=America/New_York:20300614T080000
DTEND;TZID=America/New_York:20300614T170000
DTSTAMP:20260425T064158
CREATED:20260419T012510Z
LAST-MODIFIED:20260419T012510Z
UID:10026821-1907654400-1907686800@bluewaterparent.com
SUMMARY:Discovery Lab for Littles
DESCRIPTION:This event is included with admission.
URL:https://bluewaterparent.com/event/discovery-lab-for-littles/2030-06-14/
LOCATION:Discovery City Children’s Museum\, 317 Grand River Avenue\, Port huron\, MI\, 48060
END:VEVENT
BEGIN:VEVENT
DTSTART;TZID=America/New_York:20300614T100000
DTEND;TZID=America/New_York:20300614T104500
DTSTAMP:20260425T064158
CREATED:20260101T202520Z
LAST-MODIFIED:20260131T171318Z
UID:10023471-1907661600-1907664300@bluewaterparent.com
SUMMARY:Family Storytime - Memphis
DESCRIPTION:
URL:https://bluewaterparent.com/event/family-storytime-capac-2-2/2030-06-14/
LOCATION:Memphis Library\, 34830 Potter St\, Memphis\, MI\, 48041\, United States
CATEGORIES:Playgroups
END:VEVENT
BEGIN:VEVENT
DTSTART;TZID=America/New_York:20300614T100000
DTEND;TZID=America/New_York:20300614T110000
DTSTAMP:20260425T064158
CREATED:20260419T003829Z
LAST-MODIFIED:20260419T003829Z
UID:10026340-1907661600-1907665200@bluewaterparent.com
SUMMARY:Storytime - Port Huron
DESCRIPTION:
URL:https://bluewaterparent.com/event/storytime-port-huron-2/2030-06-14/
LOCATION:Main Library\, 210 McMorran Blvd\, Port Huron\, MI\, 48060\, United States
CATEGORIES:Playgroups
END:VEVENT
BEGIN:VEVENT
DTSTART;TZID=America/New_York:20300614T110000
DTEND;TZID=America/New_York:20300614T120000
DTSTAMP:20260425T064158
CREATED:20260101T164906Z
LAST-MODIFIED:20260101T171615Z
UID:10017153-1907665200-1907668800@bluewaterparent.com
SUMMARY:Playgroup Pals
DESCRIPTION:
URL:https://bluewaterparent.com/event/playgroup-pals-2/2030-06-14/
LOCATION:Ira Township Library\, 7013 Meldrum Rd\, Ira Township\, Michigan\, 48023\, United States
CATEGORIES:Playgroups
END:VEVENT
BEGIN:VEVENT
DTSTART;TZID=America/New_York:20300617T100000
DTEND;TZID=America/New_York:20300617T110000
DTSTAMP:20260425T064158
CREATED:20260101T192653Z
LAST-MODIFIED:20260307T025320Z
UID:10024567-1907920800-1907924400@bluewaterparent.com
SUMMARY:Storytime - St. Clair
DESCRIPTION:From SCCLS – Join us for a fun and educational blend of stories\, crafts\, movement activities\, and songs.
URL:https://bluewaterparent.com/event/storytime-st-clair/2030-06-17/
LOCATION:St. Clair Library\, 310 S. 2nd Street\, St. Clair\, MI
CATEGORIES:Free,Playgroups
END:VEVENT
BEGIN:VEVENT
DTSTART;TZID=America/New_York:20300617T100000
DTEND;TZID=America/New_York:20300617T110000
DTSTAMP:20260425T064158
CREATED:20260125T194928Z
LAST-MODIFIED:20260125T194929Z
UID:10017676-1907920800-1907924400@bluewaterparent.com
SUMMARY:Storytime - Marysville
DESCRIPTION:From SCCLS – Preschoolers and their adults: Join us at the library for a happy blend of stories\, rhymes\, music and movement\, followed by a creative activity time.
URL:https://bluewaterparent.com/event/storytime-marysville-3/2030-06-17/
LOCATION:Marysville Library\, 1175 Delaware\, Marysville\, MI
CATEGORIES:Free,Playgroups
END:VEVENT
BEGIN:VEVENT
DTSTART;TZID=America/New_York:20300617T100000
DTEND;TZID=America/New_York:20300617T110000
DTSTAMP:20260425T064158
CREATED:20260307T142323Z
LAST-MODIFIED:20260307T142325Z
UID:10017415-1907920800-1907924400@bluewaterparent.com
SUMMARY:Storytime - Yale
DESCRIPTION:
URL:https://bluewaterparent.com/event/storytime-yale-2-2-2/2030-06-17/
LOCATION:Yale Library\, 2 Jones St\, Yale\, MI\, 48097\, United States
CATEGORIES:Free,Playgroups
END:VEVENT
BEGIN:VEVENT
DTSTART;TZID=America/New_York:20300617T103000
DTEND;TZID=America/New_York:20300617T110000
DTSTAMP:20260425T064158
CREATED:20260401T010404Z
LAST-MODIFIED:20260401T010407Z
UID:10025180-1907922600-1907924400@bluewaterparent.com
SUMMARY:Storytime - Burtchville
DESCRIPTION:
URL:https://bluewaterparent.com/event/storytime-burtchville-3-2/2030-06-17/
LOCATION:Burtchville Library\, 7093 2nd St\, Lakeport\, MI\, 48059\, United States
CATEGORIES:Free,Playgroups
END:VEVENT
BEGIN:VEVENT
DTSTART;TZID=America/New_York:20300617T103000
DTEND;TZID=America/New_York:20300617T113000
DTSTAMP:20260425T064158
CREATED:20260321T165751Z
LAST-MODIFIED:20260321T165752Z
UID:10024774-1907922600-1907926200@bluewaterparent.com
SUMMARY:Storytime - Marine City
DESCRIPTION:From SCCLS – Preschoolers and their adults join us at the library for a happy blend of stories and activities.
URL:https://bluewaterparent.com/event/storytime-marine-city-2-2/2030-06-17/
LOCATION:Marine City Library\, 300 S Parker St\, Marine City\, MI\, 48039\, United States
CATEGORIES:Free,Playgroups
END:VEVENT
BEGIN:VEVENT
DTSTART;TZID=America/New_York:20300618T100000
DTEND;TZID=America/New_York:20300618T103000
DTSTAMP:20260425T064158
CREATED:20260418T235804Z
LAST-MODIFIED:20260419T000903Z
UID:10025558-1908007200-1908009000@bluewaterparent.com
SUMMARY:Rhythm and Rhyme - Port Huron
DESCRIPTION:For children ages 0-3 and their caregivers.
URL:https://bluewaterparent.com/event/rhythm-and-rhyme-port-huron/2030-06-18/
LOCATION:Main Library\, 210 McMorran Blvd\, Port Huron\, MI\, 48060\, United States
CATEGORIES:Playgroups
END:VEVENT
BEGIN:VEVENT
DTSTART;TZID=America/New_York:20300618T170000
DTEND;TZID=America/New_York:20300618T193000
DTSTAMP:20260425T064158
CREATED:20260101T190453Z
LAST-MODIFIED:20260103T013002Z
UID:10021486-1908032400-1908041400@bluewaterparent.com
SUMMARY:Teen D&D Group - Algonac-Clay
DESCRIPTION:Registration requested.
URL:https://bluewaterparent.com/event/teen-dd-group-algonac-clay/2030-06-18/
LOCATION:Algonac-Clay Library\, 2011 St Clair River Dr\, Algonac\, MI\, 48001\, United States
CATEGORIES:Teens
END:VEVENT
BEGIN:VEVENT
DTSTART;TZID=America/New_York:20300618T180000
DTEND;TZID=America/New_York:20300618T183000
DTSTAMP:20260425T064158
CREATED:20260419T002148Z
LAST-MODIFIED:20260419T003520Z
UID:10025819-1908036000-1908037800@bluewaterparent.com
SUMMARY:Bedtime Storytime - Port Huron
DESCRIPTION:
URL:https://bluewaterparent.com/event/bedtime-storytime/2030-06-18/
LOCATION:Main Library\, 210 McMorran Blvd\, Port Huron\, MI\, 48060\, United States
CATEGORIES:Playgroups
END:VEVENT
BEGIN:VEVENT
DTSTART;TZID=America/New_York:20300619T080000
DTEND;TZID=America/New_York:20300619T170000
DTSTAMP:20260425T064158
CREATED:20260419T012510Z
LAST-MODIFIED:20260419T012510Z
UID:10026822-1908086400-1908118800@bluewaterparent.com
SUMMARY:Discovery Lab for Littles
DESCRIPTION:This event is included with admission.
URL:https://bluewaterparent.com/event/discovery-lab-for-littles/2030-06-19/
LOCATION:Discovery City Children’s Museum\, 317 Grand River Avenue\, Port huron\, MI\, 48060
END:VEVENT
BEGIN:VEVENT
DTSTART;TZID=America/New_York:20300619T100000
DTEND;TZID=America/New_York:20300619T110000
DTSTAMP:20260425T064158
CREATED:20260419T003159Z
LAST-MODIFIED:20260419T003555Z
UID:10026080-1908093600-1908097200@bluewaterparent.com
SUMMARY:Storytime - Port Huron
DESCRIPTION:
URL:https://bluewaterparent.com/event/storytime-port-huron/2030-06-19/
LOCATION:Main Library\, 210 McMorran Blvd\, Port Huron\, MI\, 48060\, United States
CATEGORIES:Playgroups
END:VEVENT
BEGIN:VEVENT
DTSTART;TZID=America/New_York:20300620T100000
DTEND;TZID=America/New_York:20300620T110000
DTSTAMP:20260425T064158
CREATED:20251201T004011Z
LAST-MODIFIED:20260307T021133Z
UID:10024046-1908180000-1908183600@bluewaterparent.com
SUMMARY:Great Start Playgroup - Avoca
DESCRIPTION:
URL:https://bluewaterparent.com/event/great-start-playgroup-emmett/2030-06-20/
LOCATION:Avoca Elementary\, 8751 Willow St.\, Avoca\, MI\, 48006\, United States
CATEGORIES:Playgroups
END:VEVENT
BEGIN:VEVENT
DTSTART;TZID=America/New_York:20300620T100000
DTEND;TZID=America/New_York:20300620T110000
DTSTAMP:20260425T064158
CREATED:20260307T014510Z
LAST-MODIFIED:20260307T014908Z
UID:10023785-1908180000-1908183600@bluewaterparent.com
SUMMARY:Great Start Playgroup - Marysville
DESCRIPTION:
URL:https://bluewaterparent.com/event/great-start-playgroup-marysville-3/2030-06-20/
LOCATION:St. Clair County RESA East Campus\, 1111 Delaware Avenue\, Marysville\, MI
CATEGORIES:Playgroups
END:VEVENT
END:VCALENDAR