BEGIN:VCALENDAR
VERSION:2.0
PRODID:-//BlueWaterParent.com - ECPv6.15.20//NONSGML v1.0//EN
CALSCALE:GREGORIAN
METHOD:PUBLISH
X-WR-CALNAME:BlueWaterParent.com
X-ORIGINAL-URL:https://bluewaterparent.com
X-WR-CALDESC:Events for BlueWaterParent.com
REFRESH-INTERVAL;VALUE=DURATION:PT1H
X-Robots-Tag:noindex
X-PUBLISHED-TTL:PT1H
BEGIN:VTIMEZONE
TZID:America/New_York
BEGIN:DAYLIGHT
TZOFFSETFROM:-0500
TZOFFSETTO:-0400
TZNAME:EDT
DTSTART:20290311T070000
END:DAYLIGHT
BEGIN:STANDARD
TZOFFSETFROM:-0400
TZOFFSETTO:-0500
TZNAME:EST
DTSTART:20291104T060000
END:STANDARD
BEGIN:DAYLIGHT
TZOFFSETFROM:-0500
TZOFFSETTO:-0400
TZNAME:EDT
DTSTART:20300310T070000
END:DAYLIGHT
BEGIN:STANDARD
TZOFFSETFROM:-0400
TZOFFSETTO:-0500
TZNAME:EST
DTSTART:20301103T060000
END:STANDARD
BEGIN:DAYLIGHT
TZOFFSETFROM:-0500
TZOFFSETTO:-0400
TZNAME:EDT
DTSTART:20310309T070000
END:DAYLIGHT
BEGIN:STANDARD
TZOFFSETFROM:-0400
TZOFFSETTO:-0500
TZNAME:EST
DTSTART:20311102T060000
END:STANDARD
END:VTIMEZONE
BEGIN:VEVENT
DTSTART;TZID=America/New_York:20300822T110000
DTEND;TZID=America/New_York:20300822T113000
DTSTAMP:20260425T230026
CREATED:20260101T200511Z
LAST-MODIFIED:20260101T213808Z
UID:10021340-1913626800-1913628600@bluewaterparent.com
SUMMARY:Storytime - Algonac
DESCRIPTION:  \n 
URL:https://bluewaterparent.com/event/storytime-algonac-2/2030-08-22/
LOCATION:Algonac-Clay Library\, 2011 St Clair River Dr\, Algonac\, MI\, 48001\, United States
CATEGORIES:Playgroups
END:VEVENT
BEGIN:VEVENT
DTSTART;TZID=America/New_York:20300822T143000
DTEND;TZID=America/New_York:20300822T160000
DTSTAMP:20260425T230026
CREATED:20260101T200828Z
LAST-MODIFIED:20260101T200854Z
UID:10019834-1913639400-1913644800@bluewaterparent.com
SUMMARY:Teen Time - Yale
DESCRIPTION:
URL:https://bluewaterparent.com/event/teen-time-yale-3/2030-08-22/
LOCATION:Yale Library\, 2 Jones St\, Yale\, MI\, 48097\, United States
CATEGORIES:Teens
END:VEVENT
BEGIN:VEVENT
DTSTART;TZID=America/New_York:20300822T171500
DTEND;TZID=America/New_York:20300822T174500
DTSTAMP:20260425T230026
CREATED:20260328T183605Z
LAST-MODIFIED:20260328T183607Z
UID:10024879-1913649300-1913651100@bluewaterparent.com
SUMMARY:Little House on the Prairie Book Club for Kids
DESCRIPTION:  \n 
URL:https://bluewaterparent.com/event/little-house-on-the-prairie-book-club-for-kids-2-3/2030-08-22/
LOCATION:Capac Library\, 111 N Main St\, Capac\, MI\, 48014\, United States
CATEGORIES:Free
END:VEVENT
BEGIN:VEVENT
DTSTART;TZID=America/New_York:20300823T080000
DTEND;TZID=America/New_York:20300823T170000
DTSTAMP:20260425T230026
CREATED:20260419T012510Z
LAST-MODIFIED:20260419T012510Z
UID:10026841-1913702400-1913734800@bluewaterparent.com
SUMMARY:Discovery Lab for Littles
DESCRIPTION:This event is included with admission.
URL:https://bluewaterparent.com/event/discovery-lab-for-littles/2030-08-23/
LOCATION:Discovery City Children’s Museum\, 317 Grand River Avenue\, Port huron\, MI\, 48060
END:VEVENT
BEGIN:VEVENT
DTSTART;TZID=America/New_York:20300823T100000
DTEND;TZID=America/New_York:20300823T104500
DTSTAMP:20260425T230026
CREATED:20260101T202520Z
LAST-MODIFIED:20260131T171318Z
UID:10023481-1913709600-1913712300@bluewaterparent.com
SUMMARY:Family Storytime - Memphis
DESCRIPTION:
URL:https://bluewaterparent.com/event/family-storytime-capac-2-2/2030-08-23/
LOCATION:Memphis Library\, 34830 Potter St\, Memphis\, MI\, 48041\, United States
CATEGORIES:Playgroups
END:VEVENT
BEGIN:VEVENT
DTSTART;TZID=America/New_York:20300823T100000
DTEND;TZID=America/New_York:20300823T110000
DTSTAMP:20260425T230026
CREATED:20260419T003829Z
LAST-MODIFIED:20260419T003829Z
UID:10026350-1913709600-1913713200@bluewaterparent.com
SUMMARY:Storytime - Port Huron
DESCRIPTION:
URL:https://bluewaterparent.com/event/storytime-port-huron-2/2030-08-23/
LOCATION:Main Library\, 210 McMorran Blvd\, Port Huron\, MI\, 48060\, United States
CATEGORIES:Playgroups
END:VEVENT
BEGIN:VEVENT
DTSTART;TZID=America/New_York:20300823T110000
DTEND;TZID=America/New_York:20300823T120000
DTSTAMP:20260425T230026
CREATED:20260101T164906Z
LAST-MODIFIED:20260101T171615Z
UID:10017163-1913713200-1913716800@bluewaterparent.com
SUMMARY:Playgroup Pals
DESCRIPTION:
URL:https://bluewaterparent.com/event/playgroup-pals-2/2030-08-23/
LOCATION:Ira Township Library\, 7013 Meldrum Rd\, Ira Township\, Michigan\, 48023\, United States
CATEGORIES:Playgroups
END:VEVENT
BEGIN:VEVENT
DTSTART;TZID=America/New_York:20300826T100000
DTEND;TZID=America/New_York:20300826T110000
DTSTAMP:20260425T230026
CREATED:20260101T192653Z
LAST-MODIFIED:20260307T025320Z
UID:10024577-1913968800-1913972400@bluewaterparent.com
SUMMARY:Storytime - St. Clair
DESCRIPTION:From SCCLS – Join us for a fun and educational blend of stories\, crafts\, movement activities\, and songs.
URL:https://bluewaterparent.com/event/storytime-st-clair/2030-08-26/
LOCATION:St. Clair Library\, 310 S. 2nd Street\, St. Clair\, MI
CATEGORIES:Free,Playgroups
END:VEVENT
BEGIN:VEVENT
DTSTART;TZID=America/New_York:20300826T100000
DTEND;TZID=America/New_York:20300826T110000
DTSTAMP:20260425T230026
CREATED:20260125T194928Z
LAST-MODIFIED:20260125T194929Z
UID:10017686-1913968800-1913972400@bluewaterparent.com
SUMMARY:Storytime - Marysville
DESCRIPTION:From SCCLS – Preschoolers and their adults: Join us at the library for a happy blend of stories\, rhymes\, music and movement\, followed by a creative activity time.
URL:https://bluewaterparent.com/event/storytime-marysville-3/2030-08-26/
LOCATION:Marysville Library\, 1175 Delaware\, Marysville\, MI
CATEGORIES:Free,Playgroups
END:VEVENT
BEGIN:VEVENT
DTSTART;TZID=America/New_York:20300826T100000
DTEND;TZID=America/New_York:20300826T110000
DTSTAMP:20260425T230026
CREATED:20260307T142323Z
LAST-MODIFIED:20260307T142325Z
UID:10017425-1913968800-1913972400@bluewaterparent.com
SUMMARY:Storytime - Yale
DESCRIPTION:
URL:https://bluewaterparent.com/event/storytime-yale-2-2-2/2030-08-26/
LOCATION:Yale Library\, 2 Jones St\, Yale\, MI\, 48097\, United States
CATEGORIES:Free,Playgroups
END:VEVENT
BEGIN:VEVENT
DTSTART;TZID=America/New_York:20300826T103000
DTEND;TZID=America/New_York:20300826T110000
DTSTAMP:20260425T230026
CREATED:20260401T010404Z
LAST-MODIFIED:20260401T010407Z
UID:10025190-1913970600-1913972400@bluewaterparent.com
SUMMARY:Storytime - Burtchville
DESCRIPTION:
URL:https://bluewaterparent.com/event/storytime-burtchville-3-2/2030-08-26/
LOCATION:Burtchville Library\, 7093 2nd St\, Lakeport\, MI\, 48059\, United States
CATEGORIES:Free,Playgroups
END:VEVENT
BEGIN:VEVENT
DTSTART;TZID=America/New_York:20300826T103000
DTEND;TZID=America/New_York:20300826T113000
DTSTAMP:20260425T230026
CREATED:20260321T165751Z
LAST-MODIFIED:20260321T165752Z
UID:10024779-1913970600-1913974200@bluewaterparent.com
SUMMARY:Storytime - Marine City
DESCRIPTION:From SCCLS – Preschoolers and their adults join us at the library for a happy blend of stories and activities.
URL:https://bluewaterparent.com/event/storytime-marine-city-2-2/2030-08-26/
LOCATION:Marine City Library\, 300 S Parker St\, Marine City\, MI\, 48039\, United States
CATEGORIES:Free,Playgroups
END:VEVENT
BEGIN:VEVENT
DTSTART;TZID=America/New_York:20300827T100000
DTEND;TZID=America/New_York:20300827T103000
DTSTAMP:20260425T230026
CREATED:20260418T235804Z
LAST-MODIFIED:20260419T000903Z
UID:10025568-1914055200-1914057000@bluewaterparent.com
SUMMARY:Rhythm and Rhyme - Port Huron
DESCRIPTION:For children ages 0-3 and their caregivers.
URL:https://bluewaterparent.com/event/rhythm-and-rhyme-port-huron/2030-08-27/
LOCATION:Main Library\, 210 McMorran Blvd\, Port Huron\, MI\, 48060\, United States
CATEGORIES:Playgroups
END:VEVENT
BEGIN:VEVENT
DTSTART;TZID=America/New_York:20300827T170000
DTEND;TZID=America/New_York:20300827T193000
DTSTAMP:20260425T230026
CREATED:20260101T190453Z
LAST-MODIFIED:20260103T013002Z
UID:10021491-1914080400-1914089400@bluewaterparent.com
SUMMARY:Teen D&D Group - Algonac-Clay
DESCRIPTION:Registration requested.
URL:https://bluewaterparent.com/event/teen-dd-group-algonac-clay/2030-08-27/
LOCATION:Algonac-Clay Library\, 2011 St Clair River Dr\, Algonac\, MI\, 48001\, United States
CATEGORIES:Teens
END:VEVENT
BEGIN:VEVENT
DTSTART;TZID=America/New_York:20300827T180000
DTEND;TZID=America/New_York:20300827T183000
DTSTAMP:20260425T230026
CREATED:20260419T002148Z
LAST-MODIFIED:20260419T003520Z
UID:10025829-1914084000-1914085800@bluewaterparent.com
SUMMARY:Bedtime Storytime - Port Huron
DESCRIPTION:
URL:https://bluewaterparent.com/event/bedtime-storytime/2030-08-27/
LOCATION:Main Library\, 210 McMorran Blvd\, Port Huron\, MI\, 48060\, United States
CATEGORIES:Playgroups
END:VEVENT
BEGIN:VEVENT
DTSTART;TZID=America/New_York:20300828T080000
DTEND;TZID=America/New_York:20300828T170000
DTSTAMP:20260425T230026
CREATED:20260419T012510Z
LAST-MODIFIED:20260419T012510Z
UID:10026842-1914134400-1914166800@bluewaterparent.com
SUMMARY:Discovery Lab for Littles
DESCRIPTION:This event is included with admission.
URL:https://bluewaterparent.com/event/discovery-lab-for-littles/2030-08-28/
LOCATION:Discovery City Children’s Museum\, 317 Grand River Avenue\, Port huron\, MI\, 48060
END:VEVENT
BEGIN:VEVENT
DTSTART;TZID=America/New_York:20300828T100000
DTEND;TZID=America/New_York:20300828T110000
DTSTAMP:20260425T230026
CREATED:20260419T003159Z
LAST-MODIFIED:20260419T003555Z
UID:10026090-1914141600-1914145200@bluewaterparent.com
SUMMARY:Storytime - Port Huron
DESCRIPTION:
URL:https://bluewaterparent.com/event/storytime-port-huron/2030-08-28/
LOCATION:Main Library\, 210 McMorran Blvd\, Port Huron\, MI\, 48060\, United States
CATEGORIES:Playgroups
END:VEVENT
BEGIN:VEVENT
DTSTART;TZID=America/New_York:20300829T100000
DTEND;TZID=America/New_York:20300829T110000
DTSTAMP:20260425T230026
CREATED:20251201T004011Z
LAST-MODIFIED:20260307T021133Z
UID:10024056-1914228000-1914231600@bluewaterparent.com
SUMMARY:Great Start Playgroup - Avoca
DESCRIPTION:
URL:https://bluewaterparent.com/event/great-start-playgroup-emmett/2030-08-29/
LOCATION:Avoca Elementary\, 8751 Willow St.\, Avoca\, MI\, 48006\, United States
CATEGORIES:Playgroups
END:VEVENT
BEGIN:VEVENT
DTSTART;TZID=America/New_York:20300829T100000
DTEND;TZID=America/New_York:20300829T110000
DTSTAMP:20260425T230026
CREATED:20260307T014510Z
LAST-MODIFIED:20260307T014908Z
UID:10023795-1914228000-1914231600@bluewaterparent.com
SUMMARY:Great Start Playgroup - Marysville
DESCRIPTION:
URL:https://bluewaterparent.com/event/great-start-playgroup-marysville-3/2030-08-29/
LOCATION:St. Clair County RESA East Campus\, 1111 Delaware Avenue\, Marysville\, MI
CATEGORIES:Playgroups
END:VEVENT
BEGIN:VEVENT
DTSTART;TZID=America/New_York:20300829T110000
DTEND;TZID=America/New_York:20300829T113000
DTSTAMP:20260425T230026
CREATED:20260101T200511Z
LAST-MODIFIED:20260101T213808Z
UID:10021341-1914231600-1914233400@bluewaterparent.com
SUMMARY:Storytime - Algonac
DESCRIPTION:  \n 
URL:https://bluewaterparent.com/event/storytime-algonac-2/2030-08-29/
LOCATION:Algonac-Clay Library\, 2011 St Clair River Dr\, Algonac\, MI\, 48001\, United States
CATEGORIES:Playgroups
END:VEVENT
BEGIN:VEVENT
DTSTART;TZID=America/New_York:20300829T143000
DTEND;TZID=America/New_York:20300829T160000
DTSTAMP:20260425T230026
CREATED:20260101T200828Z
LAST-MODIFIED:20260101T200854Z
UID:10019835-1914244200-1914249600@bluewaterparent.com
SUMMARY:Teen Time - Yale
DESCRIPTION:
URL:https://bluewaterparent.com/event/teen-time-yale-3/2030-08-29/
LOCATION:Yale Library\, 2 Jones St\, Yale\, MI\, 48097\, United States
CATEGORIES:Teens
END:VEVENT
BEGIN:VEVENT
DTSTART;TZID=America/New_York:20300829T153000
DTEND;TZID=America/New_York:20300829T180000
DTSTAMP:20260425T230026
CREATED:20260101T201514Z
LAST-MODIFIED:20260103T021445Z
UID:10021597-1914247800-1914256800@bluewaterparent.com
SUMMARY:To D&D\, And Beyond!
DESCRIPTION:  \n 
URL:https://bluewaterparent.com/event/to-dd-and-beyond-3/2030-08-29/
LOCATION:Marysville Library\, 1175 Delaware\, Marysville\, MI
CATEGORIES:Teens
END:VEVENT
BEGIN:VEVENT
DTSTART;TZID=America/New_York:20300830T080000
DTEND;TZID=America/New_York:20300830T170000
DTSTAMP:20260425T230026
CREATED:20260419T012510Z
LAST-MODIFIED:20260419T012510Z
UID:10026843-1914307200-1914339600@bluewaterparent.com
SUMMARY:Discovery Lab for Littles
DESCRIPTION:This event is included with admission.
URL:https://bluewaterparent.com/event/discovery-lab-for-littles/2030-08-30/
LOCATION:Discovery City Children’s Museum\, 317 Grand River Avenue\, Port huron\, MI\, 48060
END:VEVENT
BEGIN:VEVENT
DTSTART;TZID=America/New_York:20300830T100000
DTEND;TZID=America/New_York:20300830T104500
DTSTAMP:20260425T230027
CREATED:20260101T202520Z
LAST-MODIFIED:20260131T171318Z
UID:10023482-1914314400-1914317100@bluewaterparent.com
SUMMARY:Family Storytime - Memphis
DESCRIPTION:
URL:https://bluewaterparent.com/event/family-storytime-capac-2-2/2030-08-30/
LOCATION:Memphis Library\, 34830 Potter St\, Memphis\, MI\, 48041\, United States
CATEGORIES:Playgroups
END:VEVENT
BEGIN:VEVENT
DTSTART;TZID=America/New_York:20300830T100000
DTEND;TZID=America/New_York:20300830T110000
DTSTAMP:20260425T230027
CREATED:20260419T003829Z
LAST-MODIFIED:20260419T003829Z
UID:10026351-1914314400-1914318000@bluewaterparent.com
SUMMARY:Storytime - Port Huron
DESCRIPTION:
URL:https://bluewaterparent.com/event/storytime-port-huron-2/2030-08-30/
LOCATION:Main Library\, 210 McMorran Blvd\, Port Huron\, MI\, 48060\, United States
CATEGORIES:Playgroups
END:VEVENT
BEGIN:VEVENT
DTSTART;TZID=America/New_York:20300830T110000
DTEND;TZID=America/New_York:20300830T120000
DTSTAMP:20260425T230027
CREATED:20260101T164906Z
LAST-MODIFIED:20260101T171615Z
UID:10017164-1914318000-1914321600@bluewaterparent.com
SUMMARY:Playgroup Pals
DESCRIPTION:
URL:https://bluewaterparent.com/event/playgroup-pals-2/2030-08-30/
LOCATION:Ira Township Library\, 7013 Meldrum Rd\, Ira Township\, Michigan\, 48023\, United States
CATEGORIES:Playgroups
END:VEVENT
BEGIN:VEVENT
DTSTART;TZID=America/New_York:20300830T150000
DTEND;TZID=America/New_York:20300830T163000
DTSTAMP:20260425T230027
CREATED:20260101T204005Z
LAST-MODIFIED:20260103T023339Z
UID:10021726-1914332400-1914337800@bluewaterparent.com
SUMMARY:Friday Game Zone
DESCRIPTION:
URL:https://bluewaterparent.com/event/friday-game-zone/2030-08-30/
LOCATION:Ira Township Library\, 7013 Meldrum Rd\, Ira Township\, Michigan\, 48023\, United States
CATEGORIES:Free
END:VEVENT
BEGIN:VEVENT
DTSTART;TZID=America/New_York:20300901T130000
DTEND;TZID=America/New_York:20300901T170000
DTSTAMP:20260425T230027
CREATED:20250807T170824Z
LAST-MODIFIED:20250807T170824Z
UID:10016906-1914498000-1914512400@bluewaterparent.com
SUMMARY:Port Huron Township Heritage Museum
DESCRIPTION:
URL:https://bluewaterparent.com/event/port-huron-township-heritage-museum/2030-09-01/
LOCATION:Port Huron Township Heritage Museum\, 3800 Lapeer Rd.\, Port Huron Township\, MI
END:VEVENT
BEGIN:VEVENT
DTSTART;TZID=America/New_York:20300902T100000
DTEND;TZID=America/New_York:20300902T110000
DTSTAMP:20260425T230027
CREATED:20260101T192653Z
LAST-MODIFIED:20260307T025320Z
UID:10024578-1914573600-1914577200@bluewaterparent.com
SUMMARY:Storytime - St. Clair
DESCRIPTION:From SCCLS – Join us for a fun and educational blend of stories\, crafts\, movement activities\, and songs.
URL:https://bluewaterparent.com/event/storytime-st-clair/2030-09-02/
LOCATION:St. Clair Library\, 310 S. 2nd Street\, St. Clair\, MI
CATEGORIES:Free,Playgroups
END:VEVENT
BEGIN:VEVENT
DTSTART;TZID=America/New_York:20300902T100000
DTEND;TZID=America/New_York:20300902T110000
DTSTAMP:20260425T230027
CREATED:20260125T194928Z
LAST-MODIFIED:20260125T194929Z
UID:10017687-1914573600-1914577200@bluewaterparent.com
SUMMARY:Storytime - Marysville
DESCRIPTION:From SCCLS – Preschoolers and their adults: Join us at the library for a happy blend of stories\, rhymes\, music and movement\, followed by a creative activity time.
URL:https://bluewaterparent.com/event/storytime-marysville-3/2030-09-02/
LOCATION:Marysville Library\, 1175 Delaware\, Marysville\, MI
CATEGORIES:Free,Playgroups
END:VEVENT
END:VCALENDAR