BEGIN:VCALENDAR
VERSION:2.0
PRODID:-//BlueWaterParent.com - ECPv6.15.20//NONSGML v1.0//EN
CALSCALE:GREGORIAN
METHOD:PUBLISH
X-WR-CALNAME:BlueWaterParent.com
X-ORIGINAL-URL:https://bluewaterparent.com
X-WR-CALDESC:Events for BlueWaterParent.com
REFRESH-INTERVAL;VALUE=DURATION:PT1H
X-Robots-Tag:noindex
X-PUBLISHED-TTL:PT1H
BEGIN:VTIMEZONE
TZID:America/New_York
BEGIN:DAYLIGHT
TZOFFSETFROM:-0500
TZOFFSETTO:-0400
TZNAME:EDT
DTSTART:20270314T070000
END:DAYLIGHT
BEGIN:STANDARD
TZOFFSETFROM:-0400
TZOFFSETTO:-0500
TZNAME:EST
DTSTART:20271107T060000
END:STANDARD
BEGIN:DAYLIGHT
TZOFFSETFROM:-0500
TZOFFSETTO:-0400
TZNAME:EDT
DTSTART:20280312T070000
END:DAYLIGHT
BEGIN:STANDARD
TZOFFSETFROM:-0400
TZOFFSETTO:-0500
TZNAME:EST
DTSTART:20281105T060000
END:STANDARD
BEGIN:DAYLIGHT
TZOFFSETFROM:-0500
TZOFFSETTO:-0400
TZNAME:EDT
DTSTART:20290311T070000
END:DAYLIGHT
BEGIN:STANDARD
TZOFFSETFROM:-0400
TZOFFSETTO:-0500
TZNAME:EST
DTSTART:20291104T060000
END:STANDARD
END:VTIMEZONE
BEGIN:VEVENT
DTSTART;TZID=America/New_York:20280817T110000
DTEND;TZID=America/New_York:20280817T113000
DTSTAMP:20260423T002701
CREATED:20260101T200511Z
LAST-MODIFIED:20260101T213808Z
UID:10021235-1850122800-1850124600@bluewaterparent.com
SUMMARY:Storytime - Algonac
DESCRIPTION:  \n 
URL:https://bluewaterparent.com/event/storytime-algonac-2/2028-08-17/
LOCATION:Algonac-Clay Library\, 2011 St Clair River Dr\, Algonac\, MI\, 48001\, United States
CATEGORIES:Playgroups
END:VEVENT
BEGIN:VEVENT
DTSTART;TZID=America/New_York:20280817T143000
DTEND;TZID=America/New_York:20280817T160000
DTSTAMP:20260423T002701
CREATED:20260101T200828Z
LAST-MODIFIED:20260101T200854Z
UID:10019729-1850135400-1850140800@bluewaterparent.com
SUMMARY:Teen Time - Yale
DESCRIPTION:
URL:https://bluewaterparent.com/event/teen-time-yale-3/2028-08-17/
LOCATION:Yale Library\, 2 Jones St\, Yale\, MI\, 48097\, United States
CATEGORIES:Teens
END:VEVENT
BEGIN:VEVENT
DTSTART;TZID=America/New_York:20280817T153000
DTEND;TZID=America/New_York:20280817T180000
DTSTAMP:20260423T002701
CREATED:20260101T201514Z
LAST-MODIFIED:20260103T021445Z
UID:10021556-1850139000-1850148000@bluewaterparent.com
SUMMARY:To D&D\, And Beyond!
DESCRIPTION:  \n 
URL:https://bluewaterparent.com/event/to-dd-and-beyond-3/2028-08-17/
LOCATION:Marysville Library\, 1175 Delaware\, Marysville\, MI
CATEGORIES:Teens
END:VEVENT
BEGIN:VEVENT
DTSTART;TZID=America/New_York:20280818T080000
DTEND;TZID=America/New_York:20280818T170000
DTSTAMP:20260423T002701
CREATED:20260419T012510Z
LAST-MODIFIED:20260419T012510Z
UID:10026631-1850198400-1850230800@bluewaterparent.com
SUMMARY:Discovery Lab for Littles
DESCRIPTION:This event is included with admission.
URL:https://bluewaterparent.com/event/discovery-lab-for-littles/2028-08-18/
LOCATION:Discovery City Children’s Museum\, 317 Grand River Avenue\, Port huron\, MI\, 48060
END:VEVENT
BEGIN:VEVENT
DTSTART;TZID=America/New_York:20280818T100000
DTEND;TZID=America/New_York:20280818T104500
DTSTAMP:20260423T002701
CREATED:20260101T202520Z
LAST-MODIFIED:20260131T171318Z
UID:10023376-1850205600-1850208300@bluewaterparent.com
SUMMARY:Family Storytime - Memphis
DESCRIPTION:
URL:https://bluewaterparent.com/event/family-storytime-capac-2-2/2028-08-18/
LOCATION:Memphis Library\, 34830 Potter St\, Memphis\, MI\, 48041\, United States
CATEGORIES:Playgroups
END:VEVENT
BEGIN:VEVENT
DTSTART;TZID=America/New_York:20280818T100000
DTEND;TZID=America/New_York:20280818T110000
DTSTAMP:20260423T002701
CREATED:20260419T003829Z
LAST-MODIFIED:20260419T003829Z
UID:10026245-1850205600-1850209200@bluewaterparent.com
SUMMARY:Storytime - Port Huron
DESCRIPTION:
URL:https://bluewaterparent.com/event/storytime-port-huron-2/2028-08-18/
LOCATION:Main Library\, 210 McMorran Blvd\, Port Huron\, MI\, 48060\, United States
CATEGORIES:Playgroups
END:VEVENT
BEGIN:VEVENT
DTSTART;TZID=America/New_York:20280818T110000
DTEND;TZID=America/New_York:20280818T120000
DTSTAMP:20260423T002701
CREATED:20260101T164906Z
LAST-MODIFIED:20260101T171615Z
UID:10017058-1850209200-1850212800@bluewaterparent.com
SUMMARY:Playgroup Pals
DESCRIPTION:
URL:https://bluewaterparent.com/event/playgroup-pals-2/2028-08-18/
LOCATION:Ira Township Library\, 7013 Meldrum Rd\, Ira Township\, Michigan\, 48023\, United States
CATEGORIES:Playgroups
END:VEVENT
BEGIN:VEVENT
DTSTART;TZID=America/New_York:20280818T150000
DTEND;TZID=America/New_York:20280818T163000
DTSTAMP:20260423T002701
CREATED:20260101T204005Z
LAST-MODIFIED:20260103T023339Z
UID:10021673-1850223600-1850229000@bluewaterparent.com
SUMMARY:Friday Game Zone
DESCRIPTION:
URL:https://bluewaterparent.com/event/friday-game-zone/2028-08-18/
LOCATION:Ira Township Library\, 7013 Meldrum Rd\, Ira Township\, Michigan\, 48023\, United States
CATEGORIES:Free
END:VEVENT
BEGIN:VEVENT
DTSTART;TZID=America/New_York:20280821T100000
DTEND;TZID=America/New_York:20280821T110000
DTSTAMP:20260423T002701
CREATED:20260101T192653Z
LAST-MODIFIED:20260307T025320Z
UID:10024472-1850464800-1850468400@bluewaterparent.com
SUMMARY:Storytime - St. Clair
DESCRIPTION:From SCCLS – Join us for a fun and educational blend of stories\, crafts\, movement activities\, and songs.
URL:https://bluewaterparent.com/event/storytime-st-clair/2028-08-21/
LOCATION:St. Clair Library\, 310 S. 2nd Street\, St. Clair\, MI
CATEGORIES:Free,Playgroups
END:VEVENT
BEGIN:VEVENT
DTSTART;TZID=America/New_York:20280821T100000
DTEND;TZID=America/New_York:20280821T110000
DTSTAMP:20260423T002701
CREATED:20260125T194928Z
LAST-MODIFIED:20260125T194929Z
UID:10017581-1850464800-1850468400@bluewaterparent.com
SUMMARY:Storytime - Marysville
DESCRIPTION:From SCCLS – Preschoolers and their adults: Join us at the library for a happy blend of stories\, rhymes\, music and movement\, followed by a creative activity time.
URL:https://bluewaterparent.com/event/storytime-marysville-3/2028-08-21/
LOCATION:Marysville Library\, 1175 Delaware\, Marysville\, MI
CATEGORIES:Free,Playgroups
END:VEVENT
BEGIN:VEVENT
DTSTART;TZID=America/New_York:20280821T100000
DTEND;TZID=America/New_York:20280821T110000
DTSTAMP:20260423T002701
CREATED:20260307T142323Z
LAST-MODIFIED:20260307T142325Z
UID:10017320-1850464800-1850468400@bluewaterparent.com
SUMMARY:Storytime - Yale
DESCRIPTION:
URL:https://bluewaterparent.com/event/storytime-yale-2-2-2/2028-08-21/
LOCATION:Yale Library\, 2 Jones St\, Yale\, MI\, 48097\, United States
CATEGORIES:Free,Playgroups
END:VEVENT
BEGIN:VEVENT
DTSTART;TZID=America/New_York:20280821T103000
DTEND;TZID=America/New_York:20280821T110000
DTSTAMP:20260423T002701
CREATED:20260401T010404Z
LAST-MODIFIED:20260401T010407Z
UID:10025085-1850466600-1850468400@bluewaterparent.com
SUMMARY:Storytime - Burtchville
DESCRIPTION:
URL:https://bluewaterparent.com/event/storytime-burtchville-3-2/2028-08-21/
LOCATION:Burtchville Library\, 7093 2nd St\, Lakeport\, MI\, 48059\, United States
CATEGORIES:Free,Playgroups
END:VEVENT
BEGIN:VEVENT
DTSTART;TZID=America/New_York:20280821T103000
DTEND;TZID=America/New_York:20280821T113000
DTSTAMP:20260423T002701
CREATED:20260321T165751Z
LAST-MODIFIED:20260321T165752Z
UID:10017842-1850466600-1850470200@bluewaterparent.com
SUMMARY:Storytime - Marine City
DESCRIPTION:From SCCLS – Preschoolers and their adults join us at the library for a happy blend of stories and activities.
URL:https://bluewaterparent.com/event/storytime-marine-city-2-2/2028-08-21/
LOCATION:Marine City Library\, 300 S Parker St\, Marine City\, MI\, 48039\, United States
CATEGORIES:Free,Playgroups
END:VEVENT
BEGIN:VEVENT
DTSTART;TZID=America/New_York:20280822T100000
DTEND;TZID=America/New_York:20280822T103000
DTSTAMP:20260423T002701
CREATED:20260418T235804Z
LAST-MODIFIED:20260419T000903Z
UID:10025463-1850551200-1850553000@bluewaterparent.com
SUMMARY:Rhythm and Rhyme - Port Huron
DESCRIPTION:For children ages 0-3 and their caregivers.
URL:https://bluewaterparent.com/event/rhythm-and-rhyme-port-huron/2028-08-22/
LOCATION:Main Library\, 210 McMorran Blvd\, Port Huron\, MI\, 48060\, United States
CATEGORIES:Playgroups
END:VEVENT
BEGIN:VEVENT
DTSTART;TZID=America/New_York:20280822T180000
DTEND;TZID=America/New_York:20280822T183000
DTSTAMP:20260423T002701
CREATED:20260419T002148Z
LAST-MODIFIED:20260419T003520Z
UID:10025724-1850580000-1850581800@bluewaterparent.com
SUMMARY:Bedtime Storytime - Port Huron
DESCRIPTION:
URL:https://bluewaterparent.com/event/bedtime-storytime/2028-08-22/
LOCATION:Main Library\, 210 McMorran Blvd\, Port Huron\, MI\, 48060\, United States
CATEGORIES:Playgroups
END:VEVENT
BEGIN:VEVENT
DTSTART;TZID=America/New_York:20280823T080000
DTEND;TZID=America/New_York:20280823T170000
DTSTAMP:20260423T002701
CREATED:20260419T012510Z
LAST-MODIFIED:20260419T012510Z
UID:10026632-1850630400-1850662800@bluewaterparent.com
SUMMARY:Discovery Lab for Littles
DESCRIPTION:This event is included with admission.
URL:https://bluewaterparent.com/event/discovery-lab-for-littles/2028-08-23/
LOCATION:Discovery City Children’s Museum\, 317 Grand River Avenue\, Port huron\, MI\, 48060
END:VEVENT
BEGIN:VEVENT
DTSTART;TZID=America/New_York:20280823T100000
DTEND;TZID=America/New_York:20280823T110000
DTSTAMP:20260423T002701
CREATED:20260419T003159Z
LAST-MODIFIED:20260419T003555Z
UID:10025985-1850637600-1850641200@bluewaterparent.com
SUMMARY:Storytime - Port Huron
DESCRIPTION:
URL:https://bluewaterparent.com/event/storytime-port-huron/2028-08-23/
LOCATION:Main Library\, 210 McMorran Blvd\, Port Huron\, MI\, 48060\, United States
CATEGORIES:Playgroups
END:VEVENT
BEGIN:VEVENT
DTSTART;TZID=America/New_York:20280824T100000
DTEND;TZID=America/New_York:20280824T110000
DTSTAMP:20260423T002701
CREATED:20251201T004011Z
LAST-MODIFIED:20260307T021133Z
UID:10023951-1850724000-1850727600@bluewaterparent.com
SUMMARY:Great Start Playgroup - Avoca
DESCRIPTION:
URL:https://bluewaterparent.com/event/great-start-playgroup-emmett/2028-08-24/
LOCATION:Avoca Elementary\, 8751 Willow St.\, Avoca\, MI\, 48006\, United States
CATEGORIES:Playgroups
END:VEVENT
BEGIN:VEVENT
DTSTART;TZID=America/New_York:20280824T100000
DTEND;TZID=America/New_York:20280824T110000
DTSTAMP:20260423T002701
CREATED:20260307T014510Z
LAST-MODIFIED:20260307T014908Z
UID:10023690-1850724000-1850727600@bluewaterparent.com
SUMMARY:Great Start Playgroup - Marysville
DESCRIPTION:
URL:https://bluewaterparent.com/event/great-start-playgroup-marysville-3/2028-08-24/
LOCATION:St. Clair County RESA East Campus\, 1111 Delaware Avenue\, Marysville\, MI
CATEGORIES:Playgroups
END:VEVENT
BEGIN:VEVENT
DTSTART;TZID=America/New_York:20280824T110000
DTEND;TZID=America/New_York:20280824T113000
DTSTAMP:20260423T002701
CREATED:20260101T200511Z
LAST-MODIFIED:20260101T213808Z
UID:10021236-1850727600-1850729400@bluewaterparent.com
SUMMARY:Storytime - Algonac
DESCRIPTION:  \n 
URL:https://bluewaterparent.com/event/storytime-algonac-2/2028-08-24/
LOCATION:Algonac-Clay Library\, 2011 St Clair River Dr\, Algonac\, MI\, 48001\, United States
CATEGORIES:Playgroups
END:VEVENT
BEGIN:VEVENT
DTSTART;TZID=America/New_York:20280824T143000
DTEND;TZID=America/New_York:20280824T160000
DTSTAMP:20260423T002701
CREATED:20260101T200828Z
LAST-MODIFIED:20260101T200854Z
UID:10019730-1850740200-1850745600@bluewaterparent.com
SUMMARY:Teen Time - Yale
DESCRIPTION:
URL:https://bluewaterparent.com/event/teen-time-yale-3/2028-08-24/
LOCATION:Yale Library\, 2 Jones St\, Yale\, MI\, 48097\, United States
CATEGORIES:Teens
END:VEVENT
BEGIN:VEVENT
DTSTART;TZID=America/New_York:20280824T171500
DTEND;TZID=America/New_York:20280824T174500
DTSTAMP:20260423T002701
CREATED:20260328T183605Z
LAST-MODIFIED:20260328T183607Z
UID:10022941-1850750100-1850751900@bluewaterparent.com
SUMMARY:Little House on the Prairie Book Club for Kids
DESCRIPTION:  \n 
URL:https://bluewaterparent.com/event/little-house-on-the-prairie-book-club-for-kids-2-3/2028-08-24/
LOCATION:Capac Library\, 111 N Main St\, Capac\, MI\, 48014\, United States
CATEGORIES:Free
END:VEVENT
BEGIN:VEVENT
DTSTART;TZID=America/New_York:20280825T080000
DTEND;TZID=America/New_York:20280825T170000
DTSTAMP:20260423T002701
CREATED:20260419T012510Z
LAST-MODIFIED:20260419T012510Z
UID:10026633-1850803200-1850835600@bluewaterparent.com
SUMMARY:Discovery Lab for Littles
DESCRIPTION:This event is included with admission.
URL:https://bluewaterparent.com/event/discovery-lab-for-littles/2028-08-25/
LOCATION:Discovery City Children’s Museum\, 317 Grand River Avenue\, Port huron\, MI\, 48060
END:VEVENT
BEGIN:VEVENT
DTSTART;TZID=America/New_York:20280825T100000
DTEND;TZID=America/New_York:20280825T104500
DTSTAMP:20260423T002701
CREATED:20260101T202520Z
LAST-MODIFIED:20260131T171318Z
UID:10023377-1850810400-1850813100@bluewaterparent.com
SUMMARY:Family Storytime - Memphis
DESCRIPTION:
URL:https://bluewaterparent.com/event/family-storytime-capac-2-2/2028-08-25/
LOCATION:Memphis Library\, 34830 Potter St\, Memphis\, MI\, 48041\, United States
CATEGORIES:Playgroups
END:VEVENT
BEGIN:VEVENT
DTSTART;TZID=America/New_York:20280825T100000
DTEND;TZID=America/New_York:20280825T110000
DTSTAMP:20260423T002701
CREATED:20260419T003829Z
LAST-MODIFIED:20260419T003829Z
UID:10026246-1850810400-1850814000@bluewaterparent.com
SUMMARY:Storytime - Port Huron
DESCRIPTION:
URL:https://bluewaterparent.com/event/storytime-port-huron-2/2028-08-25/
LOCATION:Main Library\, 210 McMorran Blvd\, Port Huron\, MI\, 48060\, United States
CATEGORIES:Playgroups
END:VEVENT
BEGIN:VEVENT
DTSTART;TZID=America/New_York:20280825T110000
DTEND;TZID=America/New_York:20280825T120000
DTSTAMP:20260423T002701
CREATED:20260101T164906Z
LAST-MODIFIED:20260101T171615Z
UID:10017059-1850814000-1850817600@bluewaterparent.com
SUMMARY:Playgroup Pals
DESCRIPTION:
URL:https://bluewaterparent.com/event/playgroup-pals-2/2028-08-25/
LOCATION:Ira Township Library\, 7013 Meldrum Rd\, Ira Township\, Michigan\, 48023\, United States
CATEGORIES:Playgroups
END:VEVENT
BEGIN:VEVENT
DTSTART;TZID=America/New_York:20280828T100000
DTEND;TZID=America/New_York:20280828T110000
DTSTAMP:20260423T002701
CREATED:20260101T192653Z
LAST-MODIFIED:20260307T025320Z
UID:10024473-1851069600-1851073200@bluewaterparent.com
SUMMARY:Storytime - St. Clair
DESCRIPTION:From SCCLS – Join us for a fun and educational blend of stories\, crafts\, movement activities\, and songs.
URL:https://bluewaterparent.com/event/storytime-st-clair/2028-08-28/
LOCATION:St. Clair Library\, 310 S. 2nd Street\, St. Clair\, MI
CATEGORIES:Free,Playgroups
END:VEVENT
BEGIN:VEVENT
DTSTART;TZID=America/New_York:20280828T100000
DTEND;TZID=America/New_York:20280828T110000
DTSTAMP:20260423T002701
CREATED:20260125T194928Z
LAST-MODIFIED:20260125T194929Z
UID:10017582-1851069600-1851073200@bluewaterparent.com
SUMMARY:Storytime - Marysville
DESCRIPTION:From SCCLS – Preschoolers and their adults: Join us at the library for a happy blend of stories\, rhymes\, music and movement\, followed by a creative activity time.
URL:https://bluewaterparent.com/event/storytime-marysville-3/2028-08-28/
LOCATION:Marysville Library\, 1175 Delaware\, Marysville\, MI
CATEGORIES:Free,Playgroups
END:VEVENT
BEGIN:VEVENT
DTSTART;TZID=America/New_York:20280828T100000
DTEND;TZID=America/New_York:20280828T110000
DTSTAMP:20260423T002701
CREATED:20260307T142323Z
LAST-MODIFIED:20260307T142325Z
UID:10017321-1851069600-1851073200@bluewaterparent.com
SUMMARY:Storytime - Yale
DESCRIPTION:
URL:https://bluewaterparent.com/event/storytime-yale-2-2-2/2028-08-28/
LOCATION:Yale Library\, 2 Jones St\, Yale\, MI\, 48097\, United States
CATEGORIES:Free,Playgroups
END:VEVENT
BEGIN:VEVENT
DTSTART;TZID=America/New_York:20280828T103000
DTEND;TZID=America/New_York:20280828T110000
DTSTAMP:20260423T002701
CREATED:20260401T010404Z
LAST-MODIFIED:20260401T010407Z
UID:10025086-1851071400-1851073200@bluewaterparent.com
SUMMARY:Storytime - Burtchville
DESCRIPTION:
URL:https://bluewaterparent.com/event/storytime-burtchville-3-2/2028-08-28/
LOCATION:Burtchville Library\, 7093 2nd St\, Lakeport\, MI\, 48059\, United States
CATEGORIES:Free,Playgroups
END:VEVENT
END:VCALENDAR