BEGIN:VCALENDAR
VERSION:2.0
PRODID:-//BlueWaterParent.com - ECPv6.15.20//NONSGML v1.0//EN
CALSCALE:GREGORIAN
METHOD:PUBLISH
X-WR-CALNAME:BlueWaterParent.com
X-ORIGINAL-URL:https://bluewaterparent.com
X-WR-CALDESC:Events for BlueWaterParent.com
REFRESH-INTERVAL;VALUE=DURATION:PT1H
X-Robots-Tag:noindex
X-PUBLISHED-TTL:PT1H
BEGIN:VTIMEZONE
TZID:America/New_York
BEGIN:DAYLIGHT
TZOFFSETFROM:-0500
TZOFFSETTO:-0400
TZNAME:EDT
DTSTART:20290311T070000
END:DAYLIGHT
BEGIN:STANDARD
TZOFFSETFROM:-0400
TZOFFSETTO:-0500
TZNAME:EST
DTSTART:20291104T060000
END:STANDARD
BEGIN:DAYLIGHT
TZOFFSETFROM:-0500
TZOFFSETTO:-0400
TZNAME:EDT
DTSTART:20300310T070000
END:DAYLIGHT
BEGIN:STANDARD
TZOFFSETFROM:-0400
TZOFFSETTO:-0500
TZNAME:EST
DTSTART:20301103T060000
END:STANDARD
BEGIN:DAYLIGHT
TZOFFSETFROM:-0500
TZOFFSETTO:-0400
TZNAME:EDT
DTSTART:20310309T070000
END:DAYLIGHT
BEGIN:STANDARD
TZOFFSETFROM:-0400
TZOFFSETTO:-0500
TZNAME:EST
DTSTART:20311102T060000
END:STANDARD
END:VTIMEZONE
BEGIN:VEVENT
DTSTART;TZID=America/New_York:20300218T103000
DTEND;TZID=America/New_York:20300218T113000
DTSTAMP:20260425T063829
CREATED:20260321T165751Z
LAST-MODIFIED:20260321T165752Z
UID:10017920-1897641000-1897644600@bluewaterparent.com
SUMMARY:Storytime - Marine City
DESCRIPTION:From SCCLS – Preschoolers and their adults join us at the library for a happy blend of stories and activities.
URL:https://bluewaterparent.com/event/storytime-marine-city-2-2/2030-02-18/
LOCATION:Marine City Library\, 300 S Parker St\, Marine City\, MI\, 48039\, United States
CATEGORIES:Free,Playgroups
END:VEVENT
BEGIN:VEVENT
DTSTART;TZID=America/New_York:20300219T100000
DTEND;TZID=America/New_York:20300219T103000
DTSTAMP:20260425T063829
CREATED:20260418T235804Z
LAST-MODIFIED:20260419T000903Z
UID:10025541-1897725600-1897727400@bluewaterparent.com
SUMMARY:Rhythm and Rhyme - Port Huron
DESCRIPTION:For children ages 0-3 and their caregivers.
URL:https://bluewaterparent.com/event/rhythm-and-rhyme-port-huron/2030-02-19/
LOCATION:Main Library\, 210 McMorran Blvd\, Port Huron\, MI\, 48060\, United States
CATEGORIES:Playgroups
END:VEVENT
BEGIN:VEVENT
DTSTART;TZID=America/New_York:20300219T180000
DTEND;TZID=America/New_York:20300219T183000
DTSTAMP:20260425T063829
CREATED:20260419T002148Z
LAST-MODIFIED:20260419T003520Z
UID:10025802-1897754400-1897756200@bluewaterparent.com
SUMMARY:Bedtime Storytime - Port Huron
DESCRIPTION:
URL:https://bluewaterparent.com/event/bedtime-storytime/2030-02-19/
LOCATION:Main Library\, 210 McMorran Blvd\, Port Huron\, MI\, 48060\, United States
CATEGORIES:Playgroups
END:VEVENT
BEGIN:VEVENT
DTSTART;TZID=America/New_York:20300220T080000
DTEND;TZID=America/New_York:20300220T170000
DTSTAMP:20260425T063829
CREATED:20260419T012510Z
LAST-MODIFIED:20260419T012510Z
UID:10026788-1897804800-1897837200@bluewaterparent.com
SUMMARY:Discovery Lab for Littles
DESCRIPTION:This event is included with admission.
URL:https://bluewaterparent.com/event/discovery-lab-for-littles/2030-02-20/
LOCATION:Discovery City Children’s Museum\, 317 Grand River Avenue\, Port huron\, MI\, 48060
END:VEVENT
BEGIN:VEVENT
DTSTART;TZID=America/New_York:20300220T100000
DTEND;TZID=America/New_York:20300220T110000
DTSTAMP:20260425T063829
CREATED:20260419T003159Z
LAST-MODIFIED:20260419T003555Z
UID:10026063-1897812000-1897815600@bluewaterparent.com
SUMMARY:Storytime - Port Huron
DESCRIPTION:
URL:https://bluewaterparent.com/event/storytime-port-huron/2030-02-20/
LOCATION:Main Library\, 210 McMorran Blvd\, Port Huron\, MI\, 48060\, United States
CATEGORIES:Playgroups
END:VEVENT
BEGIN:VEVENT
DTSTART;TZID=America/New_York:20300221T100000
DTEND;TZID=America/New_York:20300221T110000
DTSTAMP:20260425T063829
CREATED:20251201T004011Z
LAST-MODIFIED:20260307T021133Z
UID:10024029-1897898400-1897902000@bluewaterparent.com
SUMMARY:Great Start Playgroup - Avoca
DESCRIPTION:
URL:https://bluewaterparent.com/event/great-start-playgroup-emmett/2030-02-21/
LOCATION:Avoca Elementary\, 8751 Willow St.\, Avoca\, MI\, 48006\, United States
CATEGORIES:Playgroups
END:VEVENT
BEGIN:VEVENT
DTSTART;TZID=America/New_York:20300221T100000
DTEND;TZID=America/New_York:20300221T110000
DTSTAMP:20260425T063829
CREATED:20260307T014510Z
LAST-MODIFIED:20260307T014908Z
UID:10023768-1897898400-1897902000@bluewaterparent.com
SUMMARY:Great Start Playgroup - Marysville
DESCRIPTION:
URL:https://bluewaterparent.com/event/great-start-playgroup-marysville-3/2030-02-21/
LOCATION:St. Clair County RESA East Campus\, 1111 Delaware Avenue\, Marysville\, MI
CATEGORIES:Playgroups
END:VEVENT
BEGIN:VEVENT
DTSTART;TZID=America/New_York:20300221T110000
DTEND;TZID=America/New_York:20300221T113000
DTSTAMP:20260425T063829
CREATED:20260101T200511Z
LAST-MODIFIED:20260101T213808Z
UID:10021314-1897902000-1897903800@bluewaterparent.com
SUMMARY:Storytime - Algonac
DESCRIPTION:  \n 
URL:https://bluewaterparent.com/event/storytime-algonac-2/2030-02-21/
LOCATION:Algonac-Clay Library\, 2011 St Clair River Dr\, Algonac\, MI\, 48001\, United States
CATEGORIES:Playgroups
END:VEVENT
BEGIN:VEVENT
DTSTART;TZID=America/New_York:20300221T143000
DTEND;TZID=America/New_York:20300221T160000
DTSTAMP:20260425T063829
CREATED:20260101T200828Z
LAST-MODIFIED:20260101T200854Z
UID:10019808-1897914600-1897920000@bluewaterparent.com
SUMMARY:Teen Time - Yale
DESCRIPTION:
URL:https://bluewaterparent.com/event/teen-time-yale-3/2030-02-21/
LOCATION:Yale Library\, 2 Jones St\, Yale\, MI\, 48097\, United States
CATEGORIES:Teens
END:VEVENT
BEGIN:VEVENT
DTSTART;TZID=America/New_York:20300221T171500
DTEND;TZID=America/New_York:20300221T174500
DTSTAMP:20260425T063829
CREATED:20260328T183605Z
LAST-MODIFIED:20260328T183607Z
UID:10022954-1897924500-1897926300@bluewaterparent.com
SUMMARY:Little House on the Prairie Book Club for Kids
DESCRIPTION:  \n 
URL:https://bluewaterparent.com/event/little-house-on-the-prairie-book-club-for-kids-2-3/2030-02-21/
LOCATION:Capac Library\, 111 N Main St\, Capac\, MI\, 48014\, United States
CATEGORIES:Free
END:VEVENT
BEGIN:VEVENT
DTSTART;TZID=America/New_York:20300222T080000
DTEND;TZID=America/New_York:20300222T170000
DTSTAMP:20260425T063829
CREATED:20260419T012510Z
LAST-MODIFIED:20260419T012510Z
UID:10026789-1897977600-1898010000@bluewaterparent.com
SUMMARY:Discovery Lab for Littles
DESCRIPTION:This event is included with admission.
URL:https://bluewaterparent.com/event/discovery-lab-for-littles/2030-02-22/
LOCATION:Discovery City Children’s Museum\, 317 Grand River Avenue\, Port huron\, MI\, 48060
END:VEVENT
BEGIN:VEVENT
DTSTART;TZID=America/New_York:20300222T100000
DTEND;TZID=America/New_York:20300222T104500
DTSTAMP:20260425T063829
CREATED:20260101T202520Z
LAST-MODIFIED:20260131T171318Z
UID:10023455-1897984800-1897987500@bluewaterparent.com
SUMMARY:Family Storytime - Memphis
DESCRIPTION:
URL:https://bluewaterparent.com/event/family-storytime-capac-2-2/2030-02-22/
LOCATION:Memphis Library\, 34830 Potter St\, Memphis\, MI\, 48041\, United States
CATEGORIES:Playgroups
END:VEVENT
BEGIN:VEVENT
DTSTART;TZID=America/New_York:20300222T100000
DTEND;TZID=America/New_York:20300222T110000
DTSTAMP:20260425T063829
CREATED:20260419T003829Z
LAST-MODIFIED:20260419T003829Z
UID:10026324-1897984800-1897988400@bluewaterparent.com
SUMMARY:Storytime - Port Huron
DESCRIPTION:
URL:https://bluewaterparent.com/event/storytime-port-huron-2/2030-02-22/
LOCATION:Main Library\, 210 McMorran Blvd\, Port Huron\, MI\, 48060\, United States
CATEGORIES:Playgroups
END:VEVENT
BEGIN:VEVENT
DTSTART;TZID=America/New_York:20300222T110000
DTEND;TZID=America/New_York:20300222T120000
DTSTAMP:20260425T063829
CREATED:20260101T164906Z
LAST-MODIFIED:20260101T171615Z
UID:10017137-1897988400-1897992000@bluewaterparent.com
SUMMARY:Playgroup Pals
DESCRIPTION:
URL:https://bluewaterparent.com/event/playgroup-pals-2/2030-02-22/
LOCATION:Ira Township Library\, 7013 Meldrum Rd\, Ira Township\, Michigan\, 48023\, United States
CATEGORIES:Playgroups
END:VEVENT
BEGIN:VEVENT
DTSTART;TZID=America/New_York:20300225T100000
DTEND;TZID=America/New_York:20300225T110000
DTSTAMP:20260425T063829
CREATED:20260101T192653Z
LAST-MODIFIED:20260307T025320Z
UID:10024551-1898244000-1898247600@bluewaterparent.com
SUMMARY:Storytime - St. Clair
DESCRIPTION:From SCCLS – Join us for a fun and educational blend of stories\, crafts\, movement activities\, and songs.
URL:https://bluewaterparent.com/event/storytime-st-clair/2030-02-25/
LOCATION:St. Clair Library\, 310 S. 2nd Street\, St. Clair\, MI
CATEGORIES:Free,Playgroups
END:VEVENT
BEGIN:VEVENT
DTSTART;TZID=America/New_York:20300225T100000
DTEND;TZID=America/New_York:20300225T110000
DTSTAMP:20260425T063829
CREATED:20260125T194928Z
LAST-MODIFIED:20260125T194929Z
UID:10017660-1898244000-1898247600@bluewaterparent.com
SUMMARY:Storytime - Marysville
DESCRIPTION:From SCCLS – Preschoolers and their adults: Join us at the library for a happy blend of stories\, rhymes\, music and movement\, followed by a creative activity time.
URL:https://bluewaterparent.com/event/storytime-marysville-3/2030-02-25/
LOCATION:Marysville Library\, 1175 Delaware\, Marysville\, MI
CATEGORIES:Free,Playgroups
END:VEVENT
BEGIN:VEVENT
DTSTART;TZID=America/New_York:20300225T100000
DTEND;TZID=America/New_York:20300225T110000
DTSTAMP:20260425T063829
CREATED:20260307T142323Z
LAST-MODIFIED:20260307T142325Z
UID:10017399-1898244000-1898247600@bluewaterparent.com
SUMMARY:Storytime - Yale
DESCRIPTION:
URL:https://bluewaterparent.com/event/storytime-yale-2-2-2/2030-02-25/
LOCATION:Yale Library\, 2 Jones St\, Yale\, MI\, 48097\, United States
CATEGORIES:Free,Playgroups
END:VEVENT
BEGIN:VEVENT
DTSTART;TZID=America/New_York:20300225T103000
DTEND;TZID=America/New_York:20300225T110000
DTSTAMP:20260425T063829
CREATED:20260401T010404Z
LAST-MODIFIED:20260401T010407Z
UID:10025164-1898245800-1898247600@bluewaterparent.com
SUMMARY:Storytime - Burtchville
DESCRIPTION:
URL:https://bluewaterparent.com/event/storytime-burtchville-3-2/2030-02-25/
LOCATION:Burtchville Library\, 7093 2nd St\, Lakeport\, MI\, 48059\, United States
CATEGORIES:Free,Playgroups
END:VEVENT
BEGIN:VEVENT
DTSTART;TZID=America/New_York:20300225T103000
DTEND;TZID=America/New_York:20300225T113000
DTSTAMP:20260425T063829
CREATED:20260321T165751Z
LAST-MODIFIED:20260321T165752Z
UID:10024766-1898245800-1898249400@bluewaterparent.com
SUMMARY:Storytime - Marine City
DESCRIPTION:From SCCLS – Preschoolers and their adults join us at the library for a happy blend of stories and activities.
URL:https://bluewaterparent.com/event/storytime-marine-city-2-2/2030-02-25/
LOCATION:Marine City Library\, 300 S Parker St\, Marine City\, MI\, 48039\, United States
CATEGORIES:Free,Playgroups
END:VEVENT
BEGIN:VEVENT
DTSTART;TZID=America/New_York:20300226T100000
DTEND;TZID=America/New_York:20300226T103000
DTSTAMP:20260425T063829
CREATED:20260418T235804Z
LAST-MODIFIED:20260419T000903Z
UID:10025542-1898330400-1898332200@bluewaterparent.com
SUMMARY:Rhythm and Rhyme - Port Huron
DESCRIPTION:For children ages 0-3 and their caregivers.
URL:https://bluewaterparent.com/event/rhythm-and-rhyme-port-huron/2030-02-26/
LOCATION:Main Library\, 210 McMorran Blvd\, Port Huron\, MI\, 48060\, United States
CATEGORIES:Playgroups
END:VEVENT
BEGIN:VEVENT
DTSTART;TZID=America/New_York:20300226T170000
DTEND;TZID=America/New_York:20300226T193000
DTSTAMP:20260425T063829
CREATED:20260101T190453Z
LAST-MODIFIED:20260103T013002Z
UID:10021478-1898355600-1898364600@bluewaterparent.com
SUMMARY:Teen D&D Group - Algonac-Clay
DESCRIPTION:Registration requested.
URL:https://bluewaterparent.com/event/teen-dd-group-algonac-clay/2030-02-26/
LOCATION:Algonac-Clay Library\, 2011 St Clair River Dr\, Algonac\, MI\, 48001\, United States
CATEGORIES:Teens
END:VEVENT
BEGIN:VEVENT
DTSTART;TZID=America/New_York:20300226T180000
DTEND;TZID=America/New_York:20300226T183000
DTSTAMP:20260425T063829
CREATED:20260419T002148Z
LAST-MODIFIED:20260419T003520Z
UID:10025803-1898359200-1898361000@bluewaterparent.com
SUMMARY:Bedtime Storytime - Port Huron
DESCRIPTION:
URL:https://bluewaterparent.com/event/bedtime-storytime/2030-02-26/
LOCATION:Main Library\, 210 McMorran Blvd\, Port Huron\, MI\, 48060\, United States
CATEGORIES:Playgroups
END:VEVENT
BEGIN:VEVENT
DTSTART;TZID=America/New_York:20300227T080000
DTEND;TZID=America/New_York:20300227T170000
DTSTAMP:20260425T063829
CREATED:20260419T012510Z
LAST-MODIFIED:20260419T012510Z
UID:10026790-1898409600-1898442000@bluewaterparent.com
SUMMARY:Discovery Lab for Littles
DESCRIPTION:This event is included with admission.
URL:https://bluewaterparent.com/event/discovery-lab-for-littles/2030-02-27/
LOCATION:Discovery City Children’s Museum\, 317 Grand River Avenue\, Port huron\, MI\, 48060
END:VEVENT
BEGIN:VEVENT
DTSTART;TZID=America/New_York:20300227T100000
DTEND;TZID=America/New_York:20300227T110000
DTSTAMP:20260425T063829
CREATED:20260419T003159Z
LAST-MODIFIED:20260419T003555Z
UID:10026064-1898416800-1898420400@bluewaterparent.com
SUMMARY:Storytime - Port Huron
DESCRIPTION:
URL:https://bluewaterparent.com/event/storytime-port-huron/2030-02-27/
LOCATION:Main Library\, 210 McMorran Blvd\, Port Huron\, MI\, 48060\, United States
CATEGORIES:Playgroups
END:VEVENT
BEGIN:VEVENT
DTSTART;TZID=America/New_York:20300228T100000
DTEND;TZID=America/New_York:20300228T110000
DTSTAMP:20260425T063829
CREATED:20251201T004011Z
LAST-MODIFIED:20260307T021133Z
UID:10024030-1898503200-1898506800@bluewaterparent.com
SUMMARY:Great Start Playgroup - Avoca
DESCRIPTION:
URL:https://bluewaterparent.com/event/great-start-playgroup-emmett/2030-02-28/
LOCATION:Avoca Elementary\, 8751 Willow St.\, Avoca\, MI\, 48006\, United States
CATEGORIES:Playgroups
END:VEVENT
BEGIN:VEVENT
DTSTART;TZID=America/New_York:20300228T100000
DTEND;TZID=America/New_York:20300228T110000
DTSTAMP:20260425T063829
CREATED:20260307T014510Z
LAST-MODIFIED:20260307T014908Z
UID:10023769-1898503200-1898506800@bluewaterparent.com
SUMMARY:Great Start Playgroup - Marysville
DESCRIPTION:
URL:https://bluewaterparent.com/event/great-start-playgroup-marysville-3/2030-02-28/
LOCATION:St. Clair County RESA East Campus\, 1111 Delaware Avenue\, Marysville\, MI
CATEGORIES:Playgroups
END:VEVENT
BEGIN:VEVENT
DTSTART;TZID=America/New_York:20300228T110000
DTEND;TZID=America/New_York:20300228T113000
DTSTAMP:20260425T063829
CREATED:20260101T200511Z
LAST-MODIFIED:20260101T213808Z
UID:10021315-1898506800-1898508600@bluewaterparent.com
SUMMARY:Storytime - Algonac
DESCRIPTION:  \n 
URL:https://bluewaterparent.com/event/storytime-algonac-2/2030-02-28/
LOCATION:Algonac-Clay Library\, 2011 St Clair River Dr\, Algonac\, MI\, 48001\, United States
CATEGORIES:Playgroups
END:VEVENT
BEGIN:VEVENT
DTSTART;TZID=America/New_York:20300228T143000
DTEND;TZID=America/New_York:20300228T160000
DTSTAMP:20260425T063829
CREATED:20260101T200828Z
LAST-MODIFIED:20260101T200854Z
UID:10019809-1898519400-1898524800@bluewaterparent.com
SUMMARY:Teen Time - Yale
DESCRIPTION:
URL:https://bluewaterparent.com/event/teen-time-yale-3/2030-02-28/
LOCATION:Yale Library\, 2 Jones St\, Yale\, MI\, 48097\, United States
CATEGORIES:Teens
END:VEVENT
BEGIN:VEVENT
DTSTART;TZID=America/New_York:20300228T153000
DTEND;TZID=America/New_York:20300228T180000
DTSTAMP:20260425T063829
CREATED:20260101T201514Z
LAST-MODIFIED:20260103T021445Z
UID:10021587-1898523000-1898532000@bluewaterparent.com
SUMMARY:To D&D\, And Beyond!
DESCRIPTION:  \n 
URL:https://bluewaterparent.com/event/to-dd-and-beyond-3/2030-02-28/
LOCATION:Marysville Library\, 1175 Delaware\, Marysville\, MI
CATEGORIES:Teens
END:VEVENT
BEGIN:VEVENT
DTSTART;TZID=America/New_York:20300301T080000
DTEND;TZID=America/New_York:20300301T170000
DTSTAMP:20260425T063829
CREATED:20260419T012510Z
LAST-MODIFIED:20260419T012510Z
UID:10026791-1898582400-1898614800@bluewaterparent.com
SUMMARY:Discovery Lab for Littles
DESCRIPTION:This event is included with admission.
URL:https://bluewaterparent.com/event/discovery-lab-for-littles/2030-03-01/
LOCATION:Discovery City Children’s Museum\, 317 Grand River Avenue\, Port huron\, MI\, 48060
END:VEVENT
END:VCALENDAR