BEGIN:VCALENDAR
VERSION:2.0
PRODID:-//BlueWaterParent.com - ECPv6.15.20//NONSGML v1.0//EN
CALSCALE:GREGORIAN
METHOD:PUBLISH
X-WR-CALNAME:BlueWaterParent.com
X-ORIGINAL-URL:https://bluewaterparent.com
X-WR-CALDESC:Events for BlueWaterParent.com
REFRESH-INTERVAL;VALUE=DURATION:PT1H
X-Robots-Tag:noindex
X-PUBLISHED-TTL:PT1H
BEGIN:VTIMEZONE
TZID:America/New_York
BEGIN:DAYLIGHT
TZOFFSETFROM:-0500
TZOFFSETTO:-0400
TZNAME:EDT
DTSTART:20260308T070000
END:DAYLIGHT
BEGIN:STANDARD
TZOFFSETFROM:-0400
TZOFFSETTO:-0500
TZNAME:EST
DTSTART:20261101T060000
END:STANDARD
BEGIN:DAYLIGHT
TZOFFSETFROM:-0500
TZOFFSETTO:-0400
TZNAME:EDT
DTSTART:20270314T070000
END:DAYLIGHT
BEGIN:STANDARD
TZOFFSETFROM:-0400
TZOFFSETTO:-0500
TZNAME:EST
DTSTART:20271107T060000
END:STANDARD
BEGIN:DAYLIGHT
TZOFFSETFROM:-0500
TZOFFSETTO:-0400
TZNAME:EDT
DTSTART:20280312T070000
END:DAYLIGHT
BEGIN:STANDARD
TZOFFSETFROM:-0400
TZOFFSETTO:-0500
TZNAME:EST
DTSTART:20281105T060000
END:STANDARD
END:VTIMEZONE
BEGIN:VEVENT
DTSTART;TZID=America/New_York:20270517T100000
DTEND;TZID=America/New_York:20270517T110000
DTSTAMP:20260420T033626
CREATED:20260307T142323Z
LAST-MODIFIED:20260307T142325Z
UID:10017254-1810548000-1810551600@bluewaterparent.com
SUMMARY:Storytime - Yale
DESCRIPTION:
URL:https://bluewaterparent.com/event/storytime-yale-2-2-2/2027-05-17/
LOCATION:Yale Library\, 2 Jones St\, Yale\, MI\, 48097\, United States
CATEGORIES:Free,Playgroups
END:VEVENT
BEGIN:VEVENT
DTSTART;TZID=America/New_York:20270517T103000
DTEND;TZID=America/New_York:20270517T110000
DTSTAMP:20260420T033626
CREATED:20260401T010404Z
LAST-MODIFIED:20260401T010407Z
UID:10025019-1810549800-1810551600@bluewaterparent.com
SUMMARY:Storytime - Burtchville
DESCRIPTION:
URL:https://bluewaterparent.com/event/storytime-burtchville-3-2/2027-05-17/
LOCATION:Burtchville Library\, 7093 2nd St\, Lakeport\, MI\, 48059\, United States
CATEGORIES:Free,Playgroups
END:VEVENT
BEGIN:VEVENT
DTSTART;TZID=America/New_York:20270517T103000
DTEND;TZID=America/New_York:20270517T113000
DTSTAMP:20260420T033626
CREATED:20260321T165751Z
LAST-MODIFIED:20260321T165752Z
UID:10017776-1810549800-1810553400@bluewaterparent.com
SUMMARY:Storytime - Marine City
DESCRIPTION:From SCCLS – Preschoolers and their adults join us at the library for a happy blend of stories and activities.
URL:https://bluewaterparent.com/event/storytime-marine-city-2-2/2027-05-17/
LOCATION:Marine City Library\, 300 S Parker St\, Marine City\, MI\, 48039\, United States
CATEGORIES:Free,Playgroups
END:VEVENT
BEGIN:VEVENT
DTSTART;TZID=America/New_York:20270518T100000
DTEND;TZID=America/New_York:20270518T103000
DTSTAMP:20260420T033626
CREATED:20260418T235804Z
LAST-MODIFIED:20260419T000903Z
UID:10025397-1810634400-1810636200@bluewaterparent.com
SUMMARY:Rhythm and Rhyme - Port Huron
DESCRIPTION:For children ages 0-3 and their caregivers.
URL:https://bluewaterparent.com/event/rhythm-and-rhyme-port-huron/2027-05-18/
LOCATION:Main Library\, 210 McMorran Blvd\, Port Huron\, MI\, 48060\, United States
CATEGORIES:Playgroups
END:VEVENT
BEGIN:VEVENT
DTSTART;TZID=America/New_York:20270518T180000
DTEND;TZID=America/New_York:20270518T183000
DTSTAMP:20260420T033626
CREATED:20260419T002148Z
LAST-MODIFIED:20260419T003520Z
UID:10025658-1810663200-1810665000@bluewaterparent.com
SUMMARY:Bedtime Storytime - Port Huron
DESCRIPTION:
URL:https://bluewaterparent.com/event/bedtime-storytime/2027-05-18/
LOCATION:Main Library\, 210 McMorran Blvd\, Port Huron\, MI\, 48060\, United States
CATEGORIES:Playgroups
END:VEVENT
BEGIN:VEVENT
DTSTART;TZID=America/New_York:20270519T080000
DTEND;TZID=America/New_York:20270519T170000
DTSTAMP:20260420T033626
CREATED:20260419T012510Z
LAST-MODIFIED:20260419T012510Z
UID:10026500-1810713600-1810746000@bluewaterparent.com
SUMMARY:Discovery Lab for Littles
DESCRIPTION:This event is included with admission.
URL:https://bluewaterparent.com/event/discovery-lab-for-littles/2027-05-19/
LOCATION:Discovery City Children’s Museum\, 317 Grand River Avenue\, Port huron\, MI\, 48060
END:VEVENT
BEGIN:VEVENT
DTSTART;TZID=America/New_York:20270519T100000
DTEND;TZID=America/New_York:20270519T110000
DTSTAMP:20260420T033626
CREATED:20260419T003159Z
LAST-MODIFIED:20260419T003555Z
UID:10025919-1810720800-1810724400@bluewaterparent.com
SUMMARY:Storytime - Port Huron
DESCRIPTION:
URL:https://bluewaterparent.com/event/storytime-port-huron/2027-05-19/
LOCATION:Main Library\, 210 McMorran Blvd\, Port Huron\, MI\, 48060\, United States
CATEGORIES:Playgroups
END:VEVENT
BEGIN:VEVENT
DTSTART;TZID=America/New_York:20270520T100000
DTEND;TZID=America/New_York:20270520T110000
DTSTAMP:20260420T033626
CREATED:20251201T004011Z
LAST-MODIFIED:20260307T021133Z
UID:10023885-1810807200-1810810800@bluewaterparent.com
SUMMARY:Great Start Playgroup - Avoca
DESCRIPTION:
URL:https://bluewaterparent.com/event/great-start-playgroup-emmett/2027-05-20/
LOCATION:Avoca Elementary\, 8751 Willow St.\, Avoca\, MI\, 48006\, United States
CATEGORIES:Playgroups
END:VEVENT
BEGIN:VEVENT
DTSTART;TZID=America/New_York:20270520T100000
DTEND;TZID=America/New_York:20270520T110000
DTSTAMP:20260420T033626
CREATED:20260307T014510Z
LAST-MODIFIED:20260307T014908Z
UID:10023624-1810807200-1810810800@bluewaterparent.com
SUMMARY:Great Start Playgroup - Marysville
DESCRIPTION:
URL:https://bluewaterparent.com/event/great-start-playgroup-marysville-3/2027-05-20/
LOCATION:St. Clair County RESA East Campus\, 1111 Delaware Avenue\, Marysville\, MI
CATEGORIES:Playgroups
END:VEVENT
BEGIN:VEVENT
DTSTART;TZID=America/New_York:20270520T110000
DTEND;TZID=America/New_York:20270520T113000
DTSTAMP:20260420T033626
CREATED:20260101T200511Z
LAST-MODIFIED:20260101T213808Z
UID:10021170-1810810800-1810812600@bluewaterparent.com
SUMMARY:Storytime - Algonac
DESCRIPTION:  \n 
URL:https://bluewaterparent.com/event/storytime-algonac-2/2027-05-20/
LOCATION:Algonac-Clay Library\, 2011 St Clair River Dr\, Algonac\, MI\, 48001\, United States
CATEGORIES:Playgroups
END:VEVENT
BEGIN:VEVENT
DTSTART;TZID=America/New_York:20270520T143000
DTEND;TZID=America/New_York:20270520T160000
DTSTAMP:20260420T033626
CREATED:20260101T200828Z
LAST-MODIFIED:20260101T200854Z
UID:10019664-1810823400-1810828800@bluewaterparent.com
SUMMARY:Teen Time - Yale
DESCRIPTION:
URL:https://bluewaterparent.com/event/teen-time-yale-3/2027-05-20/
LOCATION:Yale Library\, 2 Jones St\, Yale\, MI\, 48097\, United States
CATEGORIES:Teens
END:VEVENT
BEGIN:VEVENT
DTSTART;TZID=America/New_York:20270520T171500
DTEND;TZID=America/New_York:20270520T174500
DTSTAMP:20260420T033626
CREATED:20260328T183605Z
LAST-MODIFIED:20260328T183607Z
UID:10022930-1810833300-1810835100@bluewaterparent.com
SUMMARY:Little House on the Prairie Book Club for Kids
DESCRIPTION:  \n 
URL:https://bluewaterparent.com/event/little-house-on-the-prairie-book-club-for-kids-2-3/2027-05-20/
LOCATION:Capac Library\, 111 N Main St\, Capac\, MI\, 48014\, United States
CATEGORIES:Free
END:VEVENT
BEGIN:VEVENT
DTSTART;TZID=America/New_York:20270521T080000
DTEND;TZID=America/New_York:20270521T170000
DTSTAMP:20260420T033626
CREATED:20260419T012510Z
LAST-MODIFIED:20260419T012510Z
UID:10026501-1810886400-1810918800@bluewaterparent.com
SUMMARY:Discovery Lab for Littles
DESCRIPTION:This event is included with admission.
URL:https://bluewaterparent.com/event/discovery-lab-for-littles/2027-05-21/
LOCATION:Discovery City Children’s Museum\, 317 Grand River Avenue\, Port huron\, MI\, 48060
END:VEVENT
BEGIN:VEVENT
DTSTART;TZID=America/New_York:20270521T100000
DTEND;TZID=America/New_York:20270521T104500
DTSTAMP:20260420T033626
CREATED:20260101T202520Z
LAST-MODIFIED:20260131T171318Z
UID:10023311-1810893600-1810896300@bluewaterparent.com
SUMMARY:Family Storytime - Memphis
DESCRIPTION:
URL:https://bluewaterparent.com/event/family-storytime-capac-2-2/2027-05-21/
LOCATION:Memphis Library\, 34830 Potter St\, Memphis\, MI\, 48041\, United States
CATEGORIES:Playgroups
END:VEVENT
BEGIN:VEVENT
DTSTART;TZID=America/New_York:20270521T100000
DTEND;TZID=America/New_York:20270521T110000
DTSTAMP:20260420T033626
CREATED:20260419T003829Z
LAST-MODIFIED:20260419T003829Z
UID:10026180-1810893600-1810897200@bluewaterparent.com
SUMMARY:Storytime - Port Huron
DESCRIPTION:
URL:https://bluewaterparent.com/event/storytime-port-huron-2/2027-05-21/
LOCATION:Main Library\, 210 McMorran Blvd\, Port Huron\, MI\, 48060\, United States
CATEGORIES:Playgroups
END:VEVENT
BEGIN:VEVENT
DTSTART;TZID=America/New_York:20270521T110000
DTEND;TZID=America/New_York:20270521T120000
DTSTAMP:20260420T033626
CREATED:20260101T164906Z
LAST-MODIFIED:20260101T171615Z
UID:10016993-1810897200-1810900800@bluewaterparent.com
SUMMARY:Playgroup Pals
DESCRIPTION:
URL:https://bluewaterparent.com/event/playgroup-pals-2/2027-05-21/
LOCATION:Ira Township Library\, 7013 Meldrum Rd\, Ira Township\, Michigan\, 48023\, United States
CATEGORIES:Playgroups
END:VEVENT
BEGIN:VEVENT
DTSTART;TZID=America/New_York:20270524T100000
DTEND;TZID=America/New_York:20270524T110000
DTSTAMP:20260420T033626
CREATED:20260101T192653Z
LAST-MODIFIED:20260307T025320Z
UID:10024407-1811152800-1811156400@bluewaterparent.com
SUMMARY:Storytime - St. Clair
DESCRIPTION:From SCCLS – Join us for a fun and educational blend of stories\, crafts\, movement activities\, and songs.
URL:https://bluewaterparent.com/event/storytime-st-clair/2027-05-24/
LOCATION:St. Clair Library\, 310 S. 2nd Street\, St. Clair\, MI
CATEGORIES:Free,Playgroups
END:VEVENT
BEGIN:VEVENT
DTSTART;TZID=America/New_York:20270524T100000
DTEND;TZID=America/New_York:20270524T110000
DTSTAMP:20260420T033626
CREATED:20260125T194928Z
LAST-MODIFIED:20260125T194929Z
UID:10017516-1811152800-1811156400@bluewaterparent.com
SUMMARY:Storytime - Marysville
DESCRIPTION:From SCCLS – Preschoolers and their adults: Join us at the library for a happy blend of stories\, rhymes\, music and movement\, followed by a creative activity time.
URL:https://bluewaterparent.com/event/storytime-marysville-3/2027-05-24/
LOCATION:Marysville Library\, 1175 Delaware\, Marysville\, MI
CATEGORIES:Free,Playgroups
END:VEVENT
BEGIN:VEVENT
DTSTART;TZID=America/New_York:20270524T100000
DTEND;TZID=America/New_York:20270524T110000
DTSTAMP:20260420T033626
CREATED:20260307T142323Z
LAST-MODIFIED:20260307T142325Z
UID:10017255-1811152800-1811156400@bluewaterparent.com
SUMMARY:Storytime - Yale
DESCRIPTION:
URL:https://bluewaterparent.com/event/storytime-yale-2-2-2/2027-05-24/
LOCATION:Yale Library\, 2 Jones St\, Yale\, MI\, 48097\, United States
CATEGORIES:Free,Playgroups
END:VEVENT
BEGIN:VEVENT
DTSTART;TZID=America/New_York:20270524T103000
DTEND;TZID=America/New_York:20270524T110000
DTSTAMP:20260420T033626
CREATED:20260401T010404Z
LAST-MODIFIED:20260401T010407Z
UID:10025020-1811154600-1811156400@bluewaterparent.com
SUMMARY:Storytime - Burtchville
DESCRIPTION:
URL:https://bluewaterparent.com/event/storytime-burtchville-3-2/2027-05-24/
LOCATION:Burtchville Library\, 7093 2nd St\, Lakeport\, MI\, 48059\, United States
CATEGORIES:Free,Playgroups
END:VEVENT
BEGIN:VEVENT
DTSTART;TZID=America/New_York:20270524T103000
DTEND;TZID=America/New_York:20270524T113000
DTSTAMP:20260420T033626
CREATED:20260321T165751Z
LAST-MODIFIED:20260321T165752Z
UID:10024694-1811154600-1811158200@bluewaterparent.com
SUMMARY:Storytime - Marine City
DESCRIPTION:From SCCLS – Preschoolers and their adults join us at the library for a happy blend of stories and activities.
URL:https://bluewaterparent.com/event/storytime-marine-city-2-2/2027-05-24/
LOCATION:Marine City Library\, 300 S Parker St\, Marine City\, MI\, 48039\, United States
CATEGORIES:Free,Playgroups
END:VEVENT
BEGIN:VEVENT
DTSTART;TZID=America/New_York:20270525T100000
DTEND;TZID=America/New_York:20270525T103000
DTSTAMP:20260420T033626
CREATED:20260418T235804Z
LAST-MODIFIED:20260419T000903Z
UID:10025398-1811239200-1811241000@bluewaterparent.com
SUMMARY:Rhythm and Rhyme - Port Huron
DESCRIPTION:For children ages 0-3 and their caregivers.
URL:https://bluewaterparent.com/event/rhythm-and-rhyme-port-huron/2027-05-25/
LOCATION:Main Library\, 210 McMorran Blvd\, Port Huron\, MI\, 48060\, United States
CATEGORIES:Playgroups
END:VEVENT
BEGIN:VEVENT
DTSTART;TZID=America/New_York:20270525T170000
DTEND;TZID=America/New_York:20270525T193000
DTSTAMP:20260420T033626
CREATED:20260101T190453Z
LAST-MODIFIED:20260103T013002Z
UID:10021406-1811264400-1811273400@bluewaterparent.com
SUMMARY:Teen D&D Group - Algonac-Clay
DESCRIPTION:Registration requested.
URL:https://bluewaterparent.com/event/teen-dd-group-algonac-clay/2027-05-25/
LOCATION:Algonac-Clay Library\, 2011 St Clair River Dr\, Algonac\, MI\, 48001\, United States
CATEGORIES:Teens
END:VEVENT
BEGIN:VEVENT
DTSTART;TZID=America/New_York:20270525T180000
DTEND;TZID=America/New_York:20270525T183000
DTSTAMP:20260420T033626
CREATED:20260419T002148Z
LAST-MODIFIED:20260419T003520Z
UID:10025659-1811268000-1811269800@bluewaterparent.com
SUMMARY:Bedtime Storytime - Port Huron
DESCRIPTION:
URL:https://bluewaterparent.com/event/bedtime-storytime/2027-05-25/
LOCATION:Main Library\, 210 McMorran Blvd\, Port Huron\, MI\, 48060\, United States
CATEGORIES:Playgroups
END:VEVENT
BEGIN:VEVENT
DTSTART;TZID=America/New_York:20270526T080000
DTEND;TZID=America/New_York:20270526T170000
DTSTAMP:20260420T033626
CREATED:20260419T012510Z
LAST-MODIFIED:20260419T012510Z
UID:10026502-1811318400-1811350800@bluewaterparent.com
SUMMARY:Discovery Lab for Littles
DESCRIPTION:This event is included with admission.
URL:https://bluewaterparent.com/event/discovery-lab-for-littles/2027-05-26/
LOCATION:Discovery City Children’s Museum\, 317 Grand River Avenue\, Port huron\, MI\, 48060
END:VEVENT
BEGIN:VEVENT
DTSTART;TZID=America/New_York:20270526T100000
DTEND;TZID=America/New_York:20270526T110000
DTSTAMP:20260420T033626
CREATED:20260419T003159Z
LAST-MODIFIED:20260419T003555Z
UID:10025920-1811325600-1811329200@bluewaterparent.com
SUMMARY:Storytime - Port Huron
DESCRIPTION:
URL:https://bluewaterparent.com/event/storytime-port-huron/2027-05-26/
LOCATION:Main Library\, 210 McMorran Blvd\, Port Huron\, MI\, 48060\, United States
CATEGORIES:Playgroups
END:VEVENT
BEGIN:VEVENT
DTSTART;TZID=America/New_York:20270527T100000
DTEND;TZID=America/New_York:20270527T110000
DTSTAMP:20260420T033626
CREATED:20251201T004011Z
LAST-MODIFIED:20260307T021133Z
UID:10023886-1811412000-1811415600@bluewaterparent.com
SUMMARY:Great Start Playgroup - Avoca
DESCRIPTION:
URL:https://bluewaterparent.com/event/great-start-playgroup-emmett/2027-05-27/
LOCATION:Avoca Elementary\, 8751 Willow St.\, Avoca\, MI\, 48006\, United States
CATEGORIES:Playgroups
END:VEVENT
BEGIN:VEVENT
DTSTART;TZID=America/New_York:20270527T100000
DTEND;TZID=America/New_York:20270527T110000
DTSTAMP:20260420T033626
CREATED:20260307T014510Z
LAST-MODIFIED:20260307T014908Z
UID:10023625-1811412000-1811415600@bluewaterparent.com
SUMMARY:Great Start Playgroup - Marysville
DESCRIPTION:
URL:https://bluewaterparent.com/event/great-start-playgroup-marysville-3/2027-05-27/
LOCATION:St. Clair County RESA East Campus\, 1111 Delaware Avenue\, Marysville\, MI
CATEGORIES:Playgroups
END:VEVENT
BEGIN:VEVENT
DTSTART;TZID=America/New_York:20270527T110000
DTEND;TZID=America/New_York:20270527T113000
DTSTAMP:20260420T033626
CREATED:20260101T200511Z
LAST-MODIFIED:20260101T213808Z
UID:10021171-1811415600-1811417400@bluewaterparent.com
SUMMARY:Storytime - Algonac
DESCRIPTION:  \n 
URL:https://bluewaterparent.com/event/storytime-algonac-2/2027-05-27/
LOCATION:Algonac-Clay Library\, 2011 St Clair River Dr\, Algonac\, MI\, 48001\, United States
CATEGORIES:Playgroups
END:VEVENT
BEGIN:VEVENT
DTSTART;TZID=America/New_York:20270527T143000
DTEND;TZID=America/New_York:20270527T160000
DTSTAMP:20260420T033626
CREATED:20260101T200828Z
LAST-MODIFIED:20260101T200854Z
UID:10019665-1811428200-1811433600@bluewaterparent.com
SUMMARY:Teen Time - Yale
DESCRIPTION:
URL:https://bluewaterparent.com/event/teen-time-yale-3/2027-05-27/
LOCATION:Yale Library\, 2 Jones St\, Yale\, MI\, 48097\, United States
CATEGORIES:Teens
END:VEVENT
END:VCALENDAR