BEGIN:VCALENDAR
VERSION:2.0
PRODID:-//BlueWaterParent.com - ECPv6.15.20//NONSGML v1.0//EN
CALSCALE:GREGORIAN
METHOD:PUBLISH
X-WR-CALNAME:BlueWaterParent.com
X-ORIGINAL-URL:https://bluewaterparent.com
X-WR-CALDESC:Events for BlueWaterParent.com
REFRESH-INTERVAL;VALUE=DURATION:PT1H
X-Robots-Tag:noindex
X-PUBLISHED-TTL:PT1H
BEGIN:VTIMEZONE
TZID:America/New_York
BEGIN:DAYLIGHT
TZOFFSETFROM:-0500
TZOFFSETTO:-0400
TZNAME:EDT
DTSTART:20280312T070000
END:DAYLIGHT
BEGIN:STANDARD
TZOFFSETFROM:-0400
TZOFFSETTO:-0500
TZNAME:EST
DTSTART:20281105T060000
END:STANDARD
BEGIN:DAYLIGHT
TZOFFSETFROM:-0500
TZOFFSETTO:-0400
TZNAME:EDT
DTSTART:20290311T070000
END:DAYLIGHT
BEGIN:STANDARD
TZOFFSETFROM:-0400
TZOFFSETTO:-0500
TZNAME:EST
DTSTART:20291104T060000
END:STANDARD
BEGIN:DAYLIGHT
TZOFFSETFROM:-0500
TZOFFSETTO:-0400
TZNAME:EDT
DTSTART:20300310T070000
END:DAYLIGHT
BEGIN:STANDARD
TZOFFSETFROM:-0400
TZOFFSETTO:-0500
TZNAME:EST
DTSTART:20301103T060000
END:STANDARD
END:VTIMEZONE
BEGIN:VEVENT
DTSTART;TZID=America/New_York:20291217T103000
DTEND;TZID=America/New_York:20291217T113000
DTSTAMP:20260425T092702
CREATED:20260321T165751Z
LAST-MODIFIED:20260321T165752Z
UID:10024761-1892197800-1892201400@bluewaterparent.com
SUMMARY:Storytime - Marine City
DESCRIPTION:From SCCLS – Preschoolers and their adults join us at the library for a happy blend of stories and activities.
URL:https://bluewaterparent.com/event/storytime-marine-city-2-2/2029-12-17/
LOCATION:Marine City Library\, 300 S Parker St\, Marine City\, MI\, 48039\, United States
CATEGORIES:Free,Playgroups
END:VEVENT
BEGIN:VEVENT
DTSTART;TZID=America/New_York:20291218T100000
DTEND;TZID=America/New_York:20291218T103000
DTSTAMP:20260425T092702
CREATED:20260418T235804Z
LAST-MODIFIED:20260419T000903Z
UID:10025532-1892282400-1892284200@bluewaterparent.com
SUMMARY:Rhythm and Rhyme - Port Huron
DESCRIPTION:For children ages 0-3 and their caregivers.
URL:https://bluewaterparent.com/event/rhythm-and-rhyme-port-huron/2029-12-18/
LOCATION:Main Library\, 210 McMorran Blvd\, Port Huron\, MI\, 48060\, United States
CATEGORIES:Playgroups
END:VEVENT
BEGIN:VEVENT
DTSTART;TZID=America/New_York:20291218T170000
DTEND;TZID=America/New_York:20291218T193000
DTSTAMP:20260425T092702
CREATED:20260101T190453Z
LAST-MODIFIED:20260103T013002Z
UID:10021473-1892307600-1892316600@bluewaterparent.com
SUMMARY:Teen D&D Group - Algonac-Clay
DESCRIPTION:Registration requested.
URL:https://bluewaterparent.com/event/teen-dd-group-algonac-clay/2029-12-18/
LOCATION:Algonac-Clay Library\, 2011 St Clair River Dr\, Algonac\, MI\, 48001\, United States
CATEGORIES:Teens
END:VEVENT
BEGIN:VEVENT
DTSTART;TZID=America/New_York:20291218T180000
DTEND;TZID=America/New_York:20291218T183000
DTSTAMP:20260425T092702
CREATED:20260419T002148Z
LAST-MODIFIED:20260419T003520Z
UID:10025793-1892311200-1892313000@bluewaterparent.com
SUMMARY:Bedtime Storytime - Port Huron
DESCRIPTION:
URL:https://bluewaterparent.com/event/bedtime-storytime/2029-12-18/
LOCATION:Main Library\, 210 McMorran Blvd\, Port Huron\, MI\, 48060\, United States
CATEGORIES:Playgroups
END:VEVENT
BEGIN:VEVENT
DTSTART;TZID=America/New_York:20291219T080000
DTEND;TZID=America/New_York:20291219T170000
DTSTAMP:20260425T092702
CREATED:20260419T012510Z
LAST-MODIFIED:20260419T012510Z
UID:10026770-1892361600-1892394000@bluewaterparent.com
SUMMARY:Discovery Lab for Littles
DESCRIPTION:This event is included with admission.
URL:https://bluewaterparent.com/event/discovery-lab-for-littles/2029-12-19/
LOCATION:Discovery City Children’s Museum\, 317 Grand River Avenue\, Port huron\, MI\, 48060
END:VEVENT
BEGIN:VEVENT
DTSTART;TZID=America/New_York:20291219T100000
DTEND;TZID=America/New_York:20291219T110000
DTSTAMP:20260425T092702
CREATED:20260419T003159Z
LAST-MODIFIED:20260419T003555Z
UID:10026054-1892368800-1892372400@bluewaterparent.com
SUMMARY:Storytime - Port Huron
DESCRIPTION:
URL:https://bluewaterparent.com/event/storytime-port-huron/2029-12-19/
LOCATION:Main Library\, 210 McMorran Blvd\, Port Huron\, MI\, 48060\, United States
CATEGORIES:Playgroups
END:VEVENT
BEGIN:VEVENT
DTSTART;TZID=America/New_York:20291220T100000
DTEND;TZID=America/New_York:20291220T110000
DTSTAMP:20260425T092702
CREATED:20251201T004011Z
LAST-MODIFIED:20260307T021133Z
UID:10024020-1892455200-1892458800@bluewaterparent.com
SUMMARY:Great Start Playgroup - Avoca
DESCRIPTION:
URL:https://bluewaterparent.com/event/great-start-playgroup-emmett/2029-12-20/
LOCATION:Avoca Elementary\, 8751 Willow St.\, Avoca\, MI\, 48006\, United States
CATEGORIES:Playgroups
END:VEVENT
BEGIN:VEVENT
DTSTART;TZID=America/New_York:20291220T100000
DTEND;TZID=America/New_York:20291220T110000
DTSTAMP:20260425T092702
CREATED:20260307T014510Z
LAST-MODIFIED:20260307T014908Z
UID:10023759-1892455200-1892458800@bluewaterparent.com
SUMMARY:Great Start Playgroup - Marysville
DESCRIPTION:
URL:https://bluewaterparent.com/event/great-start-playgroup-marysville-3/2029-12-20/
LOCATION:St. Clair County RESA East Campus\, 1111 Delaware Avenue\, Marysville\, MI
CATEGORIES:Playgroups
END:VEVENT
BEGIN:VEVENT
DTSTART;TZID=America/New_York:20291220T110000
DTEND;TZID=America/New_York:20291220T113000
DTSTAMP:20260425T092702
CREATED:20260101T200511Z
LAST-MODIFIED:20260101T213808Z
UID:10021305-1892458800-1892460600@bluewaterparent.com
SUMMARY:Storytime - Algonac
DESCRIPTION:  \n 
URL:https://bluewaterparent.com/event/storytime-algonac-2/2029-12-20/
LOCATION:Algonac-Clay Library\, 2011 St Clair River Dr\, Algonac\, MI\, 48001\, United States
CATEGORIES:Playgroups
END:VEVENT
BEGIN:VEVENT
DTSTART;TZID=America/New_York:20291220T143000
DTEND;TZID=America/New_York:20291220T160000
DTSTAMP:20260425T092702
CREATED:20260101T200828Z
LAST-MODIFIED:20260101T200854Z
UID:10019799-1892471400-1892476800@bluewaterparent.com
SUMMARY:Teen Time - Yale
DESCRIPTION:
URL:https://bluewaterparent.com/event/teen-time-yale-3/2029-12-20/
LOCATION:Yale Library\, 2 Jones St\, Yale\, MI\, 48097\, United States
CATEGORIES:Teens
END:VEVENT
BEGIN:VEVENT
DTSTART;TZID=America/New_York:20291220T153000
DTEND;TZID=America/New_York:20291220T180000
DTSTAMP:20260425T092702
CREATED:20260101T201514Z
LAST-MODIFIED:20260103T021445Z
UID:10021583-1892475000-1892484000@bluewaterparent.com
SUMMARY:To D&D\, And Beyond!
DESCRIPTION:  \n 
URL:https://bluewaterparent.com/event/to-dd-and-beyond-3/2029-12-20/
LOCATION:Marysville Library\, 1175 Delaware\, Marysville\, MI
CATEGORIES:Teens
END:VEVENT
BEGIN:VEVENT
DTSTART;TZID=America/New_York:20291221T080000
DTEND;TZID=America/New_York:20291221T170000
DTSTAMP:20260425T092702
CREATED:20260419T012510Z
LAST-MODIFIED:20260419T012510Z
UID:10026771-1892534400-1892566800@bluewaterparent.com
SUMMARY:Discovery Lab for Littles
DESCRIPTION:This event is included with admission.
URL:https://bluewaterparent.com/event/discovery-lab-for-littles/2029-12-21/
LOCATION:Discovery City Children’s Museum\, 317 Grand River Avenue\, Port huron\, MI\, 48060
END:VEVENT
BEGIN:VEVENT
DTSTART;TZID=America/New_York:20291221T100000
DTEND;TZID=America/New_York:20291221T104500
DTSTAMP:20260425T092702
CREATED:20260101T202520Z
LAST-MODIFIED:20260131T171318Z
UID:10023446-1892541600-1892544300@bluewaterparent.com
SUMMARY:Family Storytime - Memphis
DESCRIPTION:
URL:https://bluewaterparent.com/event/family-storytime-capac-2-2/2029-12-21/
LOCATION:Memphis Library\, 34830 Potter St\, Memphis\, MI\, 48041\, United States
CATEGORIES:Playgroups
END:VEVENT
BEGIN:VEVENT
DTSTART;TZID=America/New_York:20291221T100000
DTEND;TZID=America/New_York:20291221T110000
DTSTAMP:20260425T092702
CREATED:20260419T003829Z
LAST-MODIFIED:20260419T003829Z
UID:10026315-1892541600-1892545200@bluewaterparent.com
SUMMARY:Storytime - Port Huron
DESCRIPTION:
URL:https://bluewaterparent.com/event/storytime-port-huron-2/2029-12-21/
LOCATION:Main Library\, 210 McMorran Blvd\, Port Huron\, MI\, 48060\, United States
CATEGORIES:Playgroups
END:VEVENT
BEGIN:VEVENT
DTSTART;TZID=America/New_York:20291221T110000
DTEND;TZID=America/New_York:20291221T120000
DTSTAMP:20260425T092702
CREATED:20260101T164906Z
LAST-MODIFIED:20260101T171615Z
UID:10017128-1892545200-1892548800@bluewaterparent.com
SUMMARY:Playgroup Pals
DESCRIPTION:
URL:https://bluewaterparent.com/event/playgroup-pals-2/2029-12-21/
LOCATION:Ira Township Library\, 7013 Meldrum Rd\, Ira Township\, Michigan\, 48023\, United States
CATEGORIES:Playgroups
END:VEVENT
BEGIN:VEVENT
DTSTART;TZID=America/New_York:20291221T150000
DTEND;TZID=America/New_York:20291221T163000
DTSTAMP:20260425T092702
CREATED:20260101T204005Z
LAST-MODIFIED:20260103T023339Z
UID:10021708-1892559600-1892565000@bluewaterparent.com
SUMMARY:Friday Game Zone
DESCRIPTION:
URL:https://bluewaterparent.com/event/friday-game-zone/2029-12-21/
LOCATION:Ira Township Library\, 7013 Meldrum Rd\, Ira Township\, Michigan\, 48023\, United States
CATEGORIES:Free
END:VEVENT
BEGIN:VEVENT
DTSTART;TZID=America/New_York:20291224T100000
DTEND;TZID=America/New_York:20291224T110000
DTSTAMP:20260425T092702
CREATED:20260101T192653Z
LAST-MODIFIED:20260307T025320Z
UID:10024542-1892800800-1892804400@bluewaterparent.com
SUMMARY:Storytime - St. Clair
DESCRIPTION:From SCCLS – Join us for a fun and educational blend of stories\, crafts\, movement activities\, and songs.
URL:https://bluewaterparent.com/event/storytime-st-clair/2029-12-24/
LOCATION:St. Clair Library\, 310 S. 2nd Street\, St. Clair\, MI
CATEGORIES:Free,Playgroups
END:VEVENT
BEGIN:VEVENT
DTSTART;TZID=America/New_York:20291224T100000
DTEND;TZID=America/New_York:20291224T110000
DTSTAMP:20260425T092702
CREATED:20260125T194928Z
LAST-MODIFIED:20260125T194929Z
UID:10017651-1892800800-1892804400@bluewaterparent.com
SUMMARY:Storytime - Marysville
DESCRIPTION:From SCCLS – Preschoolers and their adults: Join us at the library for a happy blend of stories\, rhymes\, music and movement\, followed by a creative activity time.
URL:https://bluewaterparent.com/event/storytime-marysville-3/2029-12-24/
LOCATION:Marysville Library\, 1175 Delaware\, Marysville\, MI
CATEGORIES:Free,Playgroups
END:VEVENT
BEGIN:VEVENT
DTSTART;TZID=America/New_York:20291224T100000
DTEND;TZID=America/New_York:20291224T110000
DTSTAMP:20260425T092702
CREATED:20260307T142323Z
LAST-MODIFIED:20260307T142325Z
UID:10017390-1892800800-1892804400@bluewaterparent.com
SUMMARY:Storytime - Yale
DESCRIPTION:
URL:https://bluewaterparent.com/event/storytime-yale-2-2-2/2029-12-24/
LOCATION:Yale Library\, 2 Jones St\, Yale\, MI\, 48097\, United States
CATEGORIES:Free,Playgroups
END:VEVENT
BEGIN:VEVENT
DTSTART;TZID=America/New_York:20291224T103000
DTEND;TZID=America/New_York:20291224T110000
DTSTAMP:20260425T092702
CREATED:20260401T010404Z
LAST-MODIFIED:20260401T010407Z
UID:10025155-1892802600-1892804400@bluewaterparent.com
SUMMARY:Storytime - Burtchville
DESCRIPTION:
URL:https://bluewaterparent.com/event/storytime-burtchville-3-2/2029-12-24/
LOCATION:Burtchville Library\, 7093 2nd St\, Lakeport\, MI\, 48059\, United States
CATEGORIES:Free,Playgroups
END:VEVENT
BEGIN:VEVENT
DTSTART;TZID=America/New_York:20291224T103000
DTEND;TZID=America/New_York:20291224T113000
DTSTAMP:20260425T092702
CREATED:20260321T165751Z
LAST-MODIFIED:20260321T165752Z
UID:10017912-1892802600-1892806200@bluewaterparent.com
SUMMARY:Storytime - Marine City
DESCRIPTION:From SCCLS – Preschoolers and their adults join us at the library for a happy blend of stories and activities.
URL:https://bluewaterparent.com/event/storytime-marine-city-2-2/2029-12-24/
LOCATION:Marine City Library\, 300 S Parker St\, Marine City\, MI\, 48039\, United States
CATEGORIES:Free,Playgroups
END:VEVENT
BEGIN:VEVENT
DTSTART;TZID=America/New_York:20291225T100000
DTEND;TZID=America/New_York:20291225T103000
DTSTAMP:20260425T092702
CREATED:20260418T235804Z
LAST-MODIFIED:20260419T000903Z
UID:10025533-1892887200-1892889000@bluewaterparent.com
SUMMARY:Rhythm and Rhyme - Port Huron
DESCRIPTION:For children ages 0-3 and their caregivers.
URL:https://bluewaterparent.com/event/rhythm-and-rhyme-port-huron/2029-12-25/
LOCATION:Main Library\, 210 McMorran Blvd\, Port Huron\, MI\, 48060\, United States
CATEGORIES:Playgroups
END:VEVENT
BEGIN:VEVENT
DTSTART;TZID=America/New_York:20291225T180000
DTEND;TZID=America/New_York:20291225T183000
DTSTAMP:20260425T092702
CREATED:20260419T002148Z
LAST-MODIFIED:20260419T003520Z
UID:10025794-1892916000-1892917800@bluewaterparent.com
SUMMARY:Bedtime Storytime - Port Huron
DESCRIPTION:
URL:https://bluewaterparent.com/event/bedtime-storytime/2029-12-25/
LOCATION:Main Library\, 210 McMorran Blvd\, Port Huron\, MI\, 48060\, United States
CATEGORIES:Playgroups
END:VEVENT
BEGIN:VEVENT
DTSTART;TZID=America/New_York:20291226T080000
DTEND;TZID=America/New_York:20291226T170000
DTSTAMP:20260425T092702
CREATED:20260419T012510Z
LAST-MODIFIED:20260419T012510Z
UID:10026772-1892966400-1892998800@bluewaterparent.com
SUMMARY:Discovery Lab for Littles
DESCRIPTION:This event is included with admission.
URL:https://bluewaterparent.com/event/discovery-lab-for-littles/2029-12-26/
LOCATION:Discovery City Children’s Museum\, 317 Grand River Avenue\, Port huron\, MI\, 48060
END:VEVENT
BEGIN:VEVENT
DTSTART;TZID=America/New_York:20291226T100000
DTEND;TZID=America/New_York:20291226T110000
DTSTAMP:20260425T092702
CREATED:20260419T003159Z
LAST-MODIFIED:20260419T003555Z
UID:10026055-1892973600-1892977200@bluewaterparent.com
SUMMARY:Storytime - Port Huron
DESCRIPTION:
URL:https://bluewaterparent.com/event/storytime-port-huron/2029-12-26/
LOCATION:Main Library\, 210 McMorran Blvd\, Port Huron\, MI\, 48060\, United States
CATEGORIES:Playgroups
END:VEVENT
BEGIN:VEVENT
DTSTART;TZID=America/New_York:20291227T100000
DTEND;TZID=America/New_York:20291227T110000
DTSTAMP:20260425T092702
CREATED:20251201T004011Z
LAST-MODIFIED:20260307T021133Z
UID:10024021-1893060000-1893063600@bluewaterparent.com
SUMMARY:Great Start Playgroup - Avoca
DESCRIPTION:
URL:https://bluewaterparent.com/event/great-start-playgroup-emmett/2029-12-27/
LOCATION:Avoca Elementary\, 8751 Willow St.\, Avoca\, MI\, 48006\, United States
CATEGORIES:Playgroups
END:VEVENT
BEGIN:VEVENT
DTSTART;TZID=America/New_York:20291227T100000
DTEND;TZID=America/New_York:20291227T110000
DTSTAMP:20260425T092702
CREATED:20260307T014510Z
LAST-MODIFIED:20260307T014908Z
UID:10023760-1893060000-1893063600@bluewaterparent.com
SUMMARY:Great Start Playgroup - Marysville
DESCRIPTION:
URL:https://bluewaterparent.com/event/great-start-playgroup-marysville-3/2029-12-27/
LOCATION:St. Clair County RESA East Campus\, 1111 Delaware Avenue\, Marysville\, MI
CATEGORIES:Playgroups
END:VEVENT
BEGIN:VEVENT
DTSTART;TZID=America/New_York:20291227T110000
DTEND;TZID=America/New_York:20291227T113000
DTSTAMP:20260425T092702
CREATED:20260101T200511Z
LAST-MODIFIED:20260101T213808Z
UID:10021306-1893063600-1893065400@bluewaterparent.com
SUMMARY:Storytime - Algonac
DESCRIPTION:  \n 
URL:https://bluewaterparent.com/event/storytime-algonac-2/2029-12-27/
LOCATION:Algonac-Clay Library\, 2011 St Clair River Dr\, Algonac\, MI\, 48001\, United States
CATEGORIES:Playgroups
END:VEVENT
BEGIN:VEVENT
DTSTART;TZID=America/New_York:20291227T143000
DTEND;TZID=America/New_York:20291227T160000
DTSTAMP:20260425T092702
CREATED:20260101T200828Z
LAST-MODIFIED:20260101T200854Z
UID:10019800-1893076200-1893081600@bluewaterparent.com
SUMMARY:Teen Time - Yale
DESCRIPTION:
URL:https://bluewaterparent.com/event/teen-time-yale-3/2029-12-27/
LOCATION:Yale Library\, 2 Jones St\, Yale\, MI\, 48097\, United States
CATEGORIES:Teens
END:VEVENT
BEGIN:VEVENT
DTSTART;TZID=America/New_York:20291227T171500
DTEND;TZID=America/New_York:20291227T174500
DTSTAMP:20260425T092702
CREATED:20260328T183605Z
LAST-MODIFIED:20260328T183607Z
UID:10024868-1893086100-1893087900@bluewaterparent.com
SUMMARY:Little House on the Prairie Book Club for Kids
DESCRIPTION:  \n 
URL:https://bluewaterparent.com/event/little-house-on-the-prairie-book-club-for-kids-2-3/2029-12-27/
LOCATION:Capac Library\, 111 N Main St\, Capac\, MI\, 48014\, United States
CATEGORIES:Free
END:VEVENT
END:VCALENDAR