BEGIN:VCALENDAR
VERSION:2.0
PRODID:-//BlueWaterParent.com - ECPv6.15.20//NONSGML v1.0//EN
CALSCALE:GREGORIAN
METHOD:PUBLISH
X-WR-CALNAME:BlueWaterParent.com
X-ORIGINAL-URL:https://bluewaterparent.com
X-WR-CALDESC:Events for BlueWaterParent.com
REFRESH-INTERVAL;VALUE=DURATION:PT1H
X-Robots-Tag:noindex
X-PUBLISHED-TTL:PT1H
BEGIN:VTIMEZONE
TZID:America/New_York
BEGIN:DAYLIGHT
TZOFFSETFROM:-0500
TZOFFSETTO:-0400
TZNAME:EDT
DTSTART:20260308T070000
END:DAYLIGHT
BEGIN:STANDARD
TZOFFSETFROM:-0400
TZOFFSETTO:-0500
TZNAME:EST
DTSTART:20261101T060000
END:STANDARD
BEGIN:DAYLIGHT
TZOFFSETFROM:-0500
TZOFFSETTO:-0400
TZNAME:EDT
DTSTART:20270314T070000
END:DAYLIGHT
BEGIN:STANDARD
TZOFFSETFROM:-0400
TZOFFSETTO:-0500
TZNAME:EST
DTSTART:20271107T060000
END:STANDARD
BEGIN:DAYLIGHT
TZOFFSETFROM:-0500
TZOFFSETTO:-0400
TZNAME:EDT
DTSTART:20280312T070000
END:DAYLIGHT
BEGIN:STANDARD
TZOFFSETFROM:-0400
TZOFFSETTO:-0500
TZNAME:EST
DTSTART:20281105T060000
END:STANDARD
END:VTIMEZONE
BEGIN:VEVENT
DTSTART;TZID=America/New_York:20270806T080000
DTEND;TZID=America/New_York:20270806T170000
DTSTAMP:20260420T010618
CREATED:20260419T012510Z
LAST-MODIFIED:20260419T012510Z
UID:10026523-1817539200-1817571600@bluewaterparent.com
SUMMARY:Discovery Lab for Littles
DESCRIPTION:This event is included with admission.
URL:https://bluewaterparent.com/event/discovery-lab-for-littles/2027-08-06/
LOCATION:Discovery City Children’s Museum\, 317 Grand River Avenue\, Port huron\, MI\, 48060
END:VEVENT
BEGIN:VEVENT
DTSTART;TZID=America/New_York:20270811T080000
DTEND;TZID=America/New_York:20270811T170000
DTSTAMP:20260420T010618
CREATED:20260419T012510Z
LAST-MODIFIED:20260419T012510Z
UID:10026524-1817971200-1818003600@bluewaterparent.com
SUMMARY:Discovery Lab for Littles
DESCRIPTION:This event is included with admission.
URL:https://bluewaterparent.com/event/discovery-lab-for-littles/2027-08-11/
LOCATION:Discovery City Children’s Museum\, 317 Grand River Avenue\, Port huron\, MI\, 48060
END:VEVENT
BEGIN:VEVENT
DTSTART;TZID=America/New_York:20270813T080000
DTEND;TZID=America/New_York:20270813T170000
DTSTAMP:20260420T010618
CREATED:20260419T012510Z
LAST-MODIFIED:20260419T012510Z
UID:10026525-1818144000-1818176400@bluewaterparent.com
SUMMARY:Discovery Lab for Littles
DESCRIPTION:This event is included with admission.
URL:https://bluewaterparent.com/event/discovery-lab-for-littles/2027-08-13/
LOCATION:Discovery City Children’s Museum\, 317 Grand River Avenue\, Port huron\, MI\, 48060
END:VEVENT
BEGIN:VEVENT
DTSTART;TZID=America/New_York:20270818T080000
DTEND;TZID=America/New_York:20270818T170000
DTSTAMP:20260420T010618
CREATED:20260419T012510Z
LAST-MODIFIED:20260419T012510Z
UID:10026526-1818576000-1818608400@bluewaterparent.com
SUMMARY:Discovery Lab for Littles
DESCRIPTION:This event is included with admission.
URL:https://bluewaterparent.com/event/discovery-lab-for-littles/2027-08-18/
LOCATION:Discovery City Children’s Museum\, 317 Grand River Avenue\, Port huron\, MI\, 48060
END:VEVENT
BEGIN:VEVENT
DTSTART;TZID=America/New_York:20270820T080000
DTEND;TZID=America/New_York:20270820T170000
DTSTAMP:20260420T010618
CREATED:20260419T012510Z
LAST-MODIFIED:20260419T012510Z
UID:10026527-1818748800-1818781200@bluewaterparent.com
SUMMARY:Discovery Lab for Littles
DESCRIPTION:This event is included with admission.
URL:https://bluewaterparent.com/event/discovery-lab-for-littles/2027-08-20/
LOCATION:Discovery City Children’s Museum\, 317 Grand River Avenue\, Port huron\, MI\, 48060
END:VEVENT
BEGIN:VEVENT
DTSTART;TZID=America/New_York:20270825T080000
DTEND;TZID=America/New_York:20270825T170000
DTSTAMP:20260420T010618
CREATED:20260419T012510Z
LAST-MODIFIED:20260419T012510Z
UID:10026528-1819180800-1819213200@bluewaterparent.com
SUMMARY:Discovery Lab for Littles
DESCRIPTION:This event is included with admission.
URL:https://bluewaterparent.com/event/discovery-lab-for-littles/2027-08-25/
LOCATION:Discovery City Children’s Museum\, 317 Grand River Avenue\, Port huron\, MI\, 48060
END:VEVENT
BEGIN:VEVENT
DTSTART;TZID=America/New_York:20270827T080000
DTEND;TZID=America/New_York:20270827T170000
DTSTAMP:20260420T010618
CREATED:20260419T012510Z
LAST-MODIFIED:20260419T012510Z
UID:10026529-1819353600-1819386000@bluewaterparent.com
SUMMARY:Discovery Lab for Littles
DESCRIPTION:This event is included with admission.
URL:https://bluewaterparent.com/event/discovery-lab-for-littles/2027-08-27/
LOCATION:Discovery City Children’s Museum\, 317 Grand River Avenue\, Port huron\, MI\, 48060
END:VEVENT
BEGIN:VEVENT
DTSTART;TZID=America/New_York:20270901T080000
DTEND;TZID=America/New_York:20270901T170000
DTSTAMP:20260420T010618
CREATED:20260419T012510Z
LAST-MODIFIED:20260419T012510Z
UID:10026530-1819785600-1819818000@bluewaterparent.com
SUMMARY:Discovery Lab for Littles
DESCRIPTION:This event is included with admission.
URL:https://bluewaterparent.com/event/discovery-lab-for-littles/2027-09-01/
LOCATION:Discovery City Children’s Museum\, 317 Grand River Avenue\, Port huron\, MI\, 48060
END:VEVENT
BEGIN:VEVENT
DTSTART;TZID=America/New_York:20270903T080000
DTEND;TZID=America/New_York:20270903T170000
DTSTAMP:20260420T010618
CREATED:20260419T012510Z
LAST-MODIFIED:20260419T012510Z
UID:10026531-1819958400-1819990800@bluewaterparent.com
SUMMARY:Discovery Lab for Littles
DESCRIPTION:This event is included with admission.
URL:https://bluewaterparent.com/event/discovery-lab-for-littles/2027-09-03/
LOCATION:Discovery City Children’s Museum\, 317 Grand River Avenue\, Port huron\, MI\, 48060
END:VEVENT
BEGIN:VEVENT
DTSTART;TZID=America/New_York:20270908T080000
DTEND;TZID=America/New_York:20270908T170000
DTSTAMP:20260420T010618
CREATED:20260419T012510Z
LAST-MODIFIED:20260419T012510Z
UID:10026532-1820390400-1820422800@bluewaterparent.com
SUMMARY:Discovery Lab for Littles
DESCRIPTION:This event is included with admission.
URL:https://bluewaterparent.com/event/discovery-lab-for-littles/2027-09-08/
LOCATION:Discovery City Children’s Museum\, 317 Grand River Avenue\, Port huron\, MI\, 48060
END:VEVENT
BEGIN:VEVENT
DTSTART;TZID=America/New_York:20270910T080000
DTEND;TZID=America/New_York:20270910T170000
DTSTAMP:20260420T010618
CREATED:20260419T012510Z
LAST-MODIFIED:20260419T012510Z
UID:10026533-1820563200-1820595600@bluewaterparent.com
SUMMARY:Discovery Lab for Littles
DESCRIPTION:This event is included with admission.
URL:https://bluewaterparent.com/event/discovery-lab-for-littles/2027-09-10/
LOCATION:Discovery City Children’s Museum\, 317 Grand River Avenue\, Port huron\, MI\, 48060
END:VEVENT
BEGIN:VEVENT
DTSTART;TZID=America/New_York:20270915T080000
DTEND;TZID=America/New_York:20270915T170000
DTSTAMP:20260420T010618
CREATED:20260419T012510Z
LAST-MODIFIED:20260419T012510Z
UID:10026534-1820995200-1821027600@bluewaterparent.com
SUMMARY:Discovery Lab for Littles
DESCRIPTION:This event is included with admission.
URL:https://bluewaterparent.com/event/discovery-lab-for-littles/2027-09-15/
LOCATION:Discovery City Children’s Museum\, 317 Grand River Avenue\, Port huron\, MI\, 48060
END:VEVENT
BEGIN:VEVENT
DTSTART;TZID=America/New_York:20270917T080000
DTEND;TZID=America/New_York:20270917T170000
DTSTAMP:20260420T010618
CREATED:20260419T012510Z
LAST-MODIFIED:20260419T012510Z
UID:10026535-1821168000-1821200400@bluewaterparent.com
SUMMARY:Discovery Lab for Littles
DESCRIPTION:This event is included with admission.
URL:https://bluewaterparent.com/event/discovery-lab-for-littles/2027-09-17/
LOCATION:Discovery City Children’s Museum\, 317 Grand River Avenue\, Port huron\, MI\, 48060
END:VEVENT
BEGIN:VEVENT
DTSTART;TZID=America/New_York:20270922T080000
DTEND;TZID=America/New_York:20270922T170000
DTSTAMP:20260420T010618
CREATED:20260419T012510Z
LAST-MODIFIED:20260419T012510Z
UID:10026536-1821600000-1821632400@bluewaterparent.com
SUMMARY:Discovery Lab for Littles
DESCRIPTION:This event is included with admission.
URL:https://bluewaterparent.com/event/discovery-lab-for-littles/2027-09-22/
LOCATION:Discovery City Children’s Museum\, 317 Grand River Avenue\, Port huron\, MI\, 48060
END:VEVENT
BEGIN:VEVENT
DTSTART;TZID=America/New_York:20270924T080000
DTEND;TZID=America/New_York:20270924T170000
DTSTAMP:20260420T010618
CREATED:20260419T012510Z
LAST-MODIFIED:20260419T012510Z
UID:10026537-1821772800-1821805200@bluewaterparent.com
SUMMARY:Discovery Lab for Littles
DESCRIPTION:This event is included with admission.
URL:https://bluewaterparent.com/event/discovery-lab-for-littles/2027-09-24/
LOCATION:Discovery City Children’s Museum\, 317 Grand River Avenue\, Port huron\, MI\, 48060
END:VEVENT
BEGIN:VEVENT
DTSTART;TZID=America/New_York:20270929T080000
DTEND;TZID=America/New_York:20270929T170000
DTSTAMP:20260420T010618
CREATED:20260419T012510Z
LAST-MODIFIED:20260419T012510Z
UID:10026538-1822204800-1822237200@bluewaterparent.com
SUMMARY:Discovery Lab for Littles
DESCRIPTION:This event is included with admission.
URL:https://bluewaterparent.com/event/discovery-lab-for-littles/2027-09-29/
LOCATION:Discovery City Children’s Museum\, 317 Grand River Avenue\, Port huron\, MI\, 48060
END:VEVENT
BEGIN:VEVENT
DTSTART;TZID=America/New_York:20271001T080000
DTEND;TZID=America/New_York:20271001T170000
DTSTAMP:20260420T010618
CREATED:20260419T012510Z
LAST-MODIFIED:20260419T012510Z
UID:10026539-1822377600-1822410000@bluewaterparent.com
SUMMARY:Discovery Lab for Littles
DESCRIPTION:This event is included with admission.
URL:https://bluewaterparent.com/event/discovery-lab-for-littles/2027-10-01/
LOCATION:Discovery City Children’s Museum\, 317 Grand River Avenue\, Port huron\, MI\, 48060
END:VEVENT
BEGIN:VEVENT
DTSTART;TZID=America/New_York:20271006T080000
DTEND;TZID=America/New_York:20271006T170000
DTSTAMP:20260420T010618
CREATED:20260419T012510Z
LAST-MODIFIED:20260419T012510Z
UID:10026540-1822809600-1822842000@bluewaterparent.com
SUMMARY:Discovery Lab for Littles
DESCRIPTION:This event is included with admission.
URL:https://bluewaterparent.com/event/discovery-lab-for-littles/2027-10-06/
LOCATION:Discovery City Children’s Museum\, 317 Grand River Avenue\, Port huron\, MI\, 48060
END:VEVENT
BEGIN:VEVENT
DTSTART;TZID=America/New_York:20271008T080000
DTEND;TZID=America/New_York:20271008T170000
DTSTAMP:20260420T010618
CREATED:20260419T012510Z
LAST-MODIFIED:20260419T012510Z
UID:10026541-1822982400-1823014800@bluewaterparent.com
SUMMARY:Discovery Lab for Littles
DESCRIPTION:This event is included with admission.
URL:https://bluewaterparent.com/event/discovery-lab-for-littles/2027-10-08/
LOCATION:Discovery City Children’s Museum\, 317 Grand River Avenue\, Port huron\, MI\, 48060
END:VEVENT
BEGIN:VEVENT
DTSTART;TZID=America/New_York:20271013T080000
DTEND;TZID=America/New_York:20271013T170000
DTSTAMP:20260420T010618
CREATED:20260419T012510Z
LAST-MODIFIED:20260419T012510Z
UID:10026542-1823414400-1823446800@bluewaterparent.com
SUMMARY:Discovery Lab for Littles
DESCRIPTION:This event is included with admission.
URL:https://bluewaterparent.com/event/discovery-lab-for-littles/2027-10-13/
LOCATION:Discovery City Children’s Museum\, 317 Grand River Avenue\, Port huron\, MI\, 48060
END:VEVENT
BEGIN:VEVENT
DTSTART;TZID=America/New_York:20271015T080000
DTEND;TZID=America/New_York:20271015T170000
DTSTAMP:20260420T010618
CREATED:20260419T012510Z
LAST-MODIFIED:20260419T012510Z
UID:10026543-1823587200-1823619600@bluewaterparent.com
SUMMARY:Discovery Lab for Littles
DESCRIPTION:This event is included with admission.
URL:https://bluewaterparent.com/event/discovery-lab-for-littles/2027-10-15/
LOCATION:Discovery City Children’s Museum\, 317 Grand River Avenue\, Port huron\, MI\, 48060
END:VEVENT
BEGIN:VEVENT
DTSTART;TZID=America/New_York:20271020T080000
DTEND;TZID=America/New_York:20271020T170000
DTSTAMP:20260420T010618
CREATED:20260419T012510Z
LAST-MODIFIED:20260419T012510Z
UID:10026544-1824019200-1824051600@bluewaterparent.com
SUMMARY:Discovery Lab for Littles
DESCRIPTION:This event is included with admission.
URL:https://bluewaterparent.com/event/discovery-lab-for-littles/2027-10-20/
LOCATION:Discovery City Children’s Museum\, 317 Grand River Avenue\, Port huron\, MI\, 48060
END:VEVENT
BEGIN:VEVENT
DTSTART;TZID=America/New_York:20271022T080000
DTEND;TZID=America/New_York:20271022T170000
DTSTAMP:20260420T010618
CREATED:20260419T012510Z
LAST-MODIFIED:20260419T012510Z
UID:10026545-1824192000-1824224400@bluewaterparent.com
SUMMARY:Discovery Lab for Littles
DESCRIPTION:This event is included with admission.
URL:https://bluewaterparent.com/event/discovery-lab-for-littles/2027-10-22/
LOCATION:Discovery City Children’s Museum\, 317 Grand River Avenue\, Port huron\, MI\, 48060
END:VEVENT
BEGIN:VEVENT
DTSTART;TZID=America/New_York:20271027T080000
DTEND;TZID=America/New_York:20271027T170000
DTSTAMP:20260420T010618
CREATED:20260419T012510Z
LAST-MODIFIED:20260419T012510Z
UID:10026546-1824624000-1824656400@bluewaterparent.com
SUMMARY:Discovery Lab for Littles
DESCRIPTION:This event is included with admission.
URL:https://bluewaterparent.com/event/discovery-lab-for-littles/2027-10-27/
LOCATION:Discovery City Children’s Museum\, 317 Grand River Avenue\, Port huron\, MI\, 48060
END:VEVENT
BEGIN:VEVENT
DTSTART;TZID=America/New_York:20271029T080000
DTEND;TZID=America/New_York:20271029T170000
DTSTAMP:20260420T010618
CREATED:20260419T012510Z
LAST-MODIFIED:20260419T012510Z
UID:10026547-1824796800-1824829200@bluewaterparent.com
SUMMARY:Discovery Lab for Littles
DESCRIPTION:This event is included with admission.
URL:https://bluewaterparent.com/event/discovery-lab-for-littles/2027-10-29/
LOCATION:Discovery City Children’s Museum\, 317 Grand River Avenue\, Port huron\, MI\, 48060
END:VEVENT
BEGIN:VEVENT
DTSTART;TZID=America/New_York:20271103T080000
DTEND;TZID=America/New_York:20271103T170000
DTSTAMP:20260420T010618
CREATED:20260419T012510Z
LAST-MODIFIED:20260419T012510Z
UID:10026548-1825228800-1825261200@bluewaterparent.com
SUMMARY:Discovery Lab for Littles
DESCRIPTION:This event is included with admission.
URL:https://bluewaterparent.com/event/discovery-lab-for-littles/2027-11-03/
LOCATION:Discovery City Children’s Museum\, 317 Grand River Avenue\, Port huron\, MI\, 48060
END:VEVENT
BEGIN:VEVENT
DTSTART;TZID=America/New_York:20271105T080000
DTEND;TZID=America/New_York:20271105T170000
DTSTAMP:20260420T010618
CREATED:20260419T012510Z
LAST-MODIFIED:20260419T012510Z
UID:10026549-1825401600-1825434000@bluewaterparent.com
SUMMARY:Discovery Lab for Littles
DESCRIPTION:This event is included with admission.
URL:https://bluewaterparent.com/event/discovery-lab-for-littles/2027-11-05/
LOCATION:Discovery City Children’s Museum\, 317 Grand River Avenue\, Port huron\, MI\, 48060
END:VEVENT
BEGIN:VEVENT
DTSTART;TZID=America/New_York:20271110T080000
DTEND;TZID=America/New_York:20271110T170000
DTSTAMP:20260420T010618
CREATED:20260419T012510Z
LAST-MODIFIED:20260419T012510Z
UID:10026550-1825833600-1825866000@bluewaterparent.com
SUMMARY:Discovery Lab for Littles
DESCRIPTION:This event is included with admission.
URL:https://bluewaterparent.com/event/discovery-lab-for-littles/2027-11-10/
LOCATION:Discovery City Children’s Museum\, 317 Grand River Avenue\, Port huron\, MI\, 48060
END:VEVENT
BEGIN:VEVENT
DTSTART;TZID=America/New_York:20271112T080000
DTEND;TZID=America/New_York:20271112T170000
DTSTAMP:20260420T010618
CREATED:20260419T012510Z
LAST-MODIFIED:20260419T012510Z
UID:10026551-1826006400-1826038800@bluewaterparent.com
SUMMARY:Discovery Lab for Littles
DESCRIPTION:This event is included with admission.
URL:https://bluewaterparent.com/event/discovery-lab-for-littles/2027-11-12/
LOCATION:Discovery City Children’s Museum\, 317 Grand River Avenue\, Port huron\, MI\, 48060
END:VEVENT
BEGIN:VEVENT
DTSTART;TZID=America/New_York:20271117T080000
DTEND;TZID=America/New_York:20271117T170000
DTSTAMP:20260420T010618
CREATED:20260419T012510Z
LAST-MODIFIED:20260419T012510Z
UID:10026552-1826438400-1826470800@bluewaterparent.com
SUMMARY:Discovery Lab for Littles
DESCRIPTION:This event is included with admission.
URL:https://bluewaterparent.com/event/discovery-lab-for-littles/2027-11-17/
LOCATION:Discovery City Children’s Museum\, 317 Grand River Avenue\, Port huron\, MI\, 48060
END:VEVENT
END:VCALENDAR