BEGIN:VCALENDAR
VERSION:2.0
PRODID:-//BlueWaterParent.com - ECPv6.15.20//NONSGML v1.0//EN
CALSCALE:GREGORIAN
METHOD:PUBLISH
X-ORIGINAL-URL:https://bluewaterparent.com
X-WR-CALDESC:Events for BlueWaterParent.com
REFRESH-INTERVAL;VALUE=DURATION:PT1H
X-Robots-Tag:noindex
X-PUBLISHED-TTL:PT1H
BEGIN:VTIMEZONE
TZID:America/New_York
BEGIN:DAYLIGHT
TZOFFSETFROM:-0500
TZOFFSETTO:-0400
TZNAME:EDT
DTSTART:20260308T070000
END:DAYLIGHT
BEGIN:STANDARD
TZOFFSETFROM:-0400
TZOFFSETTO:-0500
TZNAME:EST
DTSTART:20261101T060000
END:STANDARD
BEGIN:DAYLIGHT
TZOFFSETFROM:-0500
TZOFFSETTO:-0400
TZNAME:EDT
DTSTART:20270314T070000
END:DAYLIGHT
BEGIN:STANDARD
TZOFFSETFROM:-0400
TZOFFSETTO:-0500
TZNAME:EST
DTSTART:20271107T060000
END:STANDARD
BEGIN:DAYLIGHT
TZOFFSETFROM:-0500
TZOFFSETTO:-0400
TZNAME:EDT
DTSTART:20280312T070000
END:DAYLIGHT
BEGIN:STANDARD
TZOFFSETFROM:-0400
TZOFFSETTO:-0500
TZNAME:EST
DTSTART:20281105T060000
END:STANDARD
END:VTIMEZONE
BEGIN:VEVENT
DTSTART;TZID=America/New_York:20270303T080000
DTEND;TZID=America/New_York:20270303T170000
DTSTAMP:20260419T185352
CREATED:20260419T012510Z
LAST-MODIFIED:20260419T012510Z
UID:10026478-1804060800-1804093200@bluewaterparent.com
SUMMARY:Discovery Lab for Littles
DESCRIPTION:This event is included with admission.
URL:https://bluewaterparent.com/event/discovery-lab-for-littles/2027-03-03/
LOCATION:Discovery City Children’s Museum\, 317 Grand River Avenue\, Port huron\, MI\, 48060
END:VEVENT
BEGIN:VEVENT
DTSTART;TZID=America/New_York:20270305T080000
DTEND;TZID=America/New_York:20270305T170000
DTSTAMP:20260419T185352
CREATED:20260419T012510Z
LAST-MODIFIED:20260419T012510Z
UID:10026479-1804233600-1804266000@bluewaterparent.com
SUMMARY:Discovery Lab for Littles
DESCRIPTION:This event is included with admission.
URL:https://bluewaterparent.com/event/discovery-lab-for-littles/2027-03-05/
LOCATION:Discovery City Children’s Museum\, 317 Grand River Avenue\, Port huron\, MI\, 48060
END:VEVENT
BEGIN:VEVENT
DTSTART;TZID=America/New_York:20270310T080000
DTEND;TZID=America/New_York:20270310T170000
DTSTAMP:20260419T185352
CREATED:20260419T012510Z
LAST-MODIFIED:20260419T012510Z
UID:10026480-1804665600-1804698000@bluewaterparent.com
SUMMARY:Discovery Lab for Littles
DESCRIPTION:This event is included with admission.
URL:https://bluewaterparent.com/event/discovery-lab-for-littles/2027-03-10/
LOCATION:Discovery City Children’s Museum\, 317 Grand River Avenue\, Port huron\, MI\, 48060
END:VEVENT
BEGIN:VEVENT
DTSTART;TZID=America/New_York:20270312T080000
DTEND;TZID=America/New_York:20270312T170000
DTSTAMP:20260419T185352
CREATED:20260419T012510Z
LAST-MODIFIED:20260419T012510Z
UID:10026481-1804838400-1804870800@bluewaterparent.com
SUMMARY:Discovery Lab for Littles
DESCRIPTION:This event is included with admission.
URL:https://bluewaterparent.com/event/discovery-lab-for-littles/2027-03-12/
LOCATION:Discovery City Children’s Museum\, 317 Grand River Avenue\, Port huron\, MI\, 48060
END:VEVENT
BEGIN:VEVENT
DTSTART;TZID=America/New_York:20270317T080000
DTEND;TZID=America/New_York:20270317T170000
DTSTAMP:20260419T185352
CREATED:20260419T012510Z
LAST-MODIFIED:20260419T012510Z
UID:10026482-1805270400-1805302800@bluewaterparent.com
SUMMARY:Discovery Lab for Littles
DESCRIPTION:This event is included with admission.
URL:https://bluewaterparent.com/event/discovery-lab-for-littles/2027-03-17/
LOCATION:Discovery City Children’s Museum\, 317 Grand River Avenue\, Port huron\, MI\, 48060
END:VEVENT
BEGIN:VEVENT
DTSTART;TZID=America/New_York:20270319T080000
DTEND;TZID=America/New_York:20270319T170000
DTSTAMP:20260419T185352
CREATED:20260419T012510Z
LAST-MODIFIED:20260419T012510Z
UID:10026483-1805443200-1805475600@bluewaterparent.com
SUMMARY:Discovery Lab for Littles
DESCRIPTION:This event is included with admission.
URL:https://bluewaterparent.com/event/discovery-lab-for-littles/2027-03-19/
LOCATION:Discovery City Children’s Museum\, 317 Grand River Avenue\, Port huron\, MI\, 48060
END:VEVENT
BEGIN:VEVENT
DTSTART;TZID=America/New_York:20270324T080000
DTEND;TZID=America/New_York:20270324T170000
DTSTAMP:20260419T185352
CREATED:20260419T012510Z
LAST-MODIFIED:20260419T012510Z
UID:10026484-1805875200-1805907600@bluewaterparent.com
SUMMARY:Discovery Lab for Littles
DESCRIPTION:This event is included with admission.
URL:https://bluewaterparent.com/event/discovery-lab-for-littles/2027-03-24/
LOCATION:Discovery City Children’s Museum\, 317 Grand River Avenue\, Port huron\, MI\, 48060
END:VEVENT
BEGIN:VEVENT
DTSTART;TZID=America/New_York:20270326T080000
DTEND;TZID=America/New_York:20270326T170000
DTSTAMP:20260419T185352
CREATED:20260419T012510Z
LAST-MODIFIED:20260419T012510Z
UID:10026485-1806048000-1806080400@bluewaterparent.com
SUMMARY:Discovery Lab for Littles
DESCRIPTION:This event is included with admission.
URL:https://bluewaterparent.com/event/discovery-lab-for-littles/2027-03-26/
LOCATION:Discovery City Children’s Museum\, 317 Grand River Avenue\, Port huron\, MI\, 48060
END:VEVENT
BEGIN:VEVENT
DTSTART;TZID=America/New_York:20270331T080000
DTEND;TZID=America/New_York:20270331T170000
DTSTAMP:20260419T185352
CREATED:20260419T012510Z
LAST-MODIFIED:20260419T012510Z
UID:10026486-1806480000-1806512400@bluewaterparent.com
SUMMARY:Discovery Lab for Littles
DESCRIPTION:This event is included with admission.
URL:https://bluewaterparent.com/event/discovery-lab-for-littles/2027-03-31/
LOCATION:Discovery City Children’s Museum\, 317 Grand River Avenue\, Port huron\, MI\, 48060
END:VEVENT
BEGIN:VEVENT
DTSTART;TZID=America/New_York:20270402T080000
DTEND;TZID=America/New_York:20270402T170000
DTSTAMP:20260419T185352
CREATED:20260419T012510Z
LAST-MODIFIED:20260419T012510Z
UID:10026487-1806652800-1806685200@bluewaterparent.com
SUMMARY:Discovery Lab for Littles
DESCRIPTION:This event is included with admission.
URL:https://bluewaterparent.com/event/discovery-lab-for-littles/2027-04-02/
LOCATION:Discovery City Children’s Museum\, 317 Grand River Avenue\, Port huron\, MI\, 48060
END:VEVENT
BEGIN:VEVENT
DTSTART;TZID=America/New_York:20270407T080000
DTEND;TZID=America/New_York:20270407T170000
DTSTAMP:20260419T185352
CREATED:20260419T012510Z
LAST-MODIFIED:20260419T012510Z
UID:10026488-1807084800-1807117200@bluewaterparent.com
SUMMARY:Discovery Lab for Littles
DESCRIPTION:This event is included with admission.
URL:https://bluewaterparent.com/event/discovery-lab-for-littles/2027-04-07/
LOCATION:Discovery City Children’s Museum\, 317 Grand River Avenue\, Port huron\, MI\, 48060
END:VEVENT
BEGIN:VEVENT
DTSTART;TZID=America/New_York:20270409T080000
DTEND;TZID=America/New_York:20270409T170000
DTSTAMP:20260419T185352
CREATED:20260419T012510Z
LAST-MODIFIED:20260419T012510Z
UID:10026489-1807257600-1807290000@bluewaterparent.com
SUMMARY:Discovery Lab for Littles
DESCRIPTION:This event is included with admission.
URL:https://bluewaterparent.com/event/discovery-lab-for-littles/2027-04-09/
LOCATION:Discovery City Children’s Museum\, 317 Grand River Avenue\, Port huron\, MI\, 48060
END:VEVENT
BEGIN:VEVENT
DTSTART;TZID=America/New_York:20270414T080000
DTEND;TZID=America/New_York:20270414T170000
DTSTAMP:20260419T185352
CREATED:20260419T012510Z
LAST-MODIFIED:20260419T012510Z
UID:10026490-1807689600-1807722000@bluewaterparent.com
SUMMARY:Discovery Lab for Littles
DESCRIPTION:This event is included with admission.
URL:https://bluewaterparent.com/event/discovery-lab-for-littles/2027-04-14/
LOCATION:Discovery City Children’s Museum\, 317 Grand River Avenue\, Port huron\, MI\, 48060
END:VEVENT
BEGIN:VEVENT
DTSTART;TZID=America/New_York:20270416T080000
DTEND;TZID=America/New_York:20270416T170000
DTSTAMP:20260419T185352
CREATED:20260419T012510Z
LAST-MODIFIED:20260419T012510Z
UID:10026491-1807862400-1807894800@bluewaterparent.com
SUMMARY:Discovery Lab for Littles
DESCRIPTION:This event is included with admission.
URL:https://bluewaterparent.com/event/discovery-lab-for-littles/2027-04-16/
LOCATION:Discovery City Children’s Museum\, 317 Grand River Avenue\, Port huron\, MI\, 48060
END:VEVENT
BEGIN:VEVENT
DTSTART;TZID=America/New_York:20270421T080000
DTEND;TZID=America/New_York:20270421T170000
DTSTAMP:20260419T185352
CREATED:20260419T012510Z
LAST-MODIFIED:20260419T012510Z
UID:10026492-1808294400-1808326800@bluewaterparent.com
SUMMARY:Discovery Lab for Littles
DESCRIPTION:This event is included with admission.
URL:https://bluewaterparent.com/event/discovery-lab-for-littles/2027-04-21/
LOCATION:Discovery City Children’s Museum\, 317 Grand River Avenue\, Port huron\, MI\, 48060
END:VEVENT
BEGIN:VEVENT
DTSTART;TZID=America/New_York:20270423T080000
DTEND;TZID=America/New_York:20270423T170000
DTSTAMP:20260419T185352
CREATED:20260419T012510Z
LAST-MODIFIED:20260419T012510Z
UID:10026493-1808467200-1808499600@bluewaterparent.com
SUMMARY:Discovery Lab for Littles
DESCRIPTION:This event is included with admission.
URL:https://bluewaterparent.com/event/discovery-lab-for-littles/2027-04-23/
LOCATION:Discovery City Children’s Museum\, 317 Grand River Avenue\, Port huron\, MI\, 48060
END:VEVENT
BEGIN:VEVENT
DTSTART;TZID=America/New_York:20270428T080000
DTEND;TZID=America/New_York:20270428T170000
DTSTAMP:20260419T185352
CREATED:20260419T012510Z
LAST-MODIFIED:20260419T012510Z
UID:10026494-1808899200-1808931600@bluewaterparent.com
SUMMARY:Discovery Lab for Littles
DESCRIPTION:This event is included with admission.
URL:https://bluewaterparent.com/event/discovery-lab-for-littles/2027-04-28/
LOCATION:Discovery City Children’s Museum\, 317 Grand River Avenue\, Port huron\, MI\, 48060
END:VEVENT
BEGIN:VEVENT
DTSTART;TZID=America/New_York:20270430T080000
DTEND;TZID=America/New_York:20270430T170000
DTSTAMP:20260419T185352
CREATED:20260419T012510Z
LAST-MODIFIED:20260419T012510Z
UID:10026495-1809072000-1809104400@bluewaterparent.com
SUMMARY:Discovery Lab for Littles
DESCRIPTION:This event is included with admission.
URL:https://bluewaterparent.com/event/discovery-lab-for-littles/2027-04-30/
LOCATION:Discovery City Children’s Museum\, 317 Grand River Avenue\, Port huron\, MI\, 48060
END:VEVENT
BEGIN:VEVENT
DTSTART;TZID=America/New_York:20270505T080000
DTEND;TZID=America/New_York:20270505T170000
DTSTAMP:20260419T185352
CREATED:20260419T012510Z
LAST-MODIFIED:20260419T012510Z
UID:10026496-1809504000-1809536400@bluewaterparent.com
SUMMARY:Discovery Lab for Littles
DESCRIPTION:This event is included with admission.
URL:https://bluewaterparent.com/event/discovery-lab-for-littles/2027-05-05/
LOCATION:Discovery City Children’s Museum\, 317 Grand River Avenue\, Port huron\, MI\, 48060
END:VEVENT
BEGIN:VEVENT
DTSTART;TZID=America/New_York:20270507T080000
DTEND;TZID=America/New_York:20270507T170000
DTSTAMP:20260419T185352
CREATED:20260419T012510Z
LAST-MODIFIED:20260419T012510Z
UID:10026497-1809676800-1809709200@bluewaterparent.com
SUMMARY:Discovery Lab for Littles
DESCRIPTION:This event is included with admission.
URL:https://bluewaterparent.com/event/discovery-lab-for-littles/2027-05-07/
LOCATION:Discovery City Children’s Museum\, 317 Grand River Avenue\, Port huron\, MI\, 48060
END:VEVENT
BEGIN:VEVENT
DTSTART;TZID=America/New_York:20270512T080000
DTEND;TZID=America/New_York:20270512T170000
DTSTAMP:20260419T185352
CREATED:20260419T012510Z
LAST-MODIFIED:20260419T012510Z
UID:10026498-1810108800-1810141200@bluewaterparent.com
SUMMARY:Discovery Lab for Littles
DESCRIPTION:This event is included with admission.
URL:https://bluewaterparent.com/event/discovery-lab-for-littles/2027-05-12/
LOCATION:Discovery City Children’s Museum\, 317 Grand River Avenue\, Port huron\, MI\, 48060
END:VEVENT
BEGIN:VEVENT
DTSTART;TZID=America/New_York:20270514T080000
DTEND;TZID=America/New_York:20270514T170000
DTSTAMP:20260419T185352
CREATED:20260419T012510Z
LAST-MODIFIED:20260419T012510Z
UID:10026499-1810281600-1810314000@bluewaterparent.com
SUMMARY:Discovery Lab for Littles
DESCRIPTION:This event is included with admission.
URL:https://bluewaterparent.com/event/discovery-lab-for-littles/2027-05-14/
LOCATION:Discovery City Children’s Museum\, 317 Grand River Avenue\, Port huron\, MI\, 48060
END:VEVENT
BEGIN:VEVENT
DTSTART;TZID=America/New_York:20270519T080000
DTEND;TZID=America/New_York:20270519T170000
DTSTAMP:20260419T185352
CREATED:20260419T012510Z
LAST-MODIFIED:20260419T012510Z
UID:10026500-1810713600-1810746000@bluewaterparent.com
SUMMARY:Discovery Lab for Littles
DESCRIPTION:This event is included with admission.
URL:https://bluewaterparent.com/event/discovery-lab-for-littles/2027-05-19/
LOCATION:Discovery City Children’s Museum\, 317 Grand River Avenue\, Port huron\, MI\, 48060
END:VEVENT
BEGIN:VEVENT
DTSTART;TZID=America/New_York:20270521T080000
DTEND;TZID=America/New_York:20270521T170000
DTSTAMP:20260419T185352
CREATED:20260419T012510Z
LAST-MODIFIED:20260419T012510Z
UID:10026501-1810886400-1810918800@bluewaterparent.com
SUMMARY:Discovery Lab for Littles
DESCRIPTION:This event is included with admission.
URL:https://bluewaterparent.com/event/discovery-lab-for-littles/2027-05-21/
LOCATION:Discovery City Children’s Museum\, 317 Grand River Avenue\, Port huron\, MI\, 48060
END:VEVENT
BEGIN:VEVENT
DTSTART;TZID=America/New_York:20270526T080000
DTEND;TZID=America/New_York:20270526T170000
DTSTAMP:20260419T185352
CREATED:20260419T012510Z
LAST-MODIFIED:20260419T012510Z
UID:10026502-1811318400-1811350800@bluewaterparent.com
SUMMARY:Discovery Lab for Littles
DESCRIPTION:This event is included with admission.
URL:https://bluewaterparent.com/event/discovery-lab-for-littles/2027-05-26/
LOCATION:Discovery City Children’s Museum\, 317 Grand River Avenue\, Port huron\, MI\, 48060
END:VEVENT
BEGIN:VEVENT
DTSTART;TZID=America/New_York:20270528T080000
DTEND;TZID=America/New_York:20270528T170000
DTSTAMP:20260419T185352
CREATED:20260419T012510Z
LAST-MODIFIED:20260419T012510Z
UID:10026503-1811491200-1811523600@bluewaterparent.com
SUMMARY:Discovery Lab for Littles
DESCRIPTION:This event is included with admission.
URL:https://bluewaterparent.com/event/discovery-lab-for-littles/2027-05-28/
LOCATION:Discovery City Children’s Museum\, 317 Grand River Avenue\, Port huron\, MI\, 48060
END:VEVENT
BEGIN:VEVENT
DTSTART;TZID=America/New_York:20270602T080000
DTEND;TZID=America/New_York:20270602T170000
DTSTAMP:20260419T185352
CREATED:20260419T012510Z
LAST-MODIFIED:20260419T012510Z
UID:10026504-1811923200-1811955600@bluewaterparent.com
SUMMARY:Discovery Lab for Littles
DESCRIPTION:This event is included with admission.
URL:https://bluewaterparent.com/event/discovery-lab-for-littles/2027-06-02/
LOCATION:Discovery City Children’s Museum\, 317 Grand River Avenue\, Port huron\, MI\, 48060
END:VEVENT
BEGIN:VEVENT
DTSTART;TZID=America/New_York:20270604T080000
DTEND;TZID=America/New_York:20270604T170000
DTSTAMP:20260419T185352
CREATED:20260419T012510Z
LAST-MODIFIED:20260419T012510Z
UID:10026505-1812096000-1812128400@bluewaterparent.com
SUMMARY:Discovery Lab for Littles
DESCRIPTION:This event is included with admission.
URL:https://bluewaterparent.com/event/discovery-lab-for-littles/2027-06-04/
LOCATION:Discovery City Children’s Museum\, 317 Grand River Avenue\, Port huron\, MI\, 48060
END:VEVENT
BEGIN:VEVENT
DTSTART;TZID=America/New_York:20270609T080000
DTEND;TZID=America/New_York:20270609T170000
DTSTAMP:20260419T185352
CREATED:20260419T012510Z
LAST-MODIFIED:20260419T012510Z
UID:10026506-1812528000-1812560400@bluewaterparent.com
SUMMARY:Discovery Lab for Littles
DESCRIPTION:This event is included with admission.
URL:https://bluewaterparent.com/event/discovery-lab-for-littles/2027-06-09/
LOCATION:Discovery City Children’s Museum\, 317 Grand River Avenue\, Port huron\, MI\, 48060
END:VEVENT
BEGIN:VEVENT
DTSTART;TZID=America/New_York:20270611T080000
DTEND;TZID=America/New_York:20270611T170000
DTSTAMP:20260419T185352
CREATED:20260419T012510Z
LAST-MODIFIED:20260419T012510Z
UID:10026507-1812700800-1812733200@bluewaterparent.com
SUMMARY:Discovery Lab for Littles
DESCRIPTION:This event is included with admission.
URL:https://bluewaterparent.com/event/discovery-lab-for-littles/2027-06-11/
LOCATION:Discovery City Children’s Museum\, 317 Grand River Avenue\, Port huron\, MI\, 48060
END:VEVENT
END:VCALENDAR