BEGIN:VCALENDAR
VERSION:2.0
PRODID:-//BlueWaterParent.com - ECPv6.15.20//NONSGML v1.0//EN
CALSCALE:GREGORIAN
METHOD:PUBLISH
X-ORIGINAL-URL:https://bluewaterparent.com
X-WR-CALDESC:Events for BlueWaterParent.com
REFRESH-INTERVAL;VALUE=DURATION:PT1H
X-Robots-Tag:noindex
X-PUBLISHED-TTL:PT1H
BEGIN:VTIMEZONE
TZID:America/New_York
BEGIN:DAYLIGHT
TZOFFSETFROM:-0500
TZOFFSETTO:-0400
TZNAME:EDT
DTSTART:20290311T070000
END:DAYLIGHT
BEGIN:STANDARD
TZOFFSETFROM:-0400
TZOFFSETTO:-0500
TZNAME:EST
DTSTART:20291104T060000
END:STANDARD
BEGIN:DAYLIGHT
TZOFFSETFROM:-0500
TZOFFSETTO:-0400
TZNAME:EDT
DTSTART:20300310T070000
END:DAYLIGHT
BEGIN:STANDARD
TZOFFSETFROM:-0400
TZOFFSETTO:-0500
TZNAME:EST
DTSTART:20301103T060000
END:STANDARD
BEGIN:DAYLIGHT
TZOFFSETFROM:-0500
TZOFFSETTO:-0400
TZNAME:EDT
DTSTART:20310309T070000
END:DAYLIGHT
BEGIN:STANDARD
TZOFFSETFROM:-0400
TZOFFSETTO:-0500
TZNAME:EST
DTSTART:20311102T060000
END:STANDARD
END:VTIMEZONE
BEGIN:VEVENT
DTSTART;TZID=America/New_York:20300814T080000
DTEND;TZID=America/New_York:20300814T170000
DTSTAMP:20260420T225720
CREATED:20260419T012510Z
LAST-MODIFIED:20260419T012510Z
UID:10026838-1912924800-1912957200@bluewaterparent.com
SUMMARY:Discovery Lab for Littles
DESCRIPTION:This event is included with admission.
URL:https://bluewaterparent.com/event/discovery-lab-for-littles/2030-08-14/
LOCATION:Discovery City Children’s Museum\, 317 Grand River Avenue\, Port huron\, MI\, 48060
END:VEVENT
BEGIN:VEVENT
DTSTART;TZID=America/New_York:20300816T080000
DTEND;TZID=America/New_York:20300816T170000
DTSTAMP:20260420T225720
CREATED:20260419T012510Z
LAST-MODIFIED:20260419T012510Z
UID:10026839-1913097600-1913130000@bluewaterparent.com
SUMMARY:Discovery Lab for Littles
DESCRIPTION:This event is included with admission.
URL:https://bluewaterparent.com/event/discovery-lab-for-littles/2030-08-16/
LOCATION:Discovery City Children’s Museum\, 317 Grand River Avenue\, Port huron\, MI\, 48060
END:VEVENT
BEGIN:VEVENT
DTSTART;TZID=America/New_York:20300821T080000
DTEND;TZID=America/New_York:20300821T170000
DTSTAMP:20260420T225720
CREATED:20260419T012510Z
LAST-MODIFIED:20260419T012510Z
UID:10026840-1913529600-1913562000@bluewaterparent.com
SUMMARY:Discovery Lab for Littles
DESCRIPTION:This event is included with admission.
URL:https://bluewaterparent.com/event/discovery-lab-for-littles/2030-08-21/
LOCATION:Discovery City Children’s Museum\, 317 Grand River Avenue\, Port huron\, MI\, 48060
END:VEVENT
BEGIN:VEVENT
DTSTART;TZID=America/New_York:20300823T080000
DTEND;TZID=America/New_York:20300823T170000
DTSTAMP:20260420T225720
CREATED:20260419T012510Z
LAST-MODIFIED:20260419T012510Z
UID:10026841-1913702400-1913734800@bluewaterparent.com
SUMMARY:Discovery Lab for Littles
DESCRIPTION:This event is included with admission.
URL:https://bluewaterparent.com/event/discovery-lab-for-littles/2030-08-23/
LOCATION:Discovery City Children’s Museum\, 317 Grand River Avenue\, Port huron\, MI\, 48060
END:VEVENT
BEGIN:VEVENT
DTSTART;TZID=America/New_York:20300828T080000
DTEND;TZID=America/New_York:20300828T170000
DTSTAMP:20260420T225720
CREATED:20260419T012510Z
LAST-MODIFIED:20260419T012510Z
UID:10026842-1914134400-1914166800@bluewaterparent.com
SUMMARY:Discovery Lab for Littles
DESCRIPTION:This event is included with admission.
URL:https://bluewaterparent.com/event/discovery-lab-for-littles/2030-08-28/
LOCATION:Discovery City Children’s Museum\, 317 Grand River Avenue\, Port huron\, MI\, 48060
END:VEVENT
BEGIN:VEVENT
DTSTART;TZID=America/New_York:20300830T080000
DTEND;TZID=America/New_York:20300830T170000
DTSTAMP:20260420T225720
CREATED:20260419T012510Z
LAST-MODIFIED:20260419T012510Z
UID:10026843-1914307200-1914339600@bluewaterparent.com
SUMMARY:Discovery Lab for Littles
DESCRIPTION:This event is included with admission.
URL:https://bluewaterparent.com/event/discovery-lab-for-littles/2030-08-30/
LOCATION:Discovery City Children’s Museum\, 317 Grand River Avenue\, Port huron\, MI\, 48060
END:VEVENT
BEGIN:VEVENT
DTSTART;TZID=America/New_York:20300904T080000
DTEND;TZID=America/New_York:20300904T170000
DTSTAMP:20260420T225720
CREATED:20260419T012510Z
LAST-MODIFIED:20260419T012510Z
UID:10026844-1914739200-1914771600@bluewaterparent.com
SUMMARY:Discovery Lab for Littles
DESCRIPTION:This event is included with admission.
URL:https://bluewaterparent.com/event/discovery-lab-for-littles/2030-09-04/
LOCATION:Discovery City Children’s Museum\, 317 Grand River Avenue\, Port huron\, MI\, 48060
END:VEVENT
BEGIN:VEVENT
DTSTART;TZID=America/New_York:20300906T080000
DTEND;TZID=America/New_York:20300906T170000
DTSTAMP:20260420T225720
CREATED:20260419T012510Z
LAST-MODIFIED:20260419T012510Z
UID:10026845-1914912000-1914944400@bluewaterparent.com
SUMMARY:Discovery Lab for Littles
DESCRIPTION:This event is included with admission.
URL:https://bluewaterparent.com/event/discovery-lab-for-littles/2030-09-06/
LOCATION:Discovery City Children’s Museum\, 317 Grand River Avenue\, Port huron\, MI\, 48060
END:VEVENT
BEGIN:VEVENT
DTSTART;TZID=America/New_York:20300911T080000
DTEND;TZID=America/New_York:20300911T170000
DTSTAMP:20260420T225720
CREATED:20260419T012510Z
LAST-MODIFIED:20260419T012510Z
UID:10026846-1915344000-1915376400@bluewaterparent.com
SUMMARY:Discovery Lab for Littles
DESCRIPTION:This event is included with admission.
URL:https://bluewaterparent.com/event/discovery-lab-for-littles/2030-09-11/
LOCATION:Discovery City Children’s Museum\, 317 Grand River Avenue\, Port huron\, MI\, 48060
END:VEVENT
BEGIN:VEVENT
DTSTART;TZID=America/New_York:20300913T080000
DTEND;TZID=America/New_York:20300913T170000
DTSTAMP:20260420T225720
CREATED:20260419T012510Z
LAST-MODIFIED:20260419T012510Z
UID:10026847-1915516800-1915549200@bluewaterparent.com
SUMMARY:Discovery Lab for Littles
DESCRIPTION:This event is included with admission.
URL:https://bluewaterparent.com/event/discovery-lab-for-littles/2030-09-13/
LOCATION:Discovery City Children’s Museum\, 317 Grand River Avenue\, Port huron\, MI\, 48060
END:VEVENT
BEGIN:VEVENT
DTSTART;TZID=America/New_York:20300918T080000
DTEND;TZID=America/New_York:20300918T170000
DTSTAMP:20260420T225720
CREATED:20260419T012510Z
LAST-MODIFIED:20260419T012510Z
UID:10026848-1915948800-1915981200@bluewaterparent.com
SUMMARY:Discovery Lab for Littles
DESCRIPTION:This event is included with admission.
URL:https://bluewaterparent.com/event/discovery-lab-for-littles/2030-09-18/
LOCATION:Discovery City Children’s Museum\, 317 Grand River Avenue\, Port huron\, MI\, 48060
END:VEVENT
BEGIN:VEVENT
DTSTART;TZID=America/New_York:20300920T080000
DTEND;TZID=America/New_York:20300920T170000
DTSTAMP:20260420T225720
CREATED:20260419T012510Z
LAST-MODIFIED:20260419T012510Z
UID:10026849-1916121600-1916154000@bluewaterparent.com
SUMMARY:Discovery Lab for Littles
DESCRIPTION:This event is included with admission.
URL:https://bluewaterparent.com/event/discovery-lab-for-littles/2030-09-20/
LOCATION:Discovery City Children’s Museum\, 317 Grand River Avenue\, Port huron\, MI\, 48060
END:VEVENT
BEGIN:VEVENT
DTSTART;TZID=America/New_York:20300925T080000
DTEND;TZID=America/New_York:20300925T170000
DTSTAMP:20260420T225720
CREATED:20260419T012510Z
LAST-MODIFIED:20260419T012510Z
UID:10026850-1916553600-1916586000@bluewaterparent.com
SUMMARY:Discovery Lab for Littles
DESCRIPTION:This event is included with admission.
URL:https://bluewaterparent.com/event/discovery-lab-for-littles/2030-09-25/
LOCATION:Discovery City Children’s Museum\, 317 Grand River Avenue\, Port huron\, MI\, 48060
END:VEVENT
BEGIN:VEVENT
DTSTART;TZID=America/New_York:20300927T080000
DTEND;TZID=America/New_York:20300927T170000
DTSTAMP:20260420T225720
CREATED:20260419T012510Z
LAST-MODIFIED:20260419T012510Z
UID:10026851-1916726400-1916758800@bluewaterparent.com
SUMMARY:Discovery Lab for Littles
DESCRIPTION:This event is included with admission.
URL:https://bluewaterparent.com/event/discovery-lab-for-littles/2030-09-27/
LOCATION:Discovery City Children’s Museum\, 317 Grand River Avenue\, Port huron\, MI\, 48060
END:VEVENT
BEGIN:VEVENT
DTSTART;TZID=America/New_York:20301002T080000
DTEND;TZID=America/New_York:20301002T170000
DTSTAMP:20260420T225720
CREATED:20260419T012510Z
LAST-MODIFIED:20260419T012510Z
UID:10026852-1917158400-1917190800@bluewaterparent.com
SUMMARY:Discovery Lab for Littles
DESCRIPTION:This event is included with admission.
URL:https://bluewaterparent.com/event/discovery-lab-for-littles/2030-10-02/
LOCATION:Discovery City Children’s Museum\, 317 Grand River Avenue\, Port huron\, MI\, 48060
END:VEVENT
BEGIN:VEVENT
DTSTART;TZID=America/New_York:20301004T080000
DTEND;TZID=America/New_York:20301004T170000
DTSTAMP:20260420T225720
CREATED:20260419T012510Z
LAST-MODIFIED:20260419T012510Z
UID:10026853-1917331200-1917363600@bluewaterparent.com
SUMMARY:Discovery Lab for Littles
DESCRIPTION:This event is included with admission.
URL:https://bluewaterparent.com/event/discovery-lab-for-littles/2030-10-04/
LOCATION:Discovery City Children’s Museum\, 317 Grand River Avenue\, Port huron\, MI\, 48060
END:VEVENT
BEGIN:VEVENT
DTSTART;TZID=America/New_York:20301009T080000
DTEND;TZID=America/New_York:20301009T170000
DTSTAMP:20260420T225720
CREATED:20260419T012510Z
LAST-MODIFIED:20260419T012510Z
UID:10026854-1917763200-1917795600@bluewaterparent.com
SUMMARY:Discovery Lab for Littles
DESCRIPTION:This event is included with admission.
URL:https://bluewaterparent.com/event/discovery-lab-for-littles/2030-10-09/
LOCATION:Discovery City Children’s Museum\, 317 Grand River Avenue\, Port huron\, MI\, 48060
END:VEVENT
BEGIN:VEVENT
DTSTART;TZID=America/New_York:20301011T080000
DTEND;TZID=America/New_York:20301011T170000
DTSTAMP:20260420T225720
CREATED:20260419T012510Z
LAST-MODIFIED:20260419T012510Z
UID:10026855-1917936000-1917968400@bluewaterparent.com
SUMMARY:Discovery Lab for Littles
DESCRIPTION:This event is included with admission.
URL:https://bluewaterparent.com/event/discovery-lab-for-littles/2030-10-11/
LOCATION:Discovery City Children’s Museum\, 317 Grand River Avenue\, Port huron\, MI\, 48060
END:VEVENT
BEGIN:VEVENT
DTSTART;TZID=America/New_York:20301016T080000
DTEND;TZID=America/New_York:20301016T170000
DTSTAMP:20260420T225720
CREATED:20260419T012510Z
LAST-MODIFIED:20260419T012510Z
UID:10026856-1918368000-1918400400@bluewaterparent.com
SUMMARY:Discovery Lab for Littles
DESCRIPTION:This event is included with admission.
URL:https://bluewaterparent.com/event/discovery-lab-for-littles/2030-10-16/
LOCATION:Discovery City Children’s Museum\, 317 Grand River Avenue\, Port huron\, MI\, 48060
END:VEVENT
BEGIN:VEVENT
DTSTART;TZID=America/New_York:20301018T080000
DTEND;TZID=America/New_York:20301018T170000
DTSTAMP:20260420T225720
CREATED:20260419T012510Z
LAST-MODIFIED:20260419T012510Z
UID:10026857-1918540800-1918573200@bluewaterparent.com
SUMMARY:Discovery Lab for Littles
DESCRIPTION:This event is included with admission.
URL:https://bluewaterparent.com/event/discovery-lab-for-littles/2030-10-18/
LOCATION:Discovery City Children’s Museum\, 317 Grand River Avenue\, Port huron\, MI\, 48060
END:VEVENT
BEGIN:VEVENT
DTSTART;TZID=America/New_York:20301023T080000
DTEND;TZID=America/New_York:20301023T170000
DTSTAMP:20260420T225720
CREATED:20260419T012510Z
LAST-MODIFIED:20260419T012510Z
UID:10026858-1918972800-1919005200@bluewaterparent.com
SUMMARY:Discovery Lab for Littles
DESCRIPTION:This event is included with admission.
URL:https://bluewaterparent.com/event/discovery-lab-for-littles/2030-10-23/
LOCATION:Discovery City Children’s Museum\, 317 Grand River Avenue\, Port huron\, MI\, 48060
END:VEVENT
BEGIN:VEVENT
DTSTART;TZID=America/New_York:20301025T080000
DTEND;TZID=America/New_York:20301025T170000
DTSTAMP:20260420T225720
CREATED:20260419T012510Z
LAST-MODIFIED:20260419T012510Z
UID:10026859-1919145600-1919178000@bluewaterparent.com
SUMMARY:Discovery Lab for Littles
DESCRIPTION:This event is included with admission.
URL:https://bluewaterparent.com/event/discovery-lab-for-littles/2030-10-25/
LOCATION:Discovery City Children’s Museum\, 317 Grand River Avenue\, Port huron\, MI\, 48060
END:VEVENT
BEGIN:VEVENT
DTSTART;TZID=America/New_York:20301030T080000
DTEND;TZID=America/New_York:20301030T170000
DTSTAMP:20260420T225720
CREATED:20260419T012510Z
LAST-MODIFIED:20260419T012510Z
UID:10026860-1919577600-1919610000@bluewaterparent.com
SUMMARY:Discovery Lab for Littles
DESCRIPTION:This event is included with admission.
URL:https://bluewaterparent.com/event/discovery-lab-for-littles/2030-10-30/
LOCATION:Discovery City Children’s Museum\, 317 Grand River Avenue\, Port huron\, MI\, 48060
END:VEVENT
BEGIN:VEVENT
DTSTART;TZID=America/New_York:20301101T080000
DTEND;TZID=America/New_York:20301101T170000
DTSTAMP:20260420T225720
CREATED:20260419T012510Z
LAST-MODIFIED:20260419T012510Z
UID:10026861-1919750400-1919782800@bluewaterparent.com
SUMMARY:Discovery Lab for Littles
DESCRIPTION:This event is included with admission.
URL:https://bluewaterparent.com/event/discovery-lab-for-littles/2030-11-01/
LOCATION:Discovery City Children’s Museum\, 317 Grand River Avenue\, Port huron\, MI\, 48060
END:VEVENT
BEGIN:VEVENT
DTSTART;TZID=America/New_York:20301106T080000
DTEND;TZID=America/New_York:20301106T170000
DTSTAMP:20260420T225720
CREATED:20260419T012510Z
LAST-MODIFIED:20260419T012510Z
UID:10026862-1920182400-1920214800@bluewaterparent.com
SUMMARY:Discovery Lab for Littles
DESCRIPTION:This event is included with admission.
URL:https://bluewaterparent.com/event/discovery-lab-for-littles/2030-11-06/
LOCATION:Discovery City Children’s Museum\, 317 Grand River Avenue\, Port huron\, MI\, 48060
END:VEVENT
BEGIN:VEVENT
DTSTART;TZID=America/New_York:20301108T080000
DTEND;TZID=America/New_York:20301108T170000
DTSTAMP:20260420T225720
CREATED:20260419T012510Z
LAST-MODIFIED:20260419T012510Z
UID:10026863-1920355200-1920387600@bluewaterparent.com
SUMMARY:Discovery Lab for Littles
DESCRIPTION:This event is included with admission.
URL:https://bluewaterparent.com/event/discovery-lab-for-littles/2030-11-08/
LOCATION:Discovery City Children’s Museum\, 317 Grand River Avenue\, Port huron\, MI\, 48060
END:VEVENT
BEGIN:VEVENT
DTSTART;TZID=America/New_York:20301113T080000
DTEND;TZID=America/New_York:20301113T170000
DTSTAMP:20260420T225720
CREATED:20260419T012510Z
LAST-MODIFIED:20260419T012510Z
UID:10026864-1920787200-1920819600@bluewaterparent.com
SUMMARY:Discovery Lab for Littles
DESCRIPTION:This event is included with admission.
URL:https://bluewaterparent.com/event/discovery-lab-for-littles/2030-11-13/
LOCATION:Discovery City Children’s Museum\, 317 Grand River Avenue\, Port huron\, MI\, 48060
END:VEVENT
BEGIN:VEVENT
DTSTART;TZID=America/New_York:20301115T080000
DTEND;TZID=America/New_York:20301115T170000
DTSTAMP:20260420T225720
CREATED:20260419T012510Z
LAST-MODIFIED:20260419T012510Z
UID:10026865-1920960000-1920992400@bluewaterparent.com
SUMMARY:Discovery Lab for Littles
DESCRIPTION:This event is included with admission.
URL:https://bluewaterparent.com/event/discovery-lab-for-littles/2030-11-15/
LOCATION:Discovery City Children’s Museum\, 317 Grand River Avenue\, Port huron\, MI\, 48060
END:VEVENT
BEGIN:VEVENT
DTSTART;TZID=America/New_York:20301120T080000
DTEND;TZID=America/New_York:20301120T170000
DTSTAMP:20260420T225720
CREATED:20260419T012510Z
LAST-MODIFIED:20260419T012510Z
UID:10026866-1921392000-1921424400@bluewaterparent.com
SUMMARY:Discovery Lab for Littles
DESCRIPTION:This event is included with admission.
URL:https://bluewaterparent.com/event/discovery-lab-for-littles/2030-11-20/
LOCATION:Discovery City Children’s Museum\, 317 Grand River Avenue\, Port huron\, MI\, 48060
END:VEVENT
BEGIN:VEVENT
DTSTART;TZID=America/New_York:20301122T080000
DTEND;TZID=America/New_York:20301122T170000
DTSTAMP:20260420T225720
CREATED:20260419T012510Z
LAST-MODIFIED:20260419T012510Z
UID:10026867-1921564800-1921597200@bluewaterparent.com
SUMMARY:Discovery Lab for Littles
DESCRIPTION:This event is included with admission.
URL:https://bluewaterparent.com/event/discovery-lab-for-littles/2030-11-22/
LOCATION:Discovery City Children’s Museum\, 317 Grand River Avenue\, Port huron\, MI\, 48060
END:VEVENT
END:VCALENDAR