BEGIN:VCALENDAR
VERSION:2.0
PRODID:-//BlueWaterParent.com - ECPv6.15.20//NONSGML v1.0//EN
CALSCALE:GREGORIAN
METHOD:PUBLISH
X-ORIGINAL-URL:https://bluewaterparent.com
X-WR-CALDESC:Events for BlueWaterParent.com
REFRESH-INTERVAL;VALUE=DURATION:PT1H
X-Robots-Tag:noindex
X-PUBLISHED-TTL:PT1H
BEGIN:VTIMEZONE
TZID:America/New_York
BEGIN:DAYLIGHT
TZOFFSETFROM:-0500
TZOFFSETTO:-0400
TZNAME:EDT
DTSTART:20270314T070000
END:DAYLIGHT
BEGIN:STANDARD
TZOFFSETFROM:-0400
TZOFFSETTO:-0500
TZNAME:EST
DTSTART:20271107T060000
END:STANDARD
BEGIN:DAYLIGHT
TZOFFSETFROM:-0500
TZOFFSETTO:-0400
TZNAME:EDT
DTSTART:20280312T070000
END:DAYLIGHT
BEGIN:STANDARD
TZOFFSETFROM:-0400
TZOFFSETTO:-0500
TZNAME:EST
DTSTART:20281105T060000
END:STANDARD
BEGIN:DAYLIGHT
TZOFFSETFROM:-0500
TZOFFSETTO:-0400
TZNAME:EDT
DTSTART:20290311T070000
END:DAYLIGHT
BEGIN:STANDARD
TZOFFSETFROM:-0400
TZOFFSETTO:-0500
TZNAME:EST
DTSTART:20291104T060000
END:STANDARD
END:VTIMEZONE
BEGIN:VEVENT
DTSTART;TZID=America/New_York:20280112T080000
DTEND;TZID=America/New_York:20280112T170000
DTSTAMP:20260419T203501
CREATED:20260419T012510Z
LAST-MODIFIED:20260419T012510Z
UID:10026568-1831276800-1831309200@bluewaterparent.com
SUMMARY:Discovery Lab for Littles
DESCRIPTION:This event is included with admission.
URL:https://bluewaterparent.com/event/discovery-lab-for-littles/2028-01-12/
LOCATION:Discovery City Children’s Museum\, 317 Grand River Avenue\, Port huron\, MI\, 48060
END:VEVENT
BEGIN:VEVENT
DTSTART;TZID=America/New_York:20280114T080000
DTEND;TZID=America/New_York:20280114T170000
DTSTAMP:20260419T203501
CREATED:20260419T012510Z
LAST-MODIFIED:20260419T012510Z
UID:10026569-1831449600-1831482000@bluewaterparent.com
SUMMARY:Discovery Lab for Littles
DESCRIPTION:This event is included with admission.
URL:https://bluewaterparent.com/event/discovery-lab-for-littles/2028-01-14/
LOCATION:Discovery City Children’s Museum\, 317 Grand River Avenue\, Port huron\, MI\, 48060
END:VEVENT
BEGIN:VEVENT
DTSTART;TZID=America/New_York:20280119T080000
DTEND;TZID=America/New_York:20280119T170000
DTSTAMP:20260419T203501
CREATED:20260419T012510Z
LAST-MODIFIED:20260419T012510Z
UID:10026570-1831881600-1831914000@bluewaterparent.com
SUMMARY:Discovery Lab for Littles
DESCRIPTION:This event is included with admission.
URL:https://bluewaterparent.com/event/discovery-lab-for-littles/2028-01-19/
LOCATION:Discovery City Children’s Museum\, 317 Grand River Avenue\, Port huron\, MI\, 48060
END:VEVENT
BEGIN:VEVENT
DTSTART;TZID=America/New_York:20280121T080000
DTEND;TZID=America/New_York:20280121T170000
DTSTAMP:20260419T203501
CREATED:20260419T012510Z
LAST-MODIFIED:20260419T012510Z
UID:10026571-1832054400-1832086800@bluewaterparent.com
SUMMARY:Discovery Lab for Littles
DESCRIPTION:This event is included with admission.
URL:https://bluewaterparent.com/event/discovery-lab-for-littles/2028-01-21/
LOCATION:Discovery City Children’s Museum\, 317 Grand River Avenue\, Port huron\, MI\, 48060
END:VEVENT
BEGIN:VEVENT
DTSTART;TZID=America/New_York:20280126T080000
DTEND;TZID=America/New_York:20280126T170000
DTSTAMP:20260419T203501
CREATED:20260419T012510Z
LAST-MODIFIED:20260419T012510Z
UID:10026572-1832486400-1832518800@bluewaterparent.com
SUMMARY:Discovery Lab for Littles
DESCRIPTION:This event is included with admission.
URL:https://bluewaterparent.com/event/discovery-lab-for-littles/2028-01-26/
LOCATION:Discovery City Children’s Museum\, 317 Grand River Avenue\, Port huron\, MI\, 48060
END:VEVENT
BEGIN:VEVENT
DTSTART;TZID=America/New_York:20280128T080000
DTEND;TZID=America/New_York:20280128T170000
DTSTAMP:20260419T203501
CREATED:20260419T012510Z
LAST-MODIFIED:20260419T012510Z
UID:10026573-1832659200-1832691600@bluewaterparent.com
SUMMARY:Discovery Lab for Littles
DESCRIPTION:This event is included with admission.
URL:https://bluewaterparent.com/event/discovery-lab-for-littles/2028-01-28/
LOCATION:Discovery City Children’s Museum\, 317 Grand River Avenue\, Port huron\, MI\, 48060
END:VEVENT
BEGIN:VEVENT
DTSTART;TZID=America/New_York:20280202T080000
DTEND;TZID=America/New_York:20280202T170000
DTSTAMP:20260419T203501
CREATED:20260419T012510Z
LAST-MODIFIED:20260419T012510Z
UID:10026574-1833091200-1833123600@bluewaterparent.com
SUMMARY:Discovery Lab for Littles
DESCRIPTION:This event is included with admission.
URL:https://bluewaterparent.com/event/discovery-lab-for-littles/2028-02-02/
LOCATION:Discovery City Children’s Museum\, 317 Grand River Avenue\, Port huron\, MI\, 48060
END:VEVENT
BEGIN:VEVENT
DTSTART;TZID=America/New_York:20280204T080000
DTEND;TZID=America/New_York:20280204T170000
DTSTAMP:20260419T203501
CREATED:20260419T012510Z
LAST-MODIFIED:20260419T012510Z
UID:10026575-1833264000-1833296400@bluewaterparent.com
SUMMARY:Discovery Lab for Littles
DESCRIPTION:This event is included with admission.
URL:https://bluewaterparent.com/event/discovery-lab-for-littles/2028-02-04/
LOCATION:Discovery City Children’s Museum\, 317 Grand River Avenue\, Port huron\, MI\, 48060
END:VEVENT
BEGIN:VEVENT
DTSTART;TZID=America/New_York:20280209T080000
DTEND;TZID=America/New_York:20280209T170000
DTSTAMP:20260419T203501
CREATED:20260419T012510Z
LAST-MODIFIED:20260419T012510Z
UID:10026576-1833696000-1833728400@bluewaterparent.com
SUMMARY:Discovery Lab for Littles
DESCRIPTION:This event is included with admission.
URL:https://bluewaterparent.com/event/discovery-lab-for-littles/2028-02-09/
LOCATION:Discovery City Children’s Museum\, 317 Grand River Avenue\, Port huron\, MI\, 48060
END:VEVENT
BEGIN:VEVENT
DTSTART;TZID=America/New_York:20280211T080000
DTEND;TZID=America/New_York:20280211T170000
DTSTAMP:20260419T203501
CREATED:20260419T012510Z
LAST-MODIFIED:20260419T012510Z
UID:10026577-1833868800-1833901200@bluewaterparent.com
SUMMARY:Discovery Lab for Littles
DESCRIPTION:This event is included with admission.
URL:https://bluewaterparent.com/event/discovery-lab-for-littles/2028-02-11/
LOCATION:Discovery City Children’s Museum\, 317 Grand River Avenue\, Port huron\, MI\, 48060
END:VEVENT
BEGIN:VEVENT
DTSTART;TZID=America/New_York:20280216T080000
DTEND;TZID=America/New_York:20280216T170000
DTSTAMP:20260419T203501
CREATED:20260419T012510Z
LAST-MODIFIED:20260419T012510Z
UID:10026578-1834300800-1834333200@bluewaterparent.com
SUMMARY:Discovery Lab for Littles
DESCRIPTION:This event is included with admission.
URL:https://bluewaterparent.com/event/discovery-lab-for-littles/2028-02-16/
LOCATION:Discovery City Children’s Museum\, 317 Grand River Avenue\, Port huron\, MI\, 48060
END:VEVENT
BEGIN:VEVENT
DTSTART;TZID=America/New_York:20280218T080000
DTEND;TZID=America/New_York:20280218T170000
DTSTAMP:20260419T203501
CREATED:20260419T012510Z
LAST-MODIFIED:20260419T012510Z
UID:10026579-1834473600-1834506000@bluewaterparent.com
SUMMARY:Discovery Lab for Littles
DESCRIPTION:This event is included with admission.
URL:https://bluewaterparent.com/event/discovery-lab-for-littles/2028-02-18/
LOCATION:Discovery City Children’s Museum\, 317 Grand River Avenue\, Port huron\, MI\, 48060
END:VEVENT
BEGIN:VEVENT
DTSTART;TZID=America/New_York:20280223T080000
DTEND;TZID=America/New_York:20280223T170000
DTSTAMP:20260419T203501
CREATED:20260419T012510Z
LAST-MODIFIED:20260419T012510Z
UID:10026580-1834905600-1834938000@bluewaterparent.com
SUMMARY:Discovery Lab for Littles
DESCRIPTION:This event is included with admission.
URL:https://bluewaterparent.com/event/discovery-lab-for-littles/2028-02-23/
LOCATION:Discovery City Children’s Museum\, 317 Grand River Avenue\, Port huron\, MI\, 48060
END:VEVENT
BEGIN:VEVENT
DTSTART;TZID=America/New_York:20280225T080000
DTEND;TZID=America/New_York:20280225T170000
DTSTAMP:20260419T203501
CREATED:20260419T012510Z
LAST-MODIFIED:20260419T012510Z
UID:10026581-1835078400-1835110800@bluewaterparent.com
SUMMARY:Discovery Lab for Littles
DESCRIPTION:This event is included with admission.
URL:https://bluewaterparent.com/event/discovery-lab-for-littles/2028-02-25/
LOCATION:Discovery City Children’s Museum\, 317 Grand River Avenue\, Port huron\, MI\, 48060
END:VEVENT
BEGIN:VEVENT
DTSTART;TZID=America/New_York:20280301T080000
DTEND;TZID=America/New_York:20280301T170000
DTSTAMP:20260419T203501
CREATED:20260419T012510Z
LAST-MODIFIED:20260419T012510Z
UID:10026582-1835510400-1835542800@bluewaterparent.com
SUMMARY:Discovery Lab for Littles
DESCRIPTION:This event is included with admission.
URL:https://bluewaterparent.com/event/discovery-lab-for-littles/2028-03-01/
LOCATION:Discovery City Children’s Museum\, 317 Grand River Avenue\, Port huron\, MI\, 48060
END:VEVENT
BEGIN:VEVENT
DTSTART;TZID=America/New_York:20280303T080000
DTEND;TZID=America/New_York:20280303T170000
DTSTAMP:20260419T203501
CREATED:20260419T012510Z
LAST-MODIFIED:20260419T012510Z
UID:10026583-1835683200-1835715600@bluewaterparent.com
SUMMARY:Discovery Lab for Littles
DESCRIPTION:This event is included with admission.
URL:https://bluewaterparent.com/event/discovery-lab-for-littles/2028-03-03/
LOCATION:Discovery City Children’s Museum\, 317 Grand River Avenue\, Port huron\, MI\, 48060
END:VEVENT
BEGIN:VEVENT
DTSTART;TZID=America/New_York:20280308T080000
DTEND;TZID=America/New_York:20280308T170000
DTSTAMP:20260419T203501
CREATED:20260419T012510Z
LAST-MODIFIED:20260419T012510Z
UID:10026584-1836115200-1836147600@bluewaterparent.com
SUMMARY:Discovery Lab for Littles
DESCRIPTION:This event is included with admission.
URL:https://bluewaterparent.com/event/discovery-lab-for-littles/2028-03-08/
LOCATION:Discovery City Children’s Museum\, 317 Grand River Avenue\, Port huron\, MI\, 48060
END:VEVENT
BEGIN:VEVENT
DTSTART;TZID=America/New_York:20280310T080000
DTEND;TZID=America/New_York:20280310T170000
DTSTAMP:20260419T203501
CREATED:20260419T012510Z
LAST-MODIFIED:20260419T012510Z
UID:10026585-1836288000-1836320400@bluewaterparent.com
SUMMARY:Discovery Lab for Littles
DESCRIPTION:This event is included with admission.
URL:https://bluewaterparent.com/event/discovery-lab-for-littles/2028-03-10/
LOCATION:Discovery City Children’s Museum\, 317 Grand River Avenue\, Port huron\, MI\, 48060
END:VEVENT
BEGIN:VEVENT
DTSTART;TZID=America/New_York:20280315T080000
DTEND;TZID=America/New_York:20280315T170000
DTSTAMP:20260419T203501
CREATED:20260419T012510Z
LAST-MODIFIED:20260419T012510Z
UID:10026586-1836720000-1836752400@bluewaterparent.com
SUMMARY:Discovery Lab for Littles
DESCRIPTION:This event is included with admission.
URL:https://bluewaterparent.com/event/discovery-lab-for-littles/2028-03-15/
LOCATION:Discovery City Children’s Museum\, 317 Grand River Avenue\, Port huron\, MI\, 48060
END:VEVENT
BEGIN:VEVENT
DTSTART;TZID=America/New_York:20280317T080000
DTEND;TZID=America/New_York:20280317T170000
DTSTAMP:20260419T203501
CREATED:20260419T012510Z
LAST-MODIFIED:20260419T012510Z
UID:10026587-1836892800-1836925200@bluewaterparent.com
SUMMARY:Discovery Lab for Littles
DESCRIPTION:This event is included with admission.
URL:https://bluewaterparent.com/event/discovery-lab-for-littles/2028-03-17/
LOCATION:Discovery City Children’s Museum\, 317 Grand River Avenue\, Port huron\, MI\, 48060
END:VEVENT
BEGIN:VEVENT
DTSTART;TZID=America/New_York:20280322T080000
DTEND;TZID=America/New_York:20280322T170000
DTSTAMP:20260419T203501
CREATED:20260419T012510Z
LAST-MODIFIED:20260419T012510Z
UID:10026588-1837324800-1837357200@bluewaterparent.com
SUMMARY:Discovery Lab for Littles
DESCRIPTION:This event is included with admission.
URL:https://bluewaterparent.com/event/discovery-lab-for-littles/2028-03-22/
LOCATION:Discovery City Children’s Museum\, 317 Grand River Avenue\, Port huron\, MI\, 48060
END:VEVENT
BEGIN:VEVENT
DTSTART;TZID=America/New_York:20280324T080000
DTEND;TZID=America/New_York:20280324T170000
DTSTAMP:20260419T203501
CREATED:20260419T012510Z
LAST-MODIFIED:20260419T012510Z
UID:10026589-1837497600-1837530000@bluewaterparent.com
SUMMARY:Discovery Lab for Littles
DESCRIPTION:This event is included with admission.
URL:https://bluewaterparent.com/event/discovery-lab-for-littles/2028-03-24/
LOCATION:Discovery City Children’s Museum\, 317 Grand River Avenue\, Port huron\, MI\, 48060
END:VEVENT
BEGIN:VEVENT
DTSTART;TZID=America/New_York:20280329T080000
DTEND;TZID=America/New_York:20280329T170000
DTSTAMP:20260419T203501
CREATED:20260419T012510Z
LAST-MODIFIED:20260419T012510Z
UID:10026590-1837929600-1837962000@bluewaterparent.com
SUMMARY:Discovery Lab for Littles
DESCRIPTION:This event is included with admission.
URL:https://bluewaterparent.com/event/discovery-lab-for-littles/2028-03-29/
LOCATION:Discovery City Children’s Museum\, 317 Grand River Avenue\, Port huron\, MI\, 48060
END:VEVENT
BEGIN:VEVENT
DTSTART;TZID=America/New_York:20280331T080000
DTEND;TZID=America/New_York:20280331T170000
DTSTAMP:20260419T203501
CREATED:20260419T012510Z
LAST-MODIFIED:20260419T012510Z
UID:10026591-1838102400-1838134800@bluewaterparent.com
SUMMARY:Discovery Lab for Littles
DESCRIPTION:This event is included with admission.
URL:https://bluewaterparent.com/event/discovery-lab-for-littles/2028-03-31/
LOCATION:Discovery City Children’s Museum\, 317 Grand River Avenue\, Port huron\, MI\, 48060
END:VEVENT
BEGIN:VEVENT
DTSTART;TZID=America/New_York:20280405T080000
DTEND;TZID=America/New_York:20280405T170000
DTSTAMP:20260419T203501
CREATED:20260419T012510Z
LAST-MODIFIED:20260419T012510Z
UID:10026592-1838534400-1838566800@bluewaterparent.com
SUMMARY:Discovery Lab for Littles
DESCRIPTION:This event is included with admission.
URL:https://bluewaterparent.com/event/discovery-lab-for-littles/2028-04-05/
LOCATION:Discovery City Children’s Museum\, 317 Grand River Avenue\, Port huron\, MI\, 48060
END:VEVENT
BEGIN:VEVENT
DTSTART;TZID=America/New_York:20280407T080000
DTEND;TZID=America/New_York:20280407T170000
DTSTAMP:20260419T203501
CREATED:20260419T012510Z
LAST-MODIFIED:20260419T012510Z
UID:10026593-1838707200-1838739600@bluewaterparent.com
SUMMARY:Discovery Lab for Littles
DESCRIPTION:This event is included with admission.
URL:https://bluewaterparent.com/event/discovery-lab-for-littles/2028-04-07/
LOCATION:Discovery City Children’s Museum\, 317 Grand River Avenue\, Port huron\, MI\, 48060
END:VEVENT
BEGIN:VEVENT
DTSTART;TZID=America/New_York:20280412T080000
DTEND;TZID=America/New_York:20280412T170000
DTSTAMP:20260419T203501
CREATED:20260419T012510Z
LAST-MODIFIED:20260419T012510Z
UID:10026594-1839139200-1839171600@bluewaterparent.com
SUMMARY:Discovery Lab for Littles
DESCRIPTION:This event is included with admission.
URL:https://bluewaterparent.com/event/discovery-lab-for-littles/2028-04-12/
LOCATION:Discovery City Children’s Museum\, 317 Grand River Avenue\, Port huron\, MI\, 48060
END:VEVENT
BEGIN:VEVENT
DTSTART;TZID=America/New_York:20280414T080000
DTEND;TZID=America/New_York:20280414T170000
DTSTAMP:20260419T203501
CREATED:20260419T012510Z
LAST-MODIFIED:20260419T012510Z
UID:10026595-1839312000-1839344400@bluewaterparent.com
SUMMARY:Discovery Lab for Littles
DESCRIPTION:This event is included with admission.
URL:https://bluewaterparent.com/event/discovery-lab-for-littles/2028-04-14/
LOCATION:Discovery City Children’s Museum\, 317 Grand River Avenue\, Port huron\, MI\, 48060
END:VEVENT
BEGIN:VEVENT
DTSTART;TZID=America/New_York:20280419T080000
DTEND;TZID=America/New_York:20280419T170000
DTSTAMP:20260419T203501
CREATED:20260419T012510Z
LAST-MODIFIED:20260419T012510Z
UID:10026596-1839744000-1839776400@bluewaterparent.com
SUMMARY:Discovery Lab for Littles
DESCRIPTION:This event is included with admission.
URL:https://bluewaterparent.com/event/discovery-lab-for-littles/2028-04-19/
LOCATION:Discovery City Children’s Museum\, 317 Grand River Avenue\, Port huron\, MI\, 48060
END:VEVENT
BEGIN:VEVENT
DTSTART;TZID=America/New_York:20280421T080000
DTEND;TZID=America/New_York:20280421T170000
DTSTAMP:20260419T203501
CREATED:20260419T012510Z
LAST-MODIFIED:20260419T012510Z
UID:10026597-1839916800-1839949200@bluewaterparent.com
SUMMARY:Discovery Lab for Littles
DESCRIPTION:This event is included with admission.
URL:https://bluewaterparent.com/event/discovery-lab-for-littles/2028-04-21/
LOCATION:Discovery City Children’s Museum\, 317 Grand River Avenue\, Port huron\, MI\, 48060
END:VEVENT
END:VCALENDAR