BEGIN:VCALENDAR
VERSION:2.0
PRODID:-//BlueWaterParent.com - ECPv6.15.20//NONSGML v1.0//EN
CALSCALE:GREGORIAN
METHOD:PUBLISH
X-WR-CALNAME:BlueWaterParent.com
X-ORIGINAL-URL:https://bluewaterparent.com
X-WR-CALDESC:Events for BlueWaterParent.com
REFRESH-INTERVAL;VALUE=DURATION:PT1H
X-Robots-Tag:noindex
X-PUBLISHED-TTL:PT1H
BEGIN:VTIMEZONE
TZID:America/New_York
BEGIN:DAYLIGHT
TZOFFSETFROM:-0500
TZOFFSETTO:-0400
TZNAME:EDT
DTSTART:20270314T070000
END:DAYLIGHT
BEGIN:STANDARD
TZOFFSETFROM:-0400
TZOFFSETTO:-0500
TZNAME:EST
DTSTART:20271107T060000
END:STANDARD
BEGIN:DAYLIGHT
TZOFFSETFROM:-0500
TZOFFSETTO:-0400
TZNAME:EDT
DTSTART:20280312T070000
END:DAYLIGHT
BEGIN:STANDARD
TZOFFSETFROM:-0400
TZOFFSETTO:-0500
TZNAME:EST
DTSTART:20281105T060000
END:STANDARD
BEGIN:DAYLIGHT
TZOFFSETFROM:-0500
TZOFFSETTO:-0400
TZNAME:EDT
DTSTART:20290311T070000
END:DAYLIGHT
BEGIN:STANDARD
TZOFFSETFROM:-0400
TZOFFSETTO:-0500
TZNAME:EST
DTSTART:20291104T060000
END:STANDARD
END:VTIMEZONE
BEGIN:VEVENT
DTSTART;TZID=America/New_York:20280809T080000
DTEND;TZID=America/New_York:20280809T170000
DTSTAMP:20260420T022612
CREATED:20260419T012510Z
LAST-MODIFIED:20260419T012510Z
UID:10026628-1849420800-1849453200@bluewaterparent.com
SUMMARY:Discovery Lab for Littles
DESCRIPTION:This event is included with admission.
URL:https://bluewaterparent.com/event/discovery-lab-for-littles/2028-08-09/
LOCATION:Discovery City Children’s Museum\, 317 Grand River Avenue\, Port huron\, MI\, 48060
END:VEVENT
BEGIN:VEVENT
DTSTART;TZID=America/New_York:20280811T080000
DTEND;TZID=America/New_York:20280811T170000
DTSTAMP:20260420T022612
CREATED:20260419T012510Z
LAST-MODIFIED:20260419T012510Z
UID:10026629-1849593600-1849626000@bluewaterparent.com
SUMMARY:Discovery Lab for Littles
DESCRIPTION:This event is included with admission.
URL:https://bluewaterparent.com/event/discovery-lab-for-littles/2028-08-11/
LOCATION:Discovery City Children’s Museum\, 317 Grand River Avenue\, Port huron\, MI\, 48060
END:VEVENT
BEGIN:VEVENT
DTSTART;TZID=America/New_York:20280816T080000
DTEND;TZID=America/New_York:20280816T170000
DTSTAMP:20260420T022612
CREATED:20260419T012510Z
LAST-MODIFIED:20260419T012510Z
UID:10026630-1850025600-1850058000@bluewaterparent.com
SUMMARY:Discovery Lab for Littles
DESCRIPTION:This event is included with admission.
URL:https://bluewaterparent.com/event/discovery-lab-for-littles/2028-08-16/
LOCATION:Discovery City Children’s Museum\, 317 Grand River Avenue\, Port huron\, MI\, 48060
END:VEVENT
BEGIN:VEVENT
DTSTART;TZID=America/New_York:20280818T080000
DTEND;TZID=America/New_York:20280818T170000
DTSTAMP:20260420T022612
CREATED:20260419T012510Z
LAST-MODIFIED:20260419T012510Z
UID:10026631-1850198400-1850230800@bluewaterparent.com
SUMMARY:Discovery Lab for Littles
DESCRIPTION:This event is included with admission.
URL:https://bluewaterparent.com/event/discovery-lab-for-littles/2028-08-18/
LOCATION:Discovery City Children’s Museum\, 317 Grand River Avenue\, Port huron\, MI\, 48060
END:VEVENT
BEGIN:VEVENT
DTSTART;TZID=America/New_York:20280823T080000
DTEND;TZID=America/New_York:20280823T170000
DTSTAMP:20260420T022612
CREATED:20260419T012510Z
LAST-MODIFIED:20260419T012510Z
UID:10026632-1850630400-1850662800@bluewaterparent.com
SUMMARY:Discovery Lab for Littles
DESCRIPTION:This event is included with admission.
URL:https://bluewaterparent.com/event/discovery-lab-for-littles/2028-08-23/
LOCATION:Discovery City Children’s Museum\, 317 Grand River Avenue\, Port huron\, MI\, 48060
END:VEVENT
BEGIN:VEVENT
DTSTART;TZID=America/New_York:20280825T080000
DTEND;TZID=America/New_York:20280825T170000
DTSTAMP:20260420T022612
CREATED:20260419T012510Z
LAST-MODIFIED:20260419T012510Z
UID:10026633-1850803200-1850835600@bluewaterparent.com
SUMMARY:Discovery Lab for Littles
DESCRIPTION:This event is included with admission.
URL:https://bluewaterparent.com/event/discovery-lab-for-littles/2028-08-25/
LOCATION:Discovery City Children’s Museum\, 317 Grand River Avenue\, Port huron\, MI\, 48060
END:VEVENT
BEGIN:VEVENT
DTSTART;TZID=America/New_York:20280830T080000
DTEND;TZID=America/New_York:20280830T170000
DTSTAMP:20260420T022612
CREATED:20260419T012510Z
LAST-MODIFIED:20260419T012510Z
UID:10026634-1851235200-1851267600@bluewaterparent.com
SUMMARY:Discovery Lab for Littles
DESCRIPTION:This event is included with admission.
URL:https://bluewaterparent.com/event/discovery-lab-for-littles/2028-08-30/
LOCATION:Discovery City Children’s Museum\, 317 Grand River Avenue\, Port huron\, MI\, 48060
END:VEVENT
BEGIN:VEVENT
DTSTART;TZID=America/New_York:20280901T080000
DTEND;TZID=America/New_York:20280901T170000
DTSTAMP:20260420T022612
CREATED:20260419T012510Z
LAST-MODIFIED:20260419T012510Z
UID:10026635-1851408000-1851440400@bluewaterparent.com
SUMMARY:Discovery Lab for Littles
DESCRIPTION:This event is included with admission.
URL:https://bluewaterparent.com/event/discovery-lab-for-littles/2028-09-01/
LOCATION:Discovery City Children’s Museum\, 317 Grand River Avenue\, Port huron\, MI\, 48060
END:VEVENT
BEGIN:VEVENT
DTSTART;TZID=America/New_York:20280906T080000
DTEND;TZID=America/New_York:20280906T170000
DTSTAMP:20260420T022612
CREATED:20260419T012510Z
LAST-MODIFIED:20260419T012510Z
UID:10026636-1851840000-1851872400@bluewaterparent.com
SUMMARY:Discovery Lab for Littles
DESCRIPTION:This event is included with admission.
URL:https://bluewaterparent.com/event/discovery-lab-for-littles/2028-09-06/
LOCATION:Discovery City Children’s Museum\, 317 Grand River Avenue\, Port huron\, MI\, 48060
END:VEVENT
BEGIN:VEVENT
DTSTART;TZID=America/New_York:20280908T080000
DTEND;TZID=America/New_York:20280908T170000
DTSTAMP:20260420T022612
CREATED:20260419T012510Z
LAST-MODIFIED:20260419T012510Z
UID:10026637-1852012800-1852045200@bluewaterparent.com
SUMMARY:Discovery Lab for Littles
DESCRIPTION:This event is included with admission.
URL:https://bluewaterparent.com/event/discovery-lab-for-littles/2028-09-08/
LOCATION:Discovery City Children’s Museum\, 317 Grand River Avenue\, Port huron\, MI\, 48060
END:VEVENT
BEGIN:VEVENT
DTSTART;TZID=America/New_York:20280913T080000
DTEND;TZID=America/New_York:20280913T170000
DTSTAMP:20260420T022612
CREATED:20260419T012510Z
LAST-MODIFIED:20260419T012510Z
UID:10026638-1852444800-1852477200@bluewaterparent.com
SUMMARY:Discovery Lab for Littles
DESCRIPTION:This event is included with admission.
URL:https://bluewaterparent.com/event/discovery-lab-for-littles/2028-09-13/
LOCATION:Discovery City Children’s Museum\, 317 Grand River Avenue\, Port huron\, MI\, 48060
END:VEVENT
BEGIN:VEVENT
DTSTART;TZID=America/New_York:20280915T080000
DTEND;TZID=America/New_York:20280915T170000
DTSTAMP:20260420T022612
CREATED:20260419T012510Z
LAST-MODIFIED:20260419T012510Z
UID:10026639-1852617600-1852650000@bluewaterparent.com
SUMMARY:Discovery Lab for Littles
DESCRIPTION:This event is included with admission.
URL:https://bluewaterparent.com/event/discovery-lab-for-littles/2028-09-15/
LOCATION:Discovery City Children’s Museum\, 317 Grand River Avenue\, Port huron\, MI\, 48060
END:VEVENT
BEGIN:VEVENT
DTSTART;TZID=America/New_York:20280920T080000
DTEND;TZID=America/New_York:20280920T170000
DTSTAMP:20260420T022612
CREATED:20260419T012510Z
LAST-MODIFIED:20260419T012510Z
UID:10026640-1853049600-1853082000@bluewaterparent.com
SUMMARY:Discovery Lab for Littles
DESCRIPTION:This event is included with admission.
URL:https://bluewaterparent.com/event/discovery-lab-for-littles/2028-09-20/
LOCATION:Discovery City Children’s Museum\, 317 Grand River Avenue\, Port huron\, MI\, 48060
END:VEVENT
BEGIN:VEVENT
DTSTART;TZID=America/New_York:20280922T080000
DTEND;TZID=America/New_York:20280922T170000
DTSTAMP:20260420T022612
CREATED:20260419T012510Z
LAST-MODIFIED:20260419T012510Z
UID:10026641-1853222400-1853254800@bluewaterparent.com
SUMMARY:Discovery Lab for Littles
DESCRIPTION:This event is included with admission.
URL:https://bluewaterparent.com/event/discovery-lab-for-littles/2028-09-22/
LOCATION:Discovery City Children’s Museum\, 317 Grand River Avenue\, Port huron\, MI\, 48060
END:VEVENT
BEGIN:VEVENT
DTSTART;TZID=America/New_York:20280927T080000
DTEND;TZID=America/New_York:20280927T170000
DTSTAMP:20260420T022612
CREATED:20260419T012510Z
LAST-MODIFIED:20260419T012510Z
UID:10026642-1853654400-1853686800@bluewaterparent.com
SUMMARY:Discovery Lab for Littles
DESCRIPTION:This event is included with admission.
URL:https://bluewaterparent.com/event/discovery-lab-for-littles/2028-09-27/
LOCATION:Discovery City Children’s Museum\, 317 Grand River Avenue\, Port huron\, MI\, 48060
END:VEVENT
BEGIN:VEVENT
DTSTART;TZID=America/New_York:20280929T080000
DTEND;TZID=America/New_York:20280929T170000
DTSTAMP:20260420T022612
CREATED:20260419T012510Z
LAST-MODIFIED:20260419T012510Z
UID:10026643-1853827200-1853859600@bluewaterparent.com
SUMMARY:Discovery Lab for Littles
DESCRIPTION:This event is included with admission.
URL:https://bluewaterparent.com/event/discovery-lab-for-littles/2028-09-29/
LOCATION:Discovery City Children’s Museum\, 317 Grand River Avenue\, Port huron\, MI\, 48060
END:VEVENT
BEGIN:VEVENT
DTSTART;TZID=America/New_York:20281004T080000
DTEND;TZID=America/New_York:20281004T170000
DTSTAMP:20260420T022612
CREATED:20260419T012510Z
LAST-MODIFIED:20260419T012510Z
UID:10026644-1854259200-1854291600@bluewaterparent.com
SUMMARY:Discovery Lab for Littles
DESCRIPTION:This event is included with admission.
URL:https://bluewaterparent.com/event/discovery-lab-for-littles/2028-10-04/
LOCATION:Discovery City Children’s Museum\, 317 Grand River Avenue\, Port huron\, MI\, 48060
END:VEVENT
BEGIN:VEVENT
DTSTART;TZID=America/New_York:20281006T080000
DTEND;TZID=America/New_York:20281006T170000
DTSTAMP:20260420T022612
CREATED:20260419T012510Z
LAST-MODIFIED:20260419T012510Z
UID:10026645-1854432000-1854464400@bluewaterparent.com
SUMMARY:Discovery Lab for Littles
DESCRIPTION:This event is included with admission.
URL:https://bluewaterparent.com/event/discovery-lab-for-littles/2028-10-06/
LOCATION:Discovery City Children’s Museum\, 317 Grand River Avenue\, Port huron\, MI\, 48060
END:VEVENT
BEGIN:VEVENT
DTSTART;TZID=America/New_York:20281011T080000
DTEND;TZID=America/New_York:20281011T170000
DTSTAMP:20260420T022612
CREATED:20260419T012510Z
LAST-MODIFIED:20260419T012510Z
UID:10026646-1854864000-1854896400@bluewaterparent.com
SUMMARY:Discovery Lab for Littles
DESCRIPTION:This event is included with admission.
URL:https://bluewaterparent.com/event/discovery-lab-for-littles/2028-10-11/
LOCATION:Discovery City Children’s Museum\, 317 Grand River Avenue\, Port huron\, MI\, 48060
END:VEVENT
BEGIN:VEVENT
DTSTART;TZID=America/New_York:20281013T080000
DTEND;TZID=America/New_York:20281013T170000
DTSTAMP:20260420T022612
CREATED:20260419T012510Z
LAST-MODIFIED:20260419T012510Z
UID:10026647-1855036800-1855069200@bluewaterparent.com
SUMMARY:Discovery Lab for Littles
DESCRIPTION:This event is included with admission.
URL:https://bluewaterparent.com/event/discovery-lab-for-littles/2028-10-13/
LOCATION:Discovery City Children’s Museum\, 317 Grand River Avenue\, Port huron\, MI\, 48060
END:VEVENT
BEGIN:VEVENT
DTSTART;TZID=America/New_York:20281018T080000
DTEND;TZID=America/New_York:20281018T170000
DTSTAMP:20260420T022612
CREATED:20260419T012510Z
LAST-MODIFIED:20260419T012510Z
UID:10026648-1855468800-1855501200@bluewaterparent.com
SUMMARY:Discovery Lab for Littles
DESCRIPTION:This event is included with admission.
URL:https://bluewaterparent.com/event/discovery-lab-for-littles/2028-10-18/
LOCATION:Discovery City Children’s Museum\, 317 Grand River Avenue\, Port huron\, MI\, 48060
END:VEVENT
BEGIN:VEVENT
DTSTART;TZID=America/New_York:20281020T080000
DTEND;TZID=America/New_York:20281020T170000
DTSTAMP:20260420T022612
CREATED:20260419T012510Z
LAST-MODIFIED:20260419T012510Z
UID:10026649-1855641600-1855674000@bluewaterparent.com
SUMMARY:Discovery Lab for Littles
DESCRIPTION:This event is included with admission.
URL:https://bluewaterparent.com/event/discovery-lab-for-littles/2028-10-20/
LOCATION:Discovery City Children’s Museum\, 317 Grand River Avenue\, Port huron\, MI\, 48060
END:VEVENT
BEGIN:VEVENT
DTSTART;TZID=America/New_York:20281025T080000
DTEND;TZID=America/New_York:20281025T170000
DTSTAMP:20260420T022612
CREATED:20260419T012510Z
LAST-MODIFIED:20260419T012510Z
UID:10026650-1856073600-1856106000@bluewaterparent.com
SUMMARY:Discovery Lab for Littles
DESCRIPTION:This event is included with admission.
URL:https://bluewaterparent.com/event/discovery-lab-for-littles/2028-10-25/
LOCATION:Discovery City Children’s Museum\, 317 Grand River Avenue\, Port huron\, MI\, 48060
END:VEVENT
BEGIN:VEVENT
DTSTART;TZID=America/New_York:20281027T080000
DTEND;TZID=America/New_York:20281027T170000
DTSTAMP:20260420T022612
CREATED:20260419T012510Z
LAST-MODIFIED:20260419T012510Z
UID:10026651-1856246400-1856278800@bluewaterparent.com
SUMMARY:Discovery Lab for Littles
DESCRIPTION:This event is included with admission.
URL:https://bluewaterparent.com/event/discovery-lab-for-littles/2028-10-27/
LOCATION:Discovery City Children’s Museum\, 317 Grand River Avenue\, Port huron\, MI\, 48060
END:VEVENT
BEGIN:VEVENT
DTSTART;TZID=America/New_York:20281101T080000
DTEND;TZID=America/New_York:20281101T170000
DTSTAMP:20260420T022612
CREATED:20260419T012510Z
LAST-MODIFIED:20260419T012510Z
UID:10026652-1856678400-1856710800@bluewaterparent.com
SUMMARY:Discovery Lab for Littles
DESCRIPTION:This event is included with admission.
URL:https://bluewaterparent.com/event/discovery-lab-for-littles/2028-11-01/
LOCATION:Discovery City Children’s Museum\, 317 Grand River Avenue\, Port huron\, MI\, 48060
END:VEVENT
BEGIN:VEVENT
DTSTART;TZID=America/New_York:20281103T080000
DTEND;TZID=America/New_York:20281103T170000
DTSTAMP:20260420T022612
CREATED:20260419T012510Z
LAST-MODIFIED:20260419T012510Z
UID:10026653-1856851200-1856883600@bluewaterparent.com
SUMMARY:Discovery Lab for Littles
DESCRIPTION:This event is included with admission.
URL:https://bluewaterparent.com/event/discovery-lab-for-littles/2028-11-03/
LOCATION:Discovery City Children’s Museum\, 317 Grand River Avenue\, Port huron\, MI\, 48060
END:VEVENT
BEGIN:VEVENT
DTSTART;TZID=America/New_York:20281108T080000
DTEND;TZID=America/New_York:20281108T170000
DTSTAMP:20260420T022612
CREATED:20260419T012510Z
LAST-MODIFIED:20260419T012510Z
UID:10026654-1857283200-1857315600@bluewaterparent.com
SUMMARY:Discovery Lab for Littles
DESCRIPTION:This event is included with admission.
URL:https://bluewaterparent.com/event/discovery-lab-for-littles/2028-11-08/
LOCATION:Discovery City Children’s Museum\, 317 Grand River Avenue\, Port huron\, MI\, 48060
END:VEVENT
BEGIN:VEVENT
DTSTART;TZID=America/New_York:20281110T080000
DTEND;TZID=America/New_York:20281110T170000
DTSTAMP:20260420T022612
CREATED:20260419T012510Z
LAST-MODIFIED:20260419T012510Z
UID:10026655-1857456000-1857488400@bluewaterparent.com
SUMMARY:Discovery Lab for Littles
DESCRIPTION:This event is included with admission.
URL:https://bluewaterparent.com/event/discovery-lab-for-littles/2028-11-10/
LOCATION:Discovery City Children’s Museum\, 317 Grand River Avenue\, Port huron\, MI\, 48060
END:VEVENT
BEGIN:VEVENT
DTSTART;TZID=America/New_York:20281115T080000
DTEND;TZID=America/New_York:20281115T170000
DTSTAMP:20260420T022612
CREATED:20260419T012510Z
LAST-MODIFIED:20260419T012510Z
UID:10026656-1857888000-1857920400@bluewaterparent.com
SUMMARY:Discovery Lab for Littles
DESCRIPTION:This event is included with admission.
URL:https://bluewaterparent.com/event/discovery-lab-for-littles/2028-11-15/
LOCATION:Discovery City Children’s Museum\, 317 Grand River Avenue\, Port huron\, MI\, 48060
END:VEVENT
BEGIN:VEVENT
DTSTART;TZID=America/New_York:20281117T080000
DTEND;TZID=America/New_York:20281117T170000
DTSTAMP:20260420T022612
CREATED:20260419T012510Z
LAST-MODIFIED:20260419T012510Z
UID:10026657-1858060800-1858093200@bluewaterparent.com
SUMMARY:Discovery Lab for Littles
DESCRIPTION:This event is included with admission.
URL:https://bluewaterparent.com/event/discovery-lab-for-littles/2028-11-17/
LOCATION:Discovery City Children’s Museum\, 317 Grand River Avenue\, Port huron\, MI\, 48060
END:VEVENT
END:VCALENDAR