BEGIN:VCALENDAR
VERSION:2.0
PRODID:-//BlueWaterParent.com - ECPv6.15.20//NONSGML v1.0//EN
CALSCALE:GREGORIAN
METHOD:PUBLISH
X-WR-CALNAME:BlueWaterParent.com
X-ORIGINAL-URL:https://bluewaterparent.com
X-WR-CALDESC:Events for BlueWaterParent.com
REFRESH-INTERVAL;VALUE=DURATION:PT1H
X-Robots-Tag:noindex
X-PUBLISHED-TTL:PT1H
BEGIN:VTIMEZONE
TZID:America/New_York
BEGIN:DAYLIGHT
TZOFFSETFROM:-0500
TZOFFSETTO:-0400
TZNAME:EDT
DTSTART:20300310T070000
END:DAYLIGHT
BEGIN:STANDARD
TZOFFSETFROM:-0400
TZOFFSETTO:-0500
TZNAME:EST
DTSTART:20301103T060000
END:STANDARD
BEGIN:DAYLIGHT
TZOFFSETFROM:-0500
TZOFFSETTO:-0400
TZNAME:EDT
DTSTART:20310309T070000
END:DAYLIGHT
BEGIN:STANDARD
TZOFFSETFROM:-0400
TZOFFSETTO:-0500
TZNAME:EST
DTSTART:20311102T060000
END:STANDARD
BEGIN:DAYLIGHT
TZOFFSETFROM:-0500
TZOFFSETTO:-0400
TZNAME:EDT
DTSTART:20320314T070000
END:DAYLIGHT
BEGIN:STANDARD
TZOFFSETFROM:-0400
TZOFFSETTO:-0500
TZNAME:EST
DTSTART:20321107T060000
END:STANDARD
END:VTIMEZONE
BEGIN:VEVENT
DTSTART;TZID=America/New_York:20310117T080000
DTEND;TZID=America/New_York:20310117T170000
DTSTAMP:20260421T013059
CREATED:20260419T012510Z
LAST-MODIFIED:20260419T012510Z
UID:10026883-1926403200-1926435600@bluewaterparent.com
SUMMARY:Discovery Lab for Littles
DESCRIPTION:This event is included with admission.
URL:https://bluewaterparent.com/event/discovery-lab-for-littles/2031-01-17/
LOCATION:Discovery City Children’s Museum\, 317 Grand River Avenue\, Port huron\, MI\, 48060
END:VEVENT
BEGIN:VEVENT
DTSTART;TZID=America/New_York:20310122T080000
DTEND;TZID=America/New_York:20310122T170000
DTSTAMP:20260421T013059
CREATED:20260419T012510Z
LAST-MODIFIED:20260419T012510Z
UID:10026884-1926835200-1926867600@bluewaterparent.com
SUMMARY:Discovery Lab for Littles
DESCRIPTION:This event is included with admission.
URL:https://bluewaterparent.com/event/discovery-lab-for-littles/2031-01-22/
LOCATION:Discovery City Children’s Museum\, 317 Grand River Avenue\, Port huron\, MI\, 48060
END:VEVENT
BEGIN:VEVENT
DTSTART;TZID=America/New_York:20310124T080000
DTEND;TZID=America/New_York:20310124T170000
DTSTAMP:20260421T013059
CREATED:20260419T012510Z
LAST-MODIFIED:20260419T012510Z
UID:10026885-1927008000-1927040400@bluewaterparent.com
SUMMARY:Discovery Lab for Littles
DESCRIPTION:This event is included with admission.
URL:https://bluewaterparent.com/event/discovery-lab-for-littles/2031-01-24/
LOCATION:Discovery City Children’s Museum\, 317 Grand River Avenue\, Port huron\, MI\, 48060
END:VEVENT
BEGIN:VEVENT
DTSTART;TZID=America/New_York:20310129T080000
DTEND;TZID=America/New_York:20310129T170000
DTSTAMP:20260421T013059
CREATED:20260419T012510Z
LAST-MODIFIED:20260419T012510Z
UID:10026886-1927440000-1927472400@bluewaterparent.com
SUMMARY:Discovery Lab for Littles
DESCRIPTION:This event is included with admission.
URL:https://bluewaterparent.com/event/discovery-lab-for-littles/2031-01-29/
LOCATION:Discovery City Children’s Museum\, 317 Grand River Avenue\, Port huron\, MI\, 48060
END:VEVENT
BEGIN:VEVENT
DTSTART;TZID=America/New_York:20310131T080000
DTEND;TZID=America/New_York:20310131T170000
DTSTAMP:20260421T013059
CREATED:20260419T012510Z
LAST-MODIFIED:20260419T012510Z
UID:10026887-1927612800-1927645200@bluewaterparent.com
SUMMARY:Discovery Lab for Littles
DESCRIPTION:This event is included with admission.
URL:https://bluewaterparent.com/event/discovery-lab-for-littles/2031-01-31/
LOCATION:Discovery City Children’s Museum\, 317 Grand River Avenue\, Port huron\, MI\, 48060
END:VEVENT
BEGIN:VEVENT
DTSTART;TZID=America/New_York:20310205T080000
DTEND;TZID=America/New_York:20310205T170000
DTSTAMP:20260421T013059
CREATED:20260419T012510Z
LAST-MODIFIED:20260419T012510Z
UID:10026888-1928044800-1928077200@bluewaterparent.com
SUMMARY:Discovery Lab for Littles
DESCRIPTION:This event is included with admission.
URL:https://bluewaterparent.com/event/discovery-lab-for-littles/2031-02-05/
LOCATION:Discovery City Children’s Museum\, 317 Grand River Avenue\, Port huron\, MI\, 48060
END:VEVENT
BEGIN:VEVENT
DTSTART;TZID=America/New_York:20310207T080000
DTEND;TZID=America/New_York:20310207T170000
DTSTAMP:20260421T013059
CREATED:20260419T012510Z
LAST-MODIFIED:20260419T012510Z
UID:10026889-1928217600-1928250000@bluewaterparent.com
SUMMARY:Discovery Lab for Littles
DESCRIPTION:This event is included with admission.
URL:https://bluewaterparent.com/event/discovery-lab-for-littles/2031-02-07/
LOCATION:Discovery City Children’s Museum\, 317 Grand River Avenue\, Port huron\, MI\, 48060
END:VEVENT
BEGIN:VEVENT
DTSTART;TZID=America/New_York:20310212T080000
DTEND;TZID=America/New_York:20310212T170000
DTSTAMP:20260421T013059
CREATED:20260419T012510Z
LAST-MODIFIED:20260419T012510Z
UID:10026890-1928649600-1928682000@bluewaterparent.com
SUMMARY:Discovery Lab for Littles
DESCRIPTION:This event is included with admission.
URL:https://bluewaterparent.com/event/discovery-lab-for-littles/2031-02-12/
LOCATION:Discovery City Children’s Museum\, 317 Grand River Avenue\, Port huron\, MI\, 48060
END:VEVENT
BEGIN:VEVENT
DTSTART;TZID=America/New_York:20310214T080000
DTEND;TZID=America/New_York:20310214T170000
DTSTAMP:20260421T013059
CREATED:20260419T012510Z
LAST-MODIFIED:20260419T012510Z
UID:10026891-1928822400-1928854800@bluewaterparent.com
SUMMARY:Discovery Lab for Littles
DESCRIPTION:This event is included with admission.
URL:https://bluewaterparent.com/event/discovery-lab-for-littles/2031-02-14/
LOCATION:Discovery City Children’s Museum\, 317 Grand River Avenue\, Port huron\, MI\, 48060
END:VEVENT
BEGIN:VEVENT
DTSTART;TZID=America/New_York:20310219T080000
DTEND;TZID=America/New_York:20310219T170000
DTSTAMP:20260421T013059
CREATED:20260419T012510Z
LAST-MODIFIED:20260419T012510Z
UID:10026892-1929254400-1929286800@bluewaterparent.com
SUMMARY:Discovery Lab for Littles
DESCRIPTION:This event is included with admission.
URL:https://bluewaterparent.com/event/discovery-lab-for-littles/2031-02-19/
LOCATION:Discovery City Children’s Museum\, 317 Grand River Avenue\, Port huron\, MI\, 48060
END:VEVENT
BEGIN:VEVENT
DTSTART;TZID=America/New_York:20310221T080000
DTEND;TZID=America/New_York:20310221T170000
DTSTAMP:20260421T013059
CREATED:20260419T012510Z
LAST-MODIFIED:20260419T012510Z
UID:10026893-1929427200-1929459600@bluewaterparent.com
SUMMARY:Discovery Lab for Littles
DESCRIPTION:This event is included with admission.
URL:https://bluewaterparent.com/event/discovery-lab-for-littles/2031-02-21/
LOCATION:Discovery City Children’s Museum\, 317 Grand River Avenue\, Port huron\, MI\, 48060
END:VEVENT
BEGIN:VEVENT
DTSTART;TZID=America/New_York:20310226T080000
DTEND;TZID=America/New_York:20310226T170000
DTSTAMP:20260421T013059
CREATED:20260419T012510Z
LAST-MODIFIED:20260419T012510Z
UID:10026894-1929859200-1929891600@bluewaterparent.com
SUMMARY:Discovery Lab for Littles
DESCRIPTION:This event is included with admission.
URL:https://bluewaterparent.com/event/discovery-lab-for-littles/2031-02-26/
LOCATION:Discovery City Children’s Museum\, 317 Grand River Avenue\, Port huron\, MI\, 48060
END:VEVENT
BEGIN:VEVENT
DTSTART;TZID=America/New_York:20310228T080000
DTEND;TZID=America/New_York:20310228T170000
DTSTAMP:20260421T013059
CREATED:20260419T012510Z
LAST-MODIFIED:20260419T012510Z
UID:10026895-1930032000-1930064400@bluewaterparent.com
SUMMARY:Discovery Lab for Littles
DESCRIPTION:This event is included with admission.
URL:https://bluewaterparent.com/event/discovery-lab-for-littles/2031-02-28/
LOCATION:Discovery City Children’s Museum\, 317 Grand River Avenue\, Port huron\, MI\, 48060
END:VEVENT
BEGIN:VEVENT
DTSTART;TZID=America/New_York:20310305T080000
DTEND;TZID=America/New_York:20310305T170000
DTSTAMP:20260421T013059
CREATED:20260419T012510Z
LAST-MODIFIED:20260419T012510Z
UID:10026896-1930464000-1930496400@bluewaterparent.com
SUMMARY:Discovery Lab for Littles
DESCRIPTION:This event is included with admission.
URL:https://bluewaterparent.com/event/discovery-lab-for-littles/2031-03-05/
LOCATION:Discovery City Children’s Museum\, 317 Grand River Avenue\, Port huron\, MI\, 48060
END:VEVENT
BEGIN:VEVENT
DTSTART;TZID=America/New_York:20310307T080000
DTEND;TZID=America/New_York:20310307T170000
DTSTAMP:20260421T013059
CREATED:20260419T012510Z
LAST-MODIFIED:20260419T012510Z
UID:10026897-1930636800-1930669200@bluewaterparent.com
SUMMARY:Discovery Lab for Littles
DESCRIPTION:This event is included with admission.
URL:https://bluewaterparent.com/event/discovery-lab-for-littles/2031-03-07/
LOCATION:Discovery City Children’s Museum\, 317 Grand River Avenue\, Port huron\, MI\, 48060
END:VEVENT
BEGIN:VEVENT
DTSTART;TZID=America/New_York:20310312T080000
DTEND;TZID=America/New_York:20310312T170000
DTSTAMP:20260421T013059
CREATED:20260419T012510Z
LAST-MODIFIED:20260419T012510Z
UID:10026898-1931068800-1931101200@bluewaterparent.com
SUMMARY:Discovery Lab for Littles
DESCRIPTION:This event is included with admission.
URL:https://bluewaterparent.com/event/discovery-lab-for-littles/2031-03-12/
LOCATION:Discovery City Children’s Museum\, 317 Grand River Avenue\, Port huron\, MI\, 48060
END:VEVENT
BEGIN:VEVENT
DTSTART;TZID=America/New_York:20310314T080000
DTEND;TZID=America/New_York:20310314T170000
DTSTAMP:20260421T013059
CREATED:20260419T012510Z
LAST-MODIFIED:20260419T012510Z
UID:10026899-1931241600-1931274000@bluewaterparent.com
SUMMARY:Discovery Lab for Littles
DESCRIPTION:This event is included with admission.
URL:https://bluewaterparent.com/event/discovery-lab-for-littles/2031-03-14/
LOCATION:Discovery City Children’s Museum\, 317 Grand River Avenue\, Port huron\, MI\, 48060
END:VEVENT
BEGIN:VEVENT
DTSTART;TZID=America/New_York:20310319T080000
DTEND;TZID=America/New_York:20310319T170000
DTSTAMP:20260421T013059
CREATED:20260419T012510Z
LAST-MODIFIED:20260419T012510Z
UID:10026900-1931673600-1931706000@bluewaterparent.com
SUMMARY:Discovery Lab for Littles
DESCRIPTION:This event is included with admission.
URL:https://bluewaterparent.com/event/discovery-lab-for-littles/2031-03-19/
LOCATION:Discovery City Children’s Museum\, 317 Grand River Avenue\, Port huron\, MI\, 48060
END:VEVENT
BEGIN:VEVENT
DTSTART;TZID=America/New_York:20310321T080000
DTEND;TZID=America/New_York:20310321T170000
DTSTAMP:20260421T013059
CREATED:20260419T012510Z
LAST-MODIFIED:20260419T012510Z
UID:10026901-1931846400-1931878800@bluewaterparent.com
SUMMARY:Discovery Lab for Littles
DESCRIPTION:This event is included with admission.
URL:https://bluewaterparent.com/event/discovery-lab-for-littles/2031-03-21/
LOCATION:Discovery City Children’s Museum\, 317 Grand River Avenue\, Port huron\, MI\, 48060
END:VEVENT
BEGIN:VEVENT
DTSTART;TZID=America/New_York:20310326T080000
DTEND;TZID=America/New_York:20310326T170000
DTSTAMP:20260421T013059
CREATED:20260419T012510Z
LAST-MODIFIED:20260419T012510Z
UID:10026902-1932278400-1932310800@bluewaterparent.com
SUMMARY:Discovery Lab for Littles
DESCRIPTION:This event is included with admission.
URL:https://bluewaterparent.com/event/discovery-lab-for-littles/2031-03-26/
LOCATION:Discovery City Children’s Museum\, 317 Grand River Avenue\, Port huron\, MI\, 48060
END:VEVENT
BEGIN:VEVENT
DTSTART;TZID=America/New_York:20310328T080000
DTEND;TZID=America/New_York:20310328T170000
DTSTAMP:20260421T013059
CREATED:20260419T012510Z
LAST-MODIFIED:20260419T012510Z
UID:10026903-1932451200-1932483600@bluewaterparent.com
SUMMARY:Discovery Lab for Littles
DESCRIPTION:This event is included with admission.
URL:https://bluewaterparent.com/event/discovery-lab-for-littles/2031-03-28/
LOCATION:Discovery City Children’s Museum\, 317 Grand River Avenue\, Port huron\, MI\, 48060
END:VEVENT
BEGIN:VEVENT
DTSTART;TZID=America/New_York:20310402T080000
DTEND;TZID=America/New_York:20310402T170000
DTSTAMP:20260421T013059
CREATED:20260419T012510Z
LAST-MODIFIED:20260419T012510Z
UID:10026904-1932883200-1932915600@bluewaterparent.com
SUMMARY:Discovery Lab for Littles
DESCRIPTION:This event is included with admission.
URL:https://bluewaterparent.com/event/discovery-lab-for-littles/2031-04-02/
LOCATION:Discovery City Children’s Museum\, 317 Grand River Avenue\, Port huron\, MI\, 48060
END:VEVENT
BEGIN:VEVENT
DTSTART;TZID=America/New_York:20310404T080000
DTEND;TZID=America/New_York:20310404T170000
DTSTAMP:20260421T013059
CREATED:20260419T012510Z
LAST-MODIFIED:20260419T012510Z
UID:10026905-1933056000-1933088400@bluewaterparent.com
SUMMARY:Discovery Lab for Littles
DESCRIPTION:This event is included with admission.
URL:https://bluewaterparent.com/event/discovery-lab-for-littles/2031-04-04/
LOCATION:Discovery City Children’s Museum\, 317 Grand River Avenue\, Port huron\, MI\, 48060
END:VEVENT
BEGIN:VEVENT
DTSTART;TZID=America/New_York:20310409T080000
DTEND;TZID=America/New_York:20310409T170000
DTSTAMP:20260421T013059
CREATED:20260419T012510Z
LAST-MODIFIED:20260419T012510Z
UID:10026906-1933488000-1933520400@bluewaterparent.com
SUMMARY:Discovery Lab for Littles
DESCRIPTION:This event is included with admission.
URL:https://bluewaterparent.com/event/discovery-lab-for-littles/2031-04-09/
LOCATION:Discovery City Children’s Museum\, 317 Grand River Avenue\, Port huron\, MI\, 48060
END:VEVENT
BEGIN:VEVENT
DTSTART;TZID=America/New_York:20310411T080000
DTEND;TZID=America/New_York:20310411T170000
DTSTAMP:20260421T013059
CREATED:20260419T012510Z
LAST-MODIFIED:20260419T012510Z
UID:10026907-1933660800-1933693200@bluewaterparent.com
SUMMARY:Discovery Lab for Littles
DESCRIPTION:This event is included with admission.
URL:https://bluewaterparent.com/event/discovery-lab-for-littles/2031-04-11/
LOCATION:Discovery City Children’s Museum\, 317 Grand River Avenue\, Port huron\, MI\, 48060
END:VEVENT
BEGIN:VEVENT
DTSTART;TZID=America/New_York:20310416T080000
DTEND;TZID=America/New_York:20310416T170000
DTSTAMP:20260421T013059
CREATED:20260419T012510Z
LAST-MODIFIED:20260419T012510Z
UID:10026908-1934092800-1934125200@bluewaterparent.com
SUMMARY:Discovery Lab for Littles
DESCRIPTION:This event is included with admission.
URL:https://bluewaterparent.com/event/discovery-lab-for-littles/2031-04-16/
LOCATION:Discovery City Children’s Museum\, 317 Grand River Avenue\, Port huron\, MI\, 48060
END:VEVENT
BEGIN:VEVENT
DTSTART;TZID=America/New_York:20310418T080000
DTEND;TZID=America/New_York:20310418T170000
DTSTAMP:20260421T013059
CREATED:20260419T012510Z
LAST-MODIFIED:20260419T012510Z
UID:10026909-1934265600-1934298000@bluewaterparent.com
SUMMARY:Discovery Lab for Littles
DESCRIPTION:This event is included with admission.
URL:https://bluewaterparent.com/event/discovery-lab-for-littles/2031-04-18/
LOCATION:Discovery City Children’s Museum\, 317 Grand River Avenue\, Port huron\, MI\, 48060
END:VEVENT
END:VCALENDAR