BEGIN:VCALENDAR
VERSION:2.0
PRODID:-//BlueWaterParent.com - ECPv6.15.20//NONSGML v1.0//EN
CALSCALE:GREGORIAN
METHOD:PUBLISH
X-ORIGINAL-URL:https://bluewaterparent.com
X-WR-CALDESC:Events for BlueWaterParent.com
REFRESH-INTERVAL;VALUE=DURATION:PT1H
X-Robots-Tag:noindex
X-PUBLISHED-TTL:PT1H
BEGIN:VTIMEZONE
TZID:America/New_York
BEGIN:DAYLIGHT
TZOFFSETFROM:-0500
TZOFFSETTO:-0400
TZNAME:EDT
DTSTART:20260308T070000
END:DAYLIGHT
BEGIN:STANDARD
TZOFFSETFROM:-0400
TZOFFSETTO:-0500
TZNAME:EST
DTSTART:20261101T060000
END:STANDARD
BEGIN:DAYLIGHT
TZOFFSETFROM:-0500
TZOFFSETTO:-0400
TZNAME:EDT
DTSTART:20270314T070000
END:DAYLIGHT
BEGIN:STANDARD
TZOFFSETFROM:-0400
TZOFFSETTO:-0500
TZNAME:EST
DTSTART:20271107T060000
END:STANDARD
BEGIN:DAYLIGHT
TZOFFSETFROM:-0500
TZOFFSETTO:-0400
TZNAME:EDT
DTSTART:20280312T070000
END:DAYLIGHT
BEGIN:STANDARD
TZOFFSETFROM:-0400
TZOFFSETTO:-0500
TZNAME:EST
DTSTART:20281105T060000
END:STANDARD
BEGIN:DAYLIGHT
TZOFFSETFROM:-0500
TZOFFSETTO:-0400
TZNAME:EDT
DTSTART:20290311T070000
END:DAYLIGHT
BEGIN:STANDARD
TZOFFSETFROM:-0400
TZOFFSETTO:-0500
TZNAME:EST
DTSTART:20291104T060000
END:STANDARD
BEGIN:DAYLIGHT
TZOFFSETFROM:-0500
TZOFFSETTO:-0400
TZNAME:EDT
DTSTART:20300310T070000
END:DAYLIGHT
BEGIN:STANDARD
TZOFFSETFROM:-0400
TZOFFSETTO:-0500
TZNAME:EST
DTSTART:20301103T060000
END:STANDARD
BEGIN:DAYLIGHT
TZOFFSETFROM:-0500
TZOFFSETTO:-0400
TZNAME:EDT
DTSTART:20310309T070000
END:DAYLIGHT
BEGIN:STANDARD
TZOFFSETFROM:-0400
TZOFFSETTO:-0500
TZNAME:EST
DTSTART:20311102T060000
END:STANDARD
END:VTIMEZONE
BEGIN:VEVENT
DTSTART;TZID=America/New_York:20270809T160000
DTEND;TZID=America/New_York:20270809T180000
DTSTAMP:20260422T210316
CREATED:20260101T211427Z
LAST-MODIFIED:20260101T211427Z
UID:10021051-1817827200-1817834400@bluewaterparent.com
SUMMARY:Teen Scene
DESCRIPTION:Ages 13-18.
URL:https://bluewaterparent.com/event/teen-scene/2027-08-09/
LOCATION:Capac Library\, 111 N Main St\, Capac\, MI\, 48014\, United States
CATEGORIES:Teens
END:VEVENT
BEGIN:VEVENT
DTSTART;TZID=America/New_York:20270913T160000
DTEND;TZID=America/New_York:20270913T180000
DTSTAMP:20260422T210316
CREATED:20260101T211427Z
LAST-MODIFIED:20260101T211427Z
UID:10021052-1820851200-1820858400@bluewaterparent.com
SUMMARY:Teen Scene
DESCRIPTION:Ages 13-18.
URL:https://bluewaterparent.com/event/teen-scene/2027-09-13/
LOCATION:Capac Library\, 111 N Main St\, Capac\, MI\, 48014\, United States
CATEGORIES:Teens
END:VEVENT
BEGIN:VEVENT
DTSTART;TZID=America/New_York:20271011T160000
DTEND;TZID=America/New_York:20271011T180000
DTSTAMP:20260422T210316
CREATED:20260101T211427Z
LAST-MODIFIED:20260101T211427Z
UID:10021053-1823270400-1823277600@bluewaterparent.com
SUMMARY:Teen Scene
DESCRIPTION:Ages 13-18.
URL:https://bluewaterparent.com/event/teen-scene/2027-10-11/
LOCATION:Capac Library\, 111 N Main St\, Capac\, MI\, 48014\, United States
CATEGORIES:Teens
END:VEVENT
BEGIN:VEVENT
DTSTART;TZID=America/New_York:20271108T160000
DTEND;TZID=America/New_York:20271108T180000
DTSTAMP:20260422T210316
CREATED:20260101T211427Z
LAST-MODIFIED:20260101T211427Z
UID:10021054-1825689600-1825696800@bluewaterparent.com
SUMMARY:Teen Scene
DESCRIPTION:Ages 13-18.
URL:https://bluewaterparent.com/event/teen-scene/2027-11-08/
LOCATION:Capac Library\, 111 N Main St\, Capac\, MI\, 48014\, United States
CATEGORIES:Teens
END:VEVENT
BEGIN:VEVENT
DTSTART;TZID=America/New_York:20271213T160000
DTEND;TZID=America/New_York:20271213T180000
DTSTAMP:20260422T210316
CREATED:20260101T211427Z
LAST-MODIFIED:20260101T211427Z
UID:10021055-1828713600-1828720800@bluewaterparent.com
SUMMARY:Teen Scene
DESCRIPTION:Ages 13-18.
URL:https://bluewaterparent.com/event/teen-scene/2027-12-13/
LOCATION:Capac Library\, 111 N Main St\, Capac\, MI\, 48014\, United States
CATEGORIES:Teens
END:VEVENT
BEGIN:VEVENT
DTSTART;TZID=America/New_York:20280110T160000
DTEND;TZID=America/New_York:20280110T180000
DTSTAMP:20260422T210316
CREATED:20260101T211427Z
LAST-MODIFIED:20260101T211427Z
UID:10021056-1831132800-1831140000@bluewaterparent.com
SUMMARY:Teen Scene
DESCRIPTION:Ages 13-18.
URL:https://bluewaterparent.com/event/teen-scene/2028-01-10/
LOCATION:Capac Library\, 111 N Main St\, Capac\, MI\, 48014\, United States
CATEGORIES:Teens
END:VEVENT
BEGIN:VEVENT
DTSTART;TZID=America/New_York:20280214T160000
DTEND;TZID=America/New_York:20280214T180000
DTSTAMP:20260422T210316
CREATED:20260101T211427Z
LAST-MODIFIED:20260101T211427Z
UID:10021057-1834156800-1834164000@bluewaterparent.com
SUMMARY:Teen Scene
DESCRIPTION:Ages 13-18.
URL:https://bluewaterparent.com/event/teen-scene/2028-02-14/
LOCATION:Capac Library\, 111 N Main St\, Capac\, MI\, 48014\, United States
CATEGORIES:Teens
END:VEVENT
BEGIN:VEVENT
DTSTART;TZID=America/New_York:20280313T160000
DTEND;TZID=America/New_York:20280313T180000
DTSTAMP:20260422T210316
CREATED:20260101T211427Z
LAST-MODIFIED:20260101T211427Z
UID:10021058-1836576000-1836583200@bluewaterparent.com
SUMMARY:Teen Scene
DESCRIPTION:Ages 13-18.
URL:https://bluewaterparent.com/event/teen-scene/2028-03-13/
LOCATION:Capac Library\, 111 N Main St\, Capac\, MI\, 48014\, United States
CATEGORIES:Teens
END:VEVENT
BEGIN:VEVENT
DTSTART;TZID=America/New_York:20280410T160000
DTEND;TZID=America/New_York:20280410T180000
DTSTAMP:20260422T210316
CREATED:20260101T211427Z
LAST-MODIFIED:20260101T211427Z
UID:10021059-1838995200-1839002400@bluewaterparent.com
SUMMARY:Teen Scene
DESCRIPTION:Ages 13-18.
URL:https://bluewaterparent.com/event/teen-scene/2028-04-10/
LOCATION:Capac Library\, 111 N Main St\, Capac\, MI\, 48014\, United States
CATEGORIES:Teens
END:VEVENT
BEGIN:VEVENT
DTSTART;TZID=America/New_York:20280508T160000
DTEND;TZID=America/New_York:20280508T180000
DTSTAMP:20260422T210316
CREATED:20260101T211427Z
LAST-MODIFIED:20260101T211427Z
UID:10021060-1841414400-1841421600@bluewaterparent.com
SUMMARY:Teen Scene
DESCRIPTION:Ages 13-18.
URL:https://bluewaterparent.com/event/teen-scene/2028-05-08/
LOCATION:Capac Library\, 111 N Main St\, Capac\, MI\, 48014\, United States
CATEGORIES:Teens
END:VEVENT
BEGIN:VEVENT
DTSTART;TZID=America/New_York:20280612T160000
DTEND;TZID=America/New_York:20280612T180000
DTSTAMP:20260422T210316
CREATED:20260101T211427Z
LAST-MODIFIED:20260101T211427Z
UID:10021061-1844438400-1844445600@bluewaterparent.com
SUMMARY:Teen Scene
DESCRIPTION:Ages 13-18.
URL:https://bluewaterparent.com/event/teen-scene/2028-06-12/
LOCATION:Capac Library\, 111 N Main St\, Capac\, MI\, 48014\, United States
CATEGORIES:Teens
END:VEVENT
BEGIN:VEVENT
DTSTART;TZID=America/New_York:20280710T160000
DTEND;TZID=America/New_York:20280710T180000
DTSTAMP:20260422T210316
CREATED:20260101T211427Z
LAST-MODIFIED:20260101T211427Z
UID:10021062-1846857600-1846864800@bluewaterparent.com
SUMMARY:Teen Scene
DESCRIPTION:Ages 13-18.
URL:https://bluewaterparent.com/event/teen-scene/2028-07-10/
LOCATION:Capac Library\, 111 N Main St\, Capac\, MI\, 48014\, United States
CATEGORIES:Teens
END:VEVENT
BEGIN:VEVENT
DTSTART;TZID=America/New_York:20280814T160000
DTEND;TZID=America/New_York:20280814T180000
DTSTAMP:20260422T210316
CREATED:20260101T211427Z
LAST-MODIFIED:20260101T211427Z
UID:10021063-1849881600-1849888800@bluewaterparent.com
SUMMARY:Teen Scene
DESCRIPTION:Ages 13-18.
URL:https://bluewaterparent.com/event/teen-scene/2028-08-14/
LOCATION:Capac Library\, 111 N Main St\, Capac\, MI\, 48014\, United States
CATEGORIES:Teens
END:VEVENT
BEGIN:VEVENT
DTSTART;TZID=America/New_York:20280911T160000
DTEND;TZID=America/New_York:20280911T180000
DTSTAMP:20260422T210316
CREATED:20260101T211427Z
LAST-MODIFIED:20260101T211427Z
UID:10021064-1852300800-1852308000@bluewaterparent.com
SUMMARY:Teen Scene
DESCRIPTION:Ages 13-18.
URL:https://bluewaterparent.com/event/teen-scene/2028-09-11/
LOCATION:Capac Library\, 111 N Main St\, Capac\, MI\, 48014\, United States
CATEGORIES:Teens
END:VEVENT
BEGIN:VEVENT
DTSTART;TZID=America/New_York:20281009T160000
DTEND;TZID=America/New_York:20281009T180000
DTSTAMP:20260422T210316
CREATED:20260101T211427Z
LAST-MODIFIED:20260101T211427Z
UID:10021065-1854720000-1854727200@bluewaterparent.com
SUMMARY:Teen Scene
DESCRIPTION:Ages 13-18.
URL:https://bluewaterparent.com/event/teen-scene/2028-10-09/
LOCATION:Capac Library\, 111 N Main St\, Capac\, MI\, 48014\, United States
CATEGORIES:Teens
END:VEVENT
BEGIN:VEVENT
DTSTART;TZID=America/New_York:20281113T160000
DTEND;TZID=America/New_York:20281113T180000
DTSTAMP:20260422T210316
CREATED:20260101T211427Z
LAST-MODIFIED:20260101T211427Z
UID:10021066-1857744000-1857751200@bluewaterparent.com
SUMMARY:Teen Scene
DESCRIPTION:Ages 13-18.
URL:https://bluewaterparent.com/event/teen-scene/2028-11-13/
LOCATION:Capac Library\, 111 N Main St\, Capac\, MI\, 48014\, United States
CATEGORIES:Teens
END:VEVENT
BEGIN:VEVENT
DTSTART;TZID=America/New_York:20281211T160000
DTEND;TZID=America/New_York:20281211T180000
DTSTAMP:20260422T210316
CREATED:20260101T211427Z
LAST-MODIFIED:20260101T211427Z
UID:10021067-1860163200-1860170400@bluewaterparent.com
SUMMARY:Teen Scene
DESCRIPTION:Ages 13-18.
URL:https://bluewaterparent.com/event/teen-scene/2028-12-11/
LOCATION:Capac Library\, 111 N Main St\, Capac\, MI\, 48014\, United States
CATEGORIES:Teens
END:VEVENT
BEGIN:VEVENT
DTSTART;TZID=America/New_York:20290108T160000
DTEND;TZID=America/New_York:20290108T180000
DTSTAMP:20260422T210316
CREATED:20260101T211427Z
LAST-MODIFIED:20260101T211427Z
UID:10021068-1862582400-1862589600@bluewaterparent.com
SUMMARY:Teen Scene
DESCRIPTION:Ages 13-18.
URL:https://bluewaterparent.com/event/teen-scene/2029-01-08/
LOCATION:Capac Library\, 111 N Main St\, Capac\, MI\, 48014\, United States
CATEGORIES:Teens
END:VEVENT
BEGIN:VEVENT
DTSTART;TZID=America/New_York:20290212T160000
DTEND;TZID=America/New_York:20290212T180000
DTSTAMP:20260422T210316
CREATED:20260101T211427Z
LAST-MODIFIED:20260101T211427Z
UID:10021069-1865606400-1865613600@bluewaterparent.com
SUMMARY:Teen Scene
DESCRIPTION:Ages 13-18.
URL:https://bluewaterparent.com/event/teen-scene/2029-02-12/
LOCATION:Capac Library\, 111 N Main St\, Capac\, MI\, 48014\, United States
CATEGORIES:Teens
END:VEVENT
BEGIN:VEVENT
DTSTART;TZID=America/New_York:20290312T160000
DTEND;TZID=America/New_York:20290312T180000
DTSTAMP:20260422T210316
CREATED:20260101T211427Z
LAST-MODIFIED:20260101T211427Z
UID:10021070-1868025600-1868032800@bluewaterparent.com
SUMMARY:Teen Scene
DESCRIPTION:Ages 13-18.
URL:https://bluewaterparent.com/event/teen-scene/2029-03-12/
LOCATION:Capac Library\, 111 N Main St\, Capac\, MI\, 48014\, United States
CATEGORIES:Teens
END:VEVENT
BEGIN:VEVENT
DTSTART;TZID=America/New_York:20290409T160000
DTEND;TZID=America/New_York:20290409T180000
DTSTAMP:20260422T210316
CREATED:20260101T211427Z
LAST-MODIFIED:20260101T211427Z
UID:10021071-1870444800-1870452000@bluewaterparent.com
SUMMARY:Teen Scene
DESCRIPTION:Ages 13-18.
URL:https://bluewaterparent.com/event/teen-scene/2029-04-09/
LOCATION:Capac Library\, 111 N Main St\, Capac\, MI\, 48014\, United States
CATEGORIES:Teens
END:VEVENT
BEGIN:VEVENT
DTSTART;TZID=America/New_York:20290514T160000
DTEND;TZID=America/New_York:20290514T180000
DTSTAMP:20260422T210316
CREATED:20260101T211427Z
LAST-MODIFIED:20260101T211427Z
UID:10021072-1873468800-1873476000@bluewaterparent.com
SUMMARY:Teen Scene
DESCRIPTION:Ages 13-18.
URL:https://bluewaterparent.com/event/teen-scene/2029-05-14/
LOCATION:Capac Library\, 111 N Main St\, Capac\, MI\, 48014\, United States
CATEGORIES:Teens
END:VEVENT
BEGIN:VEVENT
DTSTART;TZID=America/New_York:20290611T160000
DTEND;TZID=America/New_York:20290611T180000
DTSTAMP:20260422T210316
CREATED:20260101T211427Z
LAST-MODIFIED:20260101T211427Z
UID:10021073-1875888000-1875895200@bluewaterparent.com
SUMMARY:Teen Scene
DESCRIPTION:Ages 13-18.
URL:https://bluewaterparent.com/event/teen-scene/2029-06-11/
LOCATION:Capac Library\, 111 N Main St\, Capac\, MI\, 48014\, United States
CATEGORIES:Teens
END:VEVENT
BEGIN:VEVENT
DTSTART;TZID=America/New_York:20290709T160000
DTEND;TZID=America/New_York:20290709T180000
DTSTAMP:20260422T210316
CREATED:20260101T211427Z
LAST-MODIFIED:20260101T211427Z
UID:10021074-1878307200-1878314400@bluewaterparent.com
SUMMARY:Teen Scene
DESCRIPTION:Ages 13-18.
URL:https://bluewaterparent.com/event/teen-scene/2029-07-09/
LOCATION:Capac Library\, 111 N Main St\, Capac\, MI\, 48014\, United States
CATEGORIES:Teens
END:VEVENT
BEGIN:VEVENT
DTSTART;TZID=America/New_York:20290813T160000
DTEND;TZID=America/New_York:20290813T180000
DTSTAMP:20260422T210316
CREATED:20260101T211427Z
LAST-MODIFIED:20260101T211427Z
UID:10021075-1881331200-1881338400@bluewaterparent.com
SUMMARY:Teen Scene
DESCRIPTION:Ages 13-18.
URL:https://bluewaterparent.com/event/teen-scene/2029-08-13/
LOCATION:Capac Library\, 111 N Main St\, Capac\, MI\, 48014\, United States
CATEGORIES:Teens
END:VEVENT
BEGIN:VEVENT
DTSTART;TZID=America/New_York:20290910T160000
DTEND;TZID=America/New_York:20290910T180000
DTSTAMP:20260422T210316
CREATED:20260101T211427Z
LAST-MODIFIED:20260101T211427Z
UID:10021076-1883750400-1883757600@bluewaterparent.com
SUMMARY:Teen Scene
DESCRIPTION:Ages 13-18.
URL:https://bluewaterparent.com/event/teen-scene/2029-09-10/
LOCATION:Capac Library\, 111 N Main St\, Capac\, MI\, 48014\, United States
CATEGORIES:Teens
END:VEVENT
BEGIN:VEVENT
DTSTART;TZID=America/New_York:20291008T160000
DTEND;TZID=America/New_York:20291008T180000
DTSTAMP:20260422T210316
CREATED:20260101T211427Z
LAST-MODIFIED:20260101T211427Z
UID:10021077-1886169600-1886176800@bluewaterparent.com
SUMMARY:Teen Scene
DESCRIPTION:Ages 13-18.
URL:https://bluewaterparent.com/event/teen-scene/2029-10-08/
LOCATION:Capac Library\, 111 N Main St\, Capac\, MI\, 48014\, United States
CATEGORIES:Teens
END:VEVENT
BEGIN:VEVENT
DTSTART;TZID=America/New_York:20291112T160000
DTEND;TZID=America/New_York:20291112T180000
DTSTAMP:20260422T210316
CREATED:20260101T211427Z
LAST-MODIFIED:20260101T211427Z
UID:10021078-1889193600-1889200800@bluewaterparent.com
SUMMARY:Teen Scene
DESCRIPTION:Ages 13-18.
URL:https://bluewaterparent.com/event/teen-scene/2029-11-12/
LOCATION:Capac Library\, 111 N Main St\, Capac\, MI\, 48014\, United States
CATEGORIES:Teens
END:VEVENT
BEGIN:VEVENT
DTSTART;TZID=America/New_York:20291210T160000
DTEND;TZID=America/New_York:20291210T180000
DTSTAMP:20260422T210316
CREATED:20260101T211427Z
LAST-MODIFIED:20260101T211427Z
UID:10021079-1891612800-1891620000@bluewaterparent.com
SUMMARY:Teen Scene
DESCRIPTION:Ages 13-18.
URL:https://bluewaterparent.com/event/teen-scene/2029-12-10/
LOCATION:Capac Library\, 111 N Main St\, Capac\, MI\, 48014\, United States
CATEGORIES:Teens
END:VEVENT
BEGIN:VEVENT
DTSTART;TZID=America/New_York:20300114T160000
DTEND;TZID=America/New_York:20300114T180000
DTSTAMP:20260422T210316
CREATED:20260101T211427Z
LAST-MODIFIED:20260101T211427Z
UID:10021080-1894636800-1894644000@bluewaterparent.com
SUMMARY:Teen Scene
DESCRIPTION:Ages 13-18.
URL:https://bluewaterparent.com/event/teen-scene/2030-01-14/
LOCATION:Capac Library\, 111 N Main St\, Capac\, MI\, 48014\, United States
CATEGORIES:Teens
END:VEVENT
END:VCALENDAR