BEGIN:VCALENDAR
VERSION:2.0
PRODID:-//BlueWaterParent.com - ECPv6.15.20//NONSGML v1.0//EN
CALSCALE:GREGORIAN
METHOD:PUBLISH
X-WR-CALNAME:BlueWaterParent.com
X-ORIGINAL-URL:https://bluewaterparent.com
X-WR-CALDESC:Events for BlueWaterParent.com
REFRESH-INTERVAL;VALUE=DURATION:PT1H
X-Robots-Tag:noindex
X-PUBLISHED-TTL:PT1H
BEGIN:VTIMEZONE
TZID:America/New_York
BEGIN:DAYLIGHT
TZOFFSETFROM:-0500
TZOFFSETTO:-0400
TZNAME:EDT
DTSTART:20260308T070000
END:DAYLIGHT
BEGIN:STANDARD
TZOFFSETFROM:-0400
TZOFFSETTO:-0500
TZNAME:EST
DTSTART:20261101T060000
END:STANDARD
BEGIN:DAYLIGHT
TZOFFSETFROM:-0500
TZOFFSETTO:-0400
TZNAME:EDT
DTSTART:20270314T070000
END:DAYLIGHT
BEGIN:STANDARD
TZOFFSETFROM:-0400
TZOFFSETTO:-0500
TZNAME:EST
DTSTART:20271107T060000
END:STANDARD
BEGIN:DAYLIGHT
TZOFFSETFROM:-0500
TZOFFSETTO:-0400
TZNAME:EDT
DTSTART:20280312T070000
END:DAYLIGHT
BEGIN:STANDARD
TZOFFSETFROM:-0400
TZOFFSETTO:-0500
TZNAME:EST
DTSTART:20281105T060000
END:STANDARD
END:VTIMEZONE
BEGIN:VEVENT
DTSTART;TZID=America/New_York:20270101T080000
DTEND;TZID=America/New_York:20270101T170000
DTSTAMP:20260419T140511
CREATED:20260419T012510Z
LAST-MODIFIED:20260419T012510Z
UID:10026461-1798790400-1798822800@bluewaterparent.com
SUMMARY:Discovery Lab for Littles
DESCRIPTION:This event is included with admission.
URL:https://bluewaterparent.com/event/discovery-lab-for-littles/2027-01-01/
LOCATION:Discovery City Children’s Museum\, 317 Grand River Avenue\, Port huron\, MI\, 48060
END:VEVENT
BEGIN:VEVENT
DTSTART;TZID=America/New_York:20270106T080000
DTEND;TZID=America/New_York:20270106T170000
DTSTAMP:20260419T140511
CREATED:20260419T012510Z
LAST-MODIFIED:20260419T012510Z
UID:10026462-1799222400-1799254800@bluewaterparent.com
SUMMARY:Discovery Lab for Littles
DESCRIPTION:This event is included with admission.
URL:https://bluewaterparent.com/event/discovery-lab-for-littles/2027-01-06/
LOCATION:Discovery City Children’s Museum\, 317 Grand River Avenue\, Port huron\, MI\, 48060
END:VEVENT
BEGIN:VEVENT
DTSTART;TZID=America/New_York:20270108T080000
DTEND;TZID=America/New_York:20270108T170000
DTSTAMP:20260419T140511
CREATED:20260419T012510Z
LAST-MODIFIED:20260419T012510Z
UID:10026463-1799395200-1799427600@bluewaterparent.com
SUMMARY:Discovery Lab for Littles
DESCRIPTION:This event is included with admission.
URL:https://bluewaterparent.com/event/discovery-lab-for-littles/2027-01-08/
LOCATION:Discovery City Children’s Museum\, 317 Grand River Avenue\, Port huron\, MI\, 48060
END:VEVENT
BEGIN:VEVENT
DTSTART;TZID=America/New_York:20270113T080000
DTEND;TZID=America/New_York:20270113T170000
DTSTAMP:20260419T140511
CREATED:20260419T012510Z
LAST-MODIFIED:20260419T012510Z
UID:10026464-1799827200-1799859600@bluewaterparent.com
SUMMARY:Discovery Lab for Littles
DESCRIPTION:This event is included with admission.
URL:https://bluewaterparent.com/event/discovery-lab-for-littles/2027-01-13/
LOCATION:Discovery City Children’s Museum\, 317 Grand River Avenue\, Port huron\, MI\, 48060
END:VEVENT
BEGIN:VEVENT
DTSTART;TZID=America/New_York:20270115T080000
DTEND;TZID=America/New_York:20270115T170000
DTSTAMP:20260419T140511
CREATED:20260419T012510Z
LAST-MODIFIED:20260419T012510Z
UID:10026465-1800000000-1800032400@bluewaterparent.com
SUMMARY:Discovery Lab for Littles
DESCRIPTION:This event is included with admission.
URL:https://bluewaterparent.com/event/discovery-lab-for-littles/2027-01-15/
LOCATION:Discovery City Children’s Museum\, 317 Grand River Avenue\, Port huron\, MI\, 48060
END:VEVENT
BEGIN:VEVENT
DTSTART;TZID=America/New_York:20270120T080000
DTEND;TZID=America/New_York:20270120T170000
DTSTAMP:20260419T140511
CREATED:20260419T012510Z
LAST-MODIFIED:20260419T012510Z
UID:10026466-1800432000-1800464400@bluewaterparent.com
SUMMARY:Discovery Lab for Littles
DESCRIPTION:This event is included with admission.
URL:https://bluewaterparent.com/event/discovery-lab-for-littles/2027-01-20/
LOCATION:Discovery City Children’s Museum\, 317 Grand River Avenue\, Port huron\, MI\, 48060
END:VEVENT
BEGIN:VEVENT
DTSTART;TZID=America/New_York:20270122T080000
DTEND;TZID=America/New_York:20270122T170000
DTSTAMP:20260419T140511
CREATED:20260419T012510Z
LAST-MODIFIED:20260419T012510Z
UID:10026467-1800604800-1800637200@bluewaterparent.com
SUMMARY:Discovery Lab for Littles
DESCRIPTION:This event is included with admission.
URL:https://bluewaterparent.com/event/discovery-lab-for-littles/2027-01-22/
LOCATION:Discovery City Children’s Museum\, 317 Grand River Avenue\, Port huron\, MI\, 48060
END:VEVENT
BEGIN:VEVENT
DTSTART;TZID=America/New_York:20270127T080000
DTEND;TZID=America/New_York:20270127T170000
DTSTAMP:20260419T140511
CREATED:20260419T012510Z
LAST-MODIFIED:20260419T012510Z
UID:10026468-1801036800-1801069200@bluewaterparent.com
SUMMARY:Discovery Lab for Littles
DESCRIPTION:This event is included with admission.
URL:https://bluewaterparent.com/event/discovery-lab-for-littles/2027-01-27/
LOCATION:Discovery City Children’s Museum\, 317 Grand River Avenue\, Port huron\, MI\, 48060
END:VEVENT
BEGIN:VEVENT
DTSTART;TZID=America/New_York:20270129T080000
DTEND;TZID=America/New_York:20270129T170000
DTSTAMP:20260419T140511
CREATED:20260419T012510Z
LAST-MODIFIED:20260419T012510Z
UID:10026469-1801209600-1801242000@bluewaterparent.com
SUMMARY:Discovery Lab for Littles
DESCRIPTION:This event is included with admission.
URL:https://bluewaterparent.com/event/discovery-lab-for-littles/2027-01-29/
LOCATION:Discovery City Children’s Museum\, 317 Grand River Avenue\, Port huron\, MI\, 48060
END:VEVENT
BEGIN:VEVENT
DTSTART;TZID=America/New_York:20270203T080000
DTEND;TZID=America/New_York:20270203T170000
DTSTAMP:20260419T140511
CREATED:20260419T012510Z
LAST-MODIFIED:20260419T012510Z
UID:10026470-1801641600-1801674000@bluewaterparent.com
SUMMARY:Discovery Lab for Littles
DESCRIPTION:This event is included with admission.
URL:https://bluewaterparent.com/event/discovery-lab-for-littles/2027-02-03/
LOCATION:Discovery City Children’s Museum\, 317 Grand River Avenue\, Port huron\, MI\, 48060
END:VEVENT
BEGIN:VEVENT
DTSTART;TZID=America/New_York:20270205T080000
DTEND;TZID=America/New_York:20270205T170000
DTSTAMP:20260419T140511
CREATED:20260419T012510Z
LAST-MODIFIED:20260419T012510Z
UID:10026471-1801814400-1801846800@bluewaterparent.com
SUMMARY:Discovery Lab for Littles
DESCRIPTION:This event is included with admission.
URL:https://bluewaterparent.com/event/discovery-lab-for-littles/2027-02-05/
LOCATION:Discovery City Children’s Museum\, 317 Grand River Avenue\, Port huron\, MI\, 48060
END:VEVENT
BEGIN:VEVENT
DTSTART;TZID=America/New_York:20270210T080000
DTEND;TZID=America/New_York:20270210T170000
DTSTAMP:20260419T140511
CREATED:20260419T012510Z
LAST-MODIFIED:20260419T012510Z
UID:10026472-1802246400-1802278800@bluewaterparent.com
SUMMARY:Discovery Lab for Littles
DESCRIPTION:This event is included with admission.
URL:https://bluewaterparent.com/event/discovery-lab-for-littles/2027-02-10/
LOCATION:Discovery City Children’s Museum\, 317 Grand River Avenue\, Port huron\, MI\, 48060
END:VEVENT
BEGIN:VEVENT
DTSTART;TZID=America/New_York:20270212T080000
DTEND;TZID=America/New_York:20270212T170000
DTSTAMP:20260419T140511
CREATED:20260419T012510Z
LAST-MODIFIED:20260419T012510Z
UID:10026473-1802419200-1802451600@bluewaterparent.com
SUMMARY:Discovery Lab for Littles
DESCRIPTION:This event is included with admission.
URL:https://bluewaterparent.com/event/discovery-lab-for-littles/2027-02-12/
LOCATION:Discovery City Children’s Museum\, 317 Grand River Avenue\, Port huron\, MI\, 48060
END:VEVENT
BEGIN:VEVENT
DTSTART;TZID=America/New_York:20270217T080000
DTEND;TZID=America/New_York:20270217T170000
DTSTAMP:20260419T140511
CREATED:20260419T012510Z
LAST-MODIFIED:20260419T012510Z
UID:10026474-1802851200-1802883600@bluewaterparent.com
SUMMARY:Discovery Lab for Littles
DESCRIPTION:This event is included with admission.
URL:https://bluewaterparent.com/event/discovery-lab-for-littles/2027-02-17/
LOCATION:Discovery City Children’s Museum\, 317 Grand River Avenue\, Port huron\, MI\, 48060
END:VEVENT
BEGIN:VEVENT
DTSTART;TZID=America/New_York:20270219T080000
DTEND;TZID=America/New_York:20270219T170000
DTSTAMP:20260419T140511
CREATED:20260419T012510Z
LAST-MODIFIED:20260419T012510Z
UID:10026475-1803024000-1803056400@bluewaterparent.com
SUMMARY:Discovery Lab for Littles
DESCRIPTION:This event is included with admission.
URL:https://bluewaterparent.com/event/discovery-lab-for-littles/2027-02-19/
LOCATION:Discovery City Children’s Museum\, 317 Grand River Avenue\, Port huron\, MI\, 48060
END:VEVENT
BEGIN:VEVENT
DTSTART;TZID=America/New_York:20270224T080000
DTEND;TZID=America/New_York:20270224T170000
DTSTAMP:20260419T140511
CREATED:20260419T012510Z
LAST-MODIFIED:20260419T012510Z
UID:10026476-1803456000-1803488400@bluewaterparent.com
SUMMARY:Discovery Lab for Littles
DESCRIPTION:This event is included with admission.
URL:https://bluewaterparent.com/event/discovery-lab-for-littles/2027-02-24/
LOCATION:Discovery City Children’s Museum\, 317 Grand River Avenue\, Port huron\, MI\, 48060
END:VEVENT
BEGIN:VEVENT
DTSTART;TZID=America/New_York:20270226T080000
DTEND;TZID=America/New_York:20270226T170000
DTSTAMP:20260419T140511
CREATED:20260419T012510Z
LAST-MODIFIED:20260419T012510Z
UID:10026477-1803628800-1803661200@bluewaterparent.com
SUMMARY:Discovery Lab for Littles
DESCRIPTION:This event is included with admission.
URL:https://bluewaterparent.com/event/discovery-lab-for-littles/2027-02-26/
LOCATION:Discovery City Children’s Museum\, 317 Grand River Avenue\, Port huron\, MI\, 48060
END:VEVENT
BEGIN:VEVENT
DTSTART;TZID=America/New_York:20270303T080000
DTEND;TZID=America/New_York:20270303T170000
DTSTAMP:20260419T140511
CREATED:20260419T012510Z
LAST-MODIFIED:20260419T012510Z
UID:10026478-1804060800-1804093200@bluewaterparent.com
SUMMARY:Discovery Lab for Littles
DESCRIPTION:This event is included with admission.
URL:https://bluewaterparent.com/event/discovery-lab-for-littles/2027-03-03/
LOCATION:Discovery City Children’s Museum\, 317 Grand River Avenue\, Port huron\, MI\, 48060
END:VEVENT
BEGIN:VEVENT
DTSTART;TZID=America/New_York:20270305T080000
DTEND;TZID=America/New_York:20270305T170000
DTSTAMP:20260419T140511
CREATED:20260419T012510Z
LAST-MODIFIED:20260419T012510Z
UID:10026479-1804233600-1804266000@bluewaterparent.com
SUMMARY:Discovery Lab for Littles
DESCRIPTION:This event is included with admission.
URL:https://bluewaterparent.com/event/discovery-lab-for-littles/2027-03-05/
LOCATION:Discovery City Children’s Museum\, 317 Grand River Avenue\, Port huron\, MI\, 48060
END:VEVENT
BEGIN:VEVENT
DTSTART;TZID=America/New_York:20270310T080000
DTEND;TZID=America/New_York:20270310T170000
DTSTAMP:20260419T140511
CREATED:20260419T012510Z
LAST-MODIFIED:20260419T012510Z
UID:10026480-1804665600-1804698000@bluewaterparent.com
SUMMARY:Discovery Lab for Littles
DESCRIPTION:This event is included with admission.
URL:https://bluewaterparent.com/event/discovery-lab-for-littles/2027-03-10/
LOCATION:Discovery City Children’s Museum\, 317 Grand River Avenue\, Port huron\, MI\, 48060
END:VEVENT
BEGIN:VEVENT
DTSTART;TZID=America/New_York:20270312T080000
DTEND;TZID=America/New_York:20270312T170000
DTSTAMP:20260419T140511
CREATED:20260419T012510Z
LAST-MODIFIED:20260419T012510Z
UID:10026481-1804838400-1804870800@bluewaterparent.com
SUMMARY:Discovery Lab for Littles
DESCRIPTION:This event is included with admission.
URL:https://bluewaterparent.com/event/discovery-lab-for-littles/2027-03-12/
LOCATION:Discovery City Children’s Museum\, 317 Grand River Avenue\, Port huron\, MI\, 48060
END:VEVENT
BEGIN:VEVENT
DTSTART;TZID=America/New_York:20270317T080000
DTEND;TZID=America/New_York:20270317T170000
DTSTAMP:20260419T140511
CREATED:20260419T012510Z
LAST-MODIFIED:20260419T012510Z
UID:10026482-1805270400-1805302800@bluewaterparent.com
SUMMARY:Discovery Lab for Littles
DESCRIPTION:This event is included with admission.
URL:https://bluewaterparent.com/event/discovery-lab-for-littles/2027-03-17/
LOCATION:Discovery City Children’s Museum\, 317 Grand River Avenue\, Port huron\, MI\, 48060
END:VEVENT
BEGIN:VEVENT
DTSTART;TZID=America/New_York:20270319T080000
DTEND;TZID=America/New_York:20270319T170000
DTSTAMP:20260419T140511
CREATED:20260419T012510Z
LAST-MODIFIED:20260419T012510Z
UID:10026483-1805443200-1805475600@bluewaterparent.com
SUMMARY:Discovery Lab for Littles
DESCRIPTION:This event is included with admission.
URL:https://bluewaterparent.com/event/discovery-lab-for-littles/2027-03-19/
LOCATION:Discovery City Children’s Museum\, 317 Grand River Avenue\, Port huron\, MI\, 48060
END:VEVENT
BEGIN:VEVENT
DTSTART;TZID=America/New_York:20270324T080000
DTEND;TZID=America/New_York:20270324T170000
DTSTAMP:20260419T140511
CREATED:20260419T012510Z
LAST-MODIFIED:20260419T012510Z
UID:10026484-1805875200-1805907600@bluewaterparent.com
SUMMARY:Discovery Lab for Littles
DESCRIPTION:This event is included with admission.
URL:https://bluewaterparent.com/event/discovery-lab-for-littles/2027-03-24/
LOCATION:Discovery City Children’s Museum\, 317 Grand River Avenue\, Port huron\, MI\, 48060
END:VEVENT
BEGIN:VEVENT
DTSTART;TZID=America/New_York:20270326T080000
DTEND;TZID=America/New_York:20270326T170000
DTSTAMP:20260419T140511
CREATED:20260419T012510Z
LAST-MODIFIED:20260419T012510Z
UID:10026485-1806048000-1806080400@bluewaterparent.com
SUMMARY:Discovery Lab for Littles
DESCRIPTION:This event is included with admission.
URL:https://bluewaterparent.com/event/discovery-lab-for-littles/2027-03-26/
LOCATION:Discovery City Children’s Museum\, 317 Grand River Avenue\, Port huron\, MI\, 48060
END:VEVENT
BEGIN:VEVENT
DTSTART;TZID=America/New_York:20270331T080000
DTEND;TZID=America/New_York:20270331T170000
DTSTAMP:20260419T140511
CREATED:20260419T012510Z
LAST-MODIFIED:20260419T012510Z
UID:10026486-1806480000-1806512400@bluewaterparent.com
SUMMARY:Discovery Lab for Littles
DESCRIPTION:This event is included with admission.
URL:https://bluewaterparent.com/event/discovery-lab-for-littles/2027-03-31/
LOCATION:Discovery City Children’s Museum\, 317 Grand River Avenue\, Port huron\, MI\, 48060
END:VEVENT
BEGIN:VEVENT
DTSTART;TZID=America/New_York:20270402T080000
DTEND;TZID=America/New_York:20270402T170000
DTSTAMP:20260419T140511
CREATED:20260419T012510Z
LAST-MODIFIED:20260419T012510Z
UID:10026487-1806652800-1806685200@bluewaterparent.com
SUMMARY:Discovery Lab for Littles
DESCRIPTION:This event is included with admission.
URL:https://bluewaterparent.com/event/discovery-lab-for-littles/2027-04-02/
LOCATION:Discovery City Children’s Museum\, 317 Grand River Avenue\, Port huron\, MI\, 48060
END:VEVENT
BEGIN:VEVENT
DTSTART;TZID=America/New_York:20270407T080000
DTEND;TZID=America/New_York:20270407T170000
DTSTAMP:20260419T140511
CREATED:20260419T012510Z
LAST-MODIFIED:20260419T012510Z
UID:10026488-1807084800-1807117200@bluewaterparent.com
SUMMARY:Discovery Lab for Littles
DESCRIPTION:This event is included with admission.
URL:https://bluewaterparent.com/event/discovery-lab-for-littles/2027-04-07/
LOCATION:Discovery City Children’s Museum\, 317 Grand River Avenue\, Port huron\, MI\, 48060
END:VEVENT
BEGIN:VEVENT
DTSTART;TZID=America/New_York:20270409T080000
DTEND;TZID=America/New_York:20270409T170000
DTSTAMP:20260419T140511
CREATED:20260419T012510Z
LAST-MODIFIED:20260419T012510Z
UID:10026489-1807257600-1807290000@bluewaterparent.com
SUMMARY:Discovery Lab for Littles
DESCRIPTION:This event is included with admission.
URL:https://bluewaterparent.com/event/discovery-lab-for-littles/2027-04-09/
LOCATION:Discovery City Children’s Museum\, 317 Grand River Avenue\, Port huron\, MI\, 48060
END:VEVENT
BEGIN:VEVENT
DTSTART;TZID=America/New_York:20270414T080000
DTEND;TZID=America/New_York:20270414T170000
DTSTAMP:20260419T140511
CREATED:20260419T012510Z
LAST-MODIFIED:20260419T012510Z
UID:10026490-1807689600-1807722000@bluewaterparent.com
SUMMARY:Discovery Lab for Littles
DESCRIPTION:This event is included with admission.
URL:https://bluewaterparent.com/event/discovery-lab-for-littles/2027-04-14/
LOCATION:Discovery City Children’s Museum\, 317 Grand River Avenue\, Port huron\, MI\, 48060
END:VEVENT
END:VCALENDAR