BEGIN:VCALENDAR
VERSION:2.0
PRODID:-//BlueWaterParent.com - ECPv6.15.20//NONSGML v1.0//EN
CALSCALE:GREGORIAN
METHOD:PUBLISH
X-WR-CALNAME:BlueWaterParent.com
X-ORIGINAL-URL:https://bluewaterparent.com
X-WR-CALDESC:Events for BlueWaterParent.com
REFRESH-INTERVAL;VALUE=DURATION:PT1H
X-Robots-Tag:noindex
X-PUBLISHED-TTL:PT1H
BEGIN:VTIMEZONE
TZID:America/New_York
BEGIN:DAYLIGHT
TZOFFSETFROM:-0500
TZOFFSETTO:-0400
TZNAME:EDT
DTSTART:20280312T070000
END:DAYLIGHT
BEGIN:STANDARD
TZOFFSETFROM:-0400
TZOFFSETTO:-0500
TZNAME:EST
DTSTART:20281105T060000
END:STANDARD
BEGIN:DAYLIGHT
TZOFFSETFROM:-0500
TZOFFSETTO:-0400
TZNAME:EDT
DTSTART:20290311T070000
END:DAYLIGHT
BEGIN:STANDARD
TZOFFSETFROM:-0400
TZOFFSETTO:-0500
TZNAME:EST
DTSTART:20291104T060000
END:STANDARD
BEGIN:DAYLIGHT
TZOFFSETFROM:-0500
TZOFFSETTO:-0400
TZNAME:EDT
DTSTART:20300310T070000
END:DAYLIGHT
BEGIN:STANDARD
TZOFFSETFROM:-0400
TZOFFSETTO:-0500
TZNAME:EST
DTSTART:20301103T060000
END:STANDARD
END:VTIMEZONE
BEGIN:VEVENT
DTSTART;TZID=America/New_York:20290112T080000
DTEND;TZID=America/New_York:20290112T170000
DTSTAMP:20260420T105924
CREATED:20260419T012510Z
LAST-MODIFIED:20260419T012510Z
UID:10026673-1862899200-1862931600@bluewaterparent.com
SUMMARY:Discovery Lab for Littles
DESCRIPTION:This event is included with admission.
URL:https://bluewaterparent.com/event/discovery-lab-for-littles/2029-01-12/
LOCATION:Discovery City Children’s Museum\, 317 Grand River Avenue\, Port huron\, MI\, 48060
END:VEVENT
BEGIN:VEVENT
DTSTART;TZID=America/New_York:20290117T080000
DTEND;TZID=America/New_York:20290117T170000
DTSTAMP:20260420T105924
CREATED:20260419T012510Z
LAST-MODIFIED:20260419T012510Z
UID:10026674-1863331200-1863363600@bluewaterparent.com
SUMMARY:Discovery Lab for Littles
DESCRIPTION:This event is included with admission.
URL:https://bluewaterparent.com/event/discovery-lab-for-littles/2029-01-17/
LOCATION:Discovery City Children’s Museum\, 317 Grand River Avenue\, Port huron\, MI\, 48060
END:VEVENT
BEGIN:VEVENT
DTSTART;TZID=America/New_York:20290119T080000
DTEND;TZID=America/New_York:20290119T170000
DTSTAMP:20260420T105924
CREATED:20260419T012510Z
LAST-MODIFIED:20260419T012510Z
UID:10026675-1863504000-1863536400@bluewaterparent.com
SUMMARY:Discovery Lab for Littles
DESCRIPTION:This event is included with admission.
URL:https://bluewaterparent.com/event/discovery-lab-for-littles/2029-01-19/
LOCATION:Discovery City Children’s Museum\, 317 Grand River Avenue\, Port huron\, MI\, 48060
END:VEVENT
BEGIN:VEVENT
DTSTART;TZID=America/New_York:20290124T080000
DTEND;TZID=America/New_York:20290124T170000
DTSTAMP:20260420T105924
CREATED:20260419T012510Z
LAST-MODIFIED:20260419T012510Z
UID:10026676-1863936000-1863968400@bluewaterparent.com
SUMMARY:Discovery Lab for Littles
DESCRIPTION:This event is included with admission.
URL:https://bluewaterparent.com/event/discovery-lab-for-littles/2029-01-24/
LOCATION:Discovery City Children’s Museum\, 317 Grand River Avenue\, Port huron\, MI\, 48060
END:VEVENT
BEGIN:VEVENT
DTSTART;TZID=America/New_York:20290126T080000
DTEND;TZID=America/New_York:20290126T170000
DTSTAMP:20260420T105924
CREATED:20260419T012510Z
LAST-MODIFIED:20260419T012510Z
UID:10026677-1864108800-1864141200@bluewaterparent.com
SUMMARY:Discovery Lab for Littles
DESCRIPTION:This event is included with admission.
URL:https://bluewaterparent.com/event/discovery-lab-for-littles/2029-01-26/
LOCATION:Discovery City Children’s Museum\, 317 Grand River Avenue\, Port huron\, MI\, 48060
END:VEVENT
BEGIN:VEVENT
DTSTART;TZID=America/New_York:20290131T080000
DTEND;TZID=America/New_York:20290131T170000
DTSTAMP:20260420T105924
CREATED:20260419T012510Z
LAST-MODIFIED:20260419T012510Z
UID:10026678-1864540800-1864573200@bluewaterparent.com
SUMMARY:Discovery Lab for Littles
DESCRIPTION:This event is included with admission.
URL:https://bluewaterparent.com/event/discovery-lab-for-littles/2029-01-31/
LOCATION:Discovery City Children’s Museum\, 317 Grand River Avenue\, Port huron\, MI\, 48060
END:VEVENT
BEGIN:VEVENT
DTSTART;TZID=America/New_York:20290202T080000
DTEND;TZID=America/New_York:20290202T170000
DTSTAMP:20260420T105924
CREATED:20260419T012510Z
LAST-MODIFIED:20260419T012510Z
UID:10026679-1864713600-1864746000@bluewaterparent.com
SUMMARY:Discovery Lab for Littles
DESCRIPTION:This event is included with admission.
URL:https://bluewaterparent.com/event/discovery-lab-for-littles/2029-02-02/
LOCATION:Discovery City Children’s Museum\, 317 Grand River Avenue\, Port huron\, MI\, 48060
END:VEVENT
BEGIN:VEVENT
DTSTART;TZID=America/New_York:20290207T080000
DTEND;TZID=America/New_York:20290207T170000
DTSTAMP:20260420T105924
CREATED:20260419T012510Z
LAST-MODIFIED:20260419T012510Z
UID:10026680-1865145600-1865178000@bluewaterparent.com
SUMMARY:Discovery Lab for Littles
DESCRIPTION:This event is included with admission.
URL:https://bluewaterparent.com/event/discovery-lab-for-littles/2029-02-07/
LOCATION:Discovery City Children’s Museum\, 317 Grand River Avenue\, Port huron\, MI\, 48060
END:VEVENT
BEGIN:VEVENT
DTSTART;TZID=America/New_York:20290209T080000
DTEND;TZID=America/New_York:20290209T170000
DTSTAMP:20260420T105924
CREATED:20260419T012510Z
LAST-MODIFIED:20260419T012510Z
UID:10026681-1865318400-1865350800@bluewaterparent.com
SUMMARY:Discovery Lab for Littles
DESCRIPTION:This event is included with admission.
URL:https://bluewaterparent.com/event/discovery-lab-for-littles/2029-02-09/
LOCATION:Discovery City Children’s Museum\, 317 Grand River Avenue\, Port huron\, MI\, 48060
END:VEVENT
BEGIN:VEVENT
DTSTART;TZID=America/New_York:20290214T080000
DTEND;TZID=America/New_York:20290214T170000
DTSTAMP:20260420T105924
CREATED:20260419T012510Z
LAST-MODIFIED:20260419T012510Z
UID:10026682-1865750400-1865782800@bluewaterparent.com
SUMMARY:Discovery Lab for Littles
DESCRIPTION:This event is included with admission.
URL:https://bluewaterparent.com/event/discovery-lab-for-littles/2029-02-14/
LOCATION:Discovery City Children’s Museum\, 317 Grand River Avenue\, Port huron\, MI\, 48060
END:VEVENT
BEGIN:VEVENT
DTSTART;TZID=America/New_York:20290216T080000
DTEND;TZID=America/New_York:20290216T170000
DTSTAMP:20260420T105924
CREATED:20260419T012510Z
LAST-MODIFIED:20260419T012510Z
UID:10026683-1865923200-1865955600@bluewaterparent.com
SUMMARY:Discovery Lab for Littles
DESCRIPTION:This event is included with admission.
URL:https://bluewaterparent.com/event/discovery-lab-for-littles/2029-02-16/
LOCATION:Discovery City Children’s Museum\, 317 Grand River Avenue\, Port huron\, MI\, 48060
END:VEVENT
BEGIN:VEVENT
DTSTART;TZID=America/New_York:20290221T080000
DTEND;TZID=America/New_York:20290221T170000
DTSTAMP:20260420T105924
CREATED:20260419T012510Z
LAST-MODIFIED:20260419T012510Z
UID:10026684-1866355200-1866387600@bluewaterparent.com
SUMMARY:Discovery Lab for Littles
DESCRIPTION:This event is included with admission.
URL:https://bluewaterparent.com/event/discovery-lab-for-littles/2029-02-21/
LOCATION:Discovery City Children’s Museum\, 317 Grand River Avenue\, Port huron\, MI\, 48060
END:VEVENT
BEGIN:VEVENT
DTSTART;TZID=America/New_York:20290223T080000
DTEND;TZID=America/New_York:20290223T170000
DTSTAMP:20260420T105924
CREATED:20260419T012510Z
LAST-MODIFIED:20260419T012510Z
UID:10026685-1866528000-1866560400@bluewaterparent.com
SUMMARY:Discovery Lab for Littles
DESCRIPTION:This event is included with admission.
URL:https://bluewaterparent.com/event/discovery-lab-for-littles/2029-02-23/
LOCATION:Discovery City Children’s Museum\, 317 Grand River Avenue\, Port huron\, MI\, 48060
END:VEVENT
BEGIN:VEVENT
DTSTART;TZID=America/New_York:20290228T080000
DTEND;TZID=America/New_York:20290228T170000
DTSTAMP:20260420T105924
CREATED:20260419T012510Z
LAST-MODIFIED:20260419T012510Z
UID:10026686-1866960000-1866992400@bluewaterparent.com
SUMMARY:Discovery Lab for Littles
DESCRIPTION:This event is included with admission.
URL:https://bluewaterparent.com/event/discovery-lab-for-littles/2029-02-28/
LOCATION:Discovery City Children’s Museum\, 317 Grand River Avenue\, Port huron\, MI\, 48060
END:VEVENT
BEGIN:VEVENT
DTSTART;TZID=America/New_York:20290302T080000
DTEND;TZID=America/New_York:20290302T170000
DTSTAMP:20260420T105924
CREATED:20260419T012510Z
LAST-MODIFIED:20260419T012510Z
UID:10026687-1867132800-1867165200@bluewaterparent.com
SUMMARY:Discovery Lab for Littles
DESCRIPTION:This event is included with admission.
URL:https://bluewaterparent.com/event/discovery-lab-for-littles/2029-03-02/
LOCATION:Discovery City Children’s Museum\, 317 Grand River Avenue\, Port huron\, MI\, 48060
END:VEVENT
BEGIN:VEVENT
DTSTART;TZID=America/New_York:20290307T080000
DTEND;TZID=America/New_York:20290307T170000
DTSTAMP:20260420T105924
CREATED:20260419T012510Z
LAST-MODIFIED:20260419T012510Z
UID:10026688-1867564800-1867597200@bluewaterparent.com
SUMMARY:Discovery Lab for Littles
DESCRIPTION:This event is included with admission.
URL:https://bluewaterparent.com/event/discovery-lab-for-littles/2029-03-07/
LOCATION:Discovery City Children’s Museum\, 317 Grand River Avenue\, Port huron\, MI\, 48060
END:VEVENT
BEGIN:VEVENT
DTSTART;TZID=America/New_York:20290309T080000
DTEND;TZID=America/New_York:20290309T170000
DTSTAMP:20260420T105924
CREATED:20260419T012510Z
LAST-MODIFIED:20260419T012510Z
UID:10026689-1867737600-1867770000@bluewaterparent.com
SUMMARY:Discovery Lab for Littles
DESCRIPTION:This event is included with admission.
URL:https://bluewaterparent.com/event/discovery-lab-for-littles/2029-03-09/
LOCATION:Discovery City Children’s Museum\, 317 Grand River Avenue\, Port huron\, MI\, 48060
END:VEVENT
BEGIN:VEVENT
DTSTART;TZID=America/New_York:20290314T080000
DTEND;TZID=America/New_York:20290314T170000
DTSTAMP:20260420T105924
CREATED:20260419T012510Z
LAST-MODIFIED:20260419T012510Z
UID:10026690-1868169600-1868202000@bluewaterparent.com
SUMMARY:Discovery Lab for Littles
DESCRIPTION:This event is included with admission.
URL:https://bluewaterparent.com/event/discovery-lab-for-littles/2029-03-14/
LOCATION:Discovery City Children’s Museum\, 317 Grand River Avenue\, Port huron\, MI\, 48060
END:VEVENT
BEGIN:VEVENT
DTSTART;TZID=America/New_York:20290316T080000
DTEND;TZID=America/New_York:20290316T170000
DTSTAMP:20260420T105924
CREATED:20260419T012510Z
LAST-MODIFIED:20260419T012510Z
UID:10026691-1868342400-1868374800@bluewaterparent.com
SUMMARY:Discovery Lab for Littles
DESCRIPTION:This event is included with admission.
URL:https://bluewaterparent.com/event/discovery-lab-for-littles/2029-03-16/
LOCATION:Discovery City Children’s Museum\, 317 Grand River Avenue\, Port huron\, MI\, 48060
END:VEVENT
BEGIN:VEVENT
DTSTART;TZID=America/New_York:20290321T080000
DTEND;TZID=America/New_York:20290321T170000
DTSTAMP:20260420T105924
CREATED:20260419T012510Z
LAST-MODIFIED:20260419T012510Z
UID:10026692-1868774400-1868806800@bluewaterparent.com
SUMMARY:Discovery Lab for Littles
DESCRIPTION:This event is included with admission.
URL:https://bluewaterparent.com/event/discovery-lab-for-littles/2029-03-21/
LOCATION:Discovery City Children’s Museum\, 317 Grand River Avenue\, Port huron\, MI\, 48060
END:VEVENT
BEGIN:VEVENT
DTSTART;TZID=America/New_York:20290323T080000
DTEND;TZID=America/New_York:20290323T170000
DTSTAMP:20260420T105924
CREATED:20260419T012510Z
LAST-MODIFIED:20260419T012510Z
UID:10026693-1868947200-1868979600@bluewaterparent.com
SUMMARY:Discovery Lab for Littles
DESCRIPTION:This event is included with admission.
URL:https://bluewaterparent.com/event/discovery-lab-for-littles/2029-03-23/
LOCATION:Discovery City Children’s Museum\, 317 Grand River Avenue\, Port huron\, MI\, 48060
END:VEVENT
BEGIN:VEVENT
DTSTART;TZID=America/New_York:20290328T080000
DTEND;TZID=America/New_York:20290328T170000
DTSTAMP:20260420T105924
CREATED:20260419T012510Z
LAST-MODIFIED:20260419T012510Z
UID:10026694-1869379200-1869411600@bluewaterparent.com
SUMMARY:Discovery Lab for Littles
DESCRIPTION:This event is included with admission.
URL:https://bluewaterparent.com/event/discovery-lab-for-littles/2029-03-28/
LOCATION:Discovery City Children’s Museum\, 317 Grand River Avenue\, Port huron\, MI\, 48060
END:VEVENT
BEGIN:VEVENT
DTSTART;TZID=America/New_York:20290330T080000
DTEND;TZID=America/New_York:20290330T170000
DTSTAMP:20260420T105924
CREATED:20260419T012510Z
LAST-MODIFIED:20260419T012510Z
UID:10026695-1869552000-1869584400@bluewaterparent.com
SUMMARY:Discovery Lab for Littles
DESCRIPTION:This event is included with admission.
URL:https://bluewaterparent.com/event/discovery-lab-for-littles/2029-03-30/
LOCATION:Discovery City Children’s Museum\, 317 Grand River Avenue\, Port huron\, MI\, 48060
END:VEVENT
BEGIN:VEVENT
DTSTART;TZID=America/New_York:20290404T080000
DTEND;TZID=America/New_York:20290404T170000
DTSTAMP:20260420T105924
CREATED:20260419T012510Z
LAST-MODIFIED:20260419T012510Z
UID:10026696-1869984000-1870016400@bluewaterparent.com
SUMMARY:Discovery Lab for Littles
DESCRIPTION:This event is included with admission.
URL:https://bluewaterparent.com/event/discovery-lab-for-littles/2029-04-04/
LOCATION:Discovery City Children’s Museum\, 317 Grand River Avenue\, Port huron\, MI\, 48060
END:VEVENT
BEGIN:VEVENT
DTSTART;TZID=America/New_York:20290406T080000
DTEND;TZID=America/New_York:20290406T170000
DTSTAMP:20260420T105924
CREATED:20260419T012510Z
LAST-MODIFIED:20260419T012510Z
UID:10026697-1870156800-1870189200@bluewaterparent.com
SUMMARY:Discovery Lab for Littles
DESCRIPTION:This event is included with admission.
URL:https://bluewaterparent.com/event/discovery-lab-for-littles/2029-04-06/
LOCATION:Discovery City Children’s Museum\, 317 Grand River Avenue\, Port huron\, MI\, 48060
END:VEVENT
BEGIN:VEVENT
DTSTART;TZID=America/New_York:20290411T080000
DTEND;TZID=America/New_York:20290411T170000
DTSTAMP:20260420T105924
CREATED:20260419T012510Z
LAST-MODIFIED:20260419T012510Z
UID:10026698-1870588800-1870621200@bluewaterparent.com
SUMMARY:Discovery Lab for Littles
DESCRIPTION:This event is included with admission.
URL:https://bluewaterparent.com/event/discovery-lab-for-littles/2029-04-11/
LOCATION:Discovery City Children’s Museum\, 317 Grand River Avenue\, Port huron\, MI\, 48060
END:VEVENT
BEGIN:VEVENT
DTSTART;TZID=America/New_York:20290413T080000
DTEND;TZID=America/New_York:20290413T170000
DTSTAMP:20260420T105924
CREATED:20260419T012510Z
LAST-MODIFIED:20260419T012510Z
UID:10026699-1870761600-1870794000@bluewaterparent.com
SUMMARY:Discovery Lab for Littles
DESCRIPTION:This event is included with admission.
URL:https://bluewaterparent.com/event/discovery-lab-for-littles/2029-04-13/
LOCATION:Discovery City Children’s Museum\, 317 Grand River Avenue\, Port huron\, MI\, 48060
END:VEVENT
BEGIN:VEVENT
DTSTART;TZID=America/New_York:20290418T080000
DTEND;TZID=America/New_York:20290418T170000
DTSTAMP:20260420T105924
CREATED:20260419T012510Z
LAST-MODIFIED:20260419T012510Z
UID:10026700-1871193600-1871226000@bluewaterparent.com
SUMMARY:Discovery Lab for Littles
DESCRIPTION:This event is included with admission.
URL:https://bluewaterparent.com/event/discovery-lab-for-littles/2029-04-18/
LOCATION:Discovery City Children’s Museum\, 317 Grand River Avenue\, Port huron\, MI\, 48060
END:VEVENT
BEGIN:VEVENT
DTSTART;TZID=America/New_York:20290420T080000
DTEND;TZID=America/New_York:20290420T170000
DTSTAMP:20260420T105924
CREATED:20260419T012510Z
LAST-MODIFIED:20260419T012510Z
UID:10026701-1871366400-1871398800@bluewaterparent.com
SUMMARY:Discovery Lab for Littles
DESCRIPTION:This event is included with admission.
URL:https://bluewaterparent.com/event/discovery-lab-for-littles/2029-04-20/
LOCATION:Discovery City Children’s Museum\, 317 Grand River Avenue\, Port huron\, MI\, 48060
END:VEVENT
BEGIN:VEVENT
DTSTART;TZID=America/New_York:20290425T080000
DTEND;TZID=America/New_York:20290425T170000
DTSTAMP:20260420T105924
CREATED:20260419T012510Z
LAST-MODIFIED:20260419T012510Z
UID:10026702-1871798400-1871830800@bluewaterparent.com
SUMMARY:Discovery Lab for Littles
DESCRIPTION:This event is included with admission.
URL:https://bluewaterparent.com/event/discovery-lab-for-littles/2029-04-25/
LOCATION:Discovery City Children’s Museum\, 317 Grand River Avenue\, Port huron\, MI\, 48060
END:VEVENT
END:VCALENDAR