BEGIN:VCALENDAR
VERSION:2.0
PRODID:-//BlueWaterParent.com - ECPv6.15.20//NONSGML v1.0//EN
CALSCALE:GREGORIAN
METHOD:PUBLISH
X-WR-CALNAME:BlueWaterParent.com
X-ORIGINAL-URL:https://bluewaterparent.com
X-WR-CALDESC:Events for BlueWaterParent.com
REFRESH-INTERVAL;VALUE=DURATION:PT1H
X-Robots-Tag:noindex
X-PUBLISHED-TTL:PT1H
BEGIN:VTIMEZONE
TZID:America/New_York
BEGIN:DAYLIGHT
TZOFFSETFROM:-0500
TZOFFSETTO:-0400
TZNAME:EDT
DTSTART:20290311T070000
END:DAYLIGHT
BEGIN:STANDARD
TZOFFSETFROM:-0400
TZOFFSETTO:-0500
TZNAME:EST
DTSTART:20291104T060000
END:STANDARD
BEGIN:DAYLIGHT
TZOFFSETFROM:-0500
TZOFFSETTO:-0400
TZNAME:EDT
DTSTART:20300310T070000
END:DAYLIGHT
BEGIN:STANDARD
TZOFFSETFROM:-0400
TZOFFSETTO:-0500
TZNAME:EST
DTSTART:20301103T060000
END:STANDARD
BEGIN:DAYLIGHT
TZOFFSETFROM:-0500
TZOFFSETTO:-0400
TZNAME:EDT
DTSTART:20310309T070000
END:DAYLIGHT
BEGIN:STANDARD
TZOFFSETFROM:-0400
TZOFFSETTO:-0500
TZNAME:EST
DTSTART:20311102T060000
END:STANDARD
END:VTIMEZONE
BEGIN:VEVENT
DTSTART;TZID=America/New_York:20300116T080000
DTEND;TZID=America/New_York:20300116T170000
DTSTAMP:20260420T201721
CREATED:20260419T012510Z
LAST-MODIFIED:20260419T012510Z
UID:10026778-1894780800-1894813200@bluewaterparent.com
SUMMARY:Discovery Lab for Littles
DESCRIPTION:This event is included with admission.
URL:https://bluewaterparent.com/event/discovery-lab-for-littles/2030-01-16/
LOCATION:Discovery City Children’s Museum\, 317 Grand River Avenue\, Port huron\, MI\, 48060
END:VEVENT
BEGIN:VEVENT
DTSTART;TZID=America/New_York:20300118T080000
DTEND;TZID=America/New_York:20300118T170000
DTSTAMP:20260420T201721
CREATED:20260419T012510Z
LAST-MODIFIED:20260419T012510Z
UID:10026779-1894953600-1894986000@bluewaterparent.com
SUMMARY:Discovery Lab for Littles
DESCRIPTION:This event is included with admission.
URL:https://bluewaterparent.com/event/discovery-lab-for-littles/2030-01-18/
LOCATION:Discovery City Children’s Museum\, 317 Grand River Avenue\, Port huron\, MI\, 48060
END:VEVENT
BEGIN:VEVENT
DTSTART;TZID=America/New_York:20300123T080000
DTEND;TZID=America/New_York:20300123T170000
DTSTAMP:20260420T201721
CREATED:20260419T012510Z
LAST-MODIFIED:20260419T012510Z
UID:10026780-1895385600-1895418000@bluewaterparent.com
SUMMARY:Discovery Lab for Littles
DESCRIPTION:This event is included with admission.
URL:https://bluewaterparent.com/event/discovery-lab-for-littles/2030-01-23/
LOCATION:Discovery City Children’s Museum\, 317 Grand River Avenue\, Port huron\, MI\, 48060
END:VEVENT
BEGIN:VEVENT
DTSTART;TZID=America/New_York:20300125T080000
DTEND;TZID=America/New_York:20300125T170000
DTSTAMP:20260420T201721
CREATED:20260419T012510Z
LAST-MODIFIED:20260419T012510Z
UID:10026781-1895558400-1895590800@bluewaterparent.com
SUMMARY:Discovery Lab for Littles
DESCRIPTION:This event is included with admission.
URL:https://bluewaterparent.com/event/discovery-lab-for-littles/2030-01-25/
LOCATION:Discovery City Children’s Museum\, 317 Grand River Avenue\, Port huron\, MI\, 48060
END:VEVENT
BEGIN:VEVENT
DTSTART;TZID=America/New_York:20300130T080000
DTEND;TZID=America/New_York:20300130T170000
DTSTAMP:20260420T201721
CREATED:20260419T012510Z
LAST-MODIFIED:20260419T012510Z
UID:10026782-1895990400-1896022800@bluewaterparent.com
SUMMARY:Discovery Lab for Littles
DESCRIPTION:This event is included with admission.
URL:https://bluewaterparent.com/event/discovery-lab-for-littles/2030-01-30/
LOCATION:Discovery City Children’s Museum\, 317 Grand River Avenue\, Port huron\, MI\, 48060
END:VEVENT
BEGIN:VEVENT
DTSTART;TZID=America/New_York:20300201T080000
DTEND;TZID=America/New_York:20300201T170000
DTSTAMP:20260420T201721
CREATED:20260419T012510Z
LAST-MODIFIED:20260419T012510Z
UID:10026783-1896163200-1896195600@bluewaterparent.com
SUMMARY:Discovery Lab for Littles
DESCRIPTION:This event is included with admission.
URL:https://bluewaterparent.com/event/discovery-lab-for-littles/2030-02-01/
LOCATION:Discovery City Children’s Museum\, 317 Grand River Avenue\, Port huron\, MI\, 48060
END:VEVENT
BEGIN:VEVENT
DTSTART;TZID=America/New_York:20300206T080000
DTEND;TZID=America/New_York:20300206T170000
DTSTAMP:20260420T201721
CREATED:20260419T012510Z
LAST-MODIFIED:20260419T012510Z
UID:10026784-1896595200-1896627600@bluewaterparent.com
SUMMARY:Discovery Lab for Littles
DESCRIPTION:This event is included with admission.
URL:https://bluewaterparent.com/event/discovery-lab-for-littles/2030-02-06/
LOCATION:Discovery City Children’s Museum\, 317 Grand River Avenue\, Port huron\, MI\, 48060
END:VEVENT
BEGIN:VEVENT
DTSTART;TZID=America/New_York:20300208T080000
DTEND;TZID=America/New_York:20300208T170000
DTSTAMP:20260420T201721
CREATED:20260419T012510Z
LAST-MODIFIED:20260419T012510Z
UID:10026785-1896768000-1896800400@bluewaterparent.com
SUMMARY:Discovery Lab for Littles
DESCRIPTION:This event is included with admission.
URL:https://bluewaterparent.com/event/discovery-lab-for-littles/2030-02-08/
LOCATION:Discovery City Children’s Museum\, 317 Grand River Avenue\, Port huron\, MI\, 48060
END:VEVENT
BEGIN:VEVENT
DTSTART;TZID=America/New_York:20300213T080000
DTEND;TZID=America/New_York:20300213T170000
DTSTAMP:20260420T201721
CREATED:20260419T012510Z
LAST-MODIFIED:20260419T012510Z
UID:10026786-1897200000-1897232400@bluewaterparent.com
SUMMARY:Discovery Lab for Littles
DESCRIPTION:This event is included with admission.
URL:https://bluewaterparent.com/event/discovery-lab-for-littles/2030-02-13/
LOCATION:Discovery City Children’s Museum\, 317 Grand River Avenue\, Port huron\, MI\, 48060
END:VEVENT
BEGIN:VEVENT
DTSTART;TZID=America/New_York:20300215T080000
DTEND;TZID=America/New_York:20300215T170000
DTSTAMP:20260420T201721
CREATED:20260419T012510Z
LAST-MODIFIED:20260419T012510Z
UID:10026787-1897372800-1897405200@bluewaterparent.com
SUMMARY:Discovery Lab for Littles
DESCRIPTION:This event is included with admission.
URL:https://bluewaterparent.com/event/discovery-lab-for-littles/2030-02-15/
LOCATION:Discovery City Children’s Museum\, 317 Grand River Avenue\, Port huron\, MI\, 48060
END:VEVENT
BEGIN:VEVENT
DTSTART;TZID=America/New_York:20300220T080000
DTEND;TZID=America/New_York:20300220T170000
DTSTAMP:20260420T201721
CREATED:20260419T012510Z
LAST-MODIFIED:20260419T012510Z
UID:10026788-1897804800-1897837200@bluewaterparent.com
SUMMARY:Discovery Lab for Littles
DESCRIPTION:This event is included with admission.
URL:https://bluewaterparent.com/event/discovery-lab-for-littles/2030-02-20/
LOCATION:Discovery City Children’s Museum\, 317 Grand River Avenue\, Port huron\, MI\, 48060
END:VEVENT
BEGIN:VEVENT
DTSTART;TZID=America/New_York:20300222T080000
DTEND;TZID=America/New_York:20300222T170000
DTSTAMP:20260420T201721
CREATED:20260419T012510Z
LAST-MODIFIED:20260419T012510Z
UID:10026789-1897977600-1898010000@bluewaterparent.com
SUMMARY:Discovery Lab for Littles
DESCRIPTION:This event is included with admission.
URL:https://bluewaterparent.com/event/discovery-lab-for-littles/2030-02-22/
LOCATION:Discovery City Children’s Museum\, 317 Grand River Avenue\, Port huron\, MI\, 48060
END:VEVENT
BEGIN:VEVENT
DTSTART;TZID=America/New_York:20300227T080000
DTEND;TZID=America/New_York:20300227T170000
DTSTAMP:20260420T201721
CREATED:20260419T012510Z
LAST-MODIFIED:20260419T012510Z
UID:10026790-1898409600-1898442000@bluewaterparent.com
SUMMARY:Discovery Lab for Littles
DESCRIPTION:This event is included with admission.
URL:https://bluewaterparent.com/event/discovery-lab-for-littles/2030-02-27/
LOCATION:Discovery City Children’s Museum\, 317 Grand River Avenue\, Port huron\, MI\, 48060
END:VEVENT
BEGIN:VEVENT
DTSTART;TZID=America/New_York:20300301T080000
DTEND;TZID=America/New_York:20300301T170000
DTSTAMP:20260420T201721
CREATED:20260419T012510Z
LAST-MODIFIED:20260419T012510Z
UID:10026791-1898582400-1898614800@bluewaterparent.com
SUMMARY:Discovery Lab for Littles
DESCRIPTION:This event is included with admission.
URL:https://bluewaterparent.com/event/discovery-lab-for-littles/2030-03-01/
LOCATION:Discovery City Children’s Museum\, 317 Grand River Avenue\, Port huron\, MI\, 48060
END:VEVENT
BEGIN:VEVENT
DTSTART;TZID=America/New_York:20300306T080000
DTEND;TZID=America/New_York:20300306T170000
DTSTAMP:20260420T201721
CREATED:20260419T012510Z
LAST-MODIFIED:20260419T012510Z
UID:10026792-1899014400-1899046800@bluewaterparent.com
SUMMARY:Discovery Lab for Littles
DESCRIPTION:This event is included with admission.
URL:https://bluewaterparent.com/event/discovery-lab-for-littles/2030-03-06/
LOCATION:Discovery City Children’s Museum\, 317 Grand River Avenue\, Port huron\, MI\, 48060
END:VEVENT
BEGIN:VEVENT
DTSTART;TZID=America/New_York:20300308T080000
DTEND;TZID=America/New_York:20300308T170000
DTSTAMP:20260420T201721
CREATED:20260419T012510Z
LAST-MODIFIED:20260419T012510Z
UID:10026793-1899187200-1899219600@bluewaterparent.com
SUMMARY:Discovery Lab for Littles
DESCRIPTION:This event is included with admission.
URL:https://bluewaterparent.com/event/discovery-lab-for-littles/2030-03-08/
LOCATION:Discovery City Children’s Museum\, 317 Grand River Avenue\, Port huron\, MI\, 48060
END:VEVENT
BEGIN:VEVENT
DTSTART;TZID=America/New_York:20300313T080000
DTEND;TZID=America/New_York:20300313T170000
DTSTAMP:20260420T201721
CREATED:20260419T012510Z
LAST-MODIFIED:20260419T012510Z
UID:10026794-1899619200-1899651600@bluewaterparent.com
SUMMARY:Discovery Lab for Littles
DESCRIPTION:This event is included with admission.
URL:https://bluewaterparent.com/event/discovery-lab-for-littles/2030-03-13/
LOCATION:Discovery City Children’s Museum\, 317 Grand River Avenue\, Port huron\, MI\, 48060
END:VEVENT
BEGIN:VEVENT
DTSTART;TZID=America/New_York:20300315T080000
DTEND;TZID=America/New_York:20300315T170000
DTSTAMP:20260420T201721
CREATED:20260419T012510Z
LAST-MODIFIED:20260419T012510Z
UID:10026795-1899792000-1899824400@bluewaterparent.com
SUMMARY:Discovery Lab for Littles
DESCRIPTION:This event is included with admission.
URL:https://bluewaterparent.com/event/discovery-lab-for-littles/2030-03-15/
LOCATION:Discovery City Children’s Museum\, 317 Grand River Avenue\, Port huron\, MI\, 48060
END:VEVENT
BEGIN:VEVENT
DTSTART;TZID=America/New_York:20300320T080000
DTEND;TZID=America/New_York:20300320T170000
DTSTAMP:20260420T201721
CREATED:20260419T012510Z
LAST-MODIFIED:20260419T012510Z
UID:10026796-1900224000-1900256400@bluewaterparent.com
SUMMARY:Discovery Lab for Littles
DESCRIPTION:This event is included with admission.
URL:https://bluewaterparent.com/event/discovery-lab-for-littles/2030-03-20/
LOCATION:Discovery City Children’s Museum\, 317 Grand River Avenue\, Port huron\, MI\, 48060
END:VEVENT
BEGIN:VEVENT
DTSTART;TZID=America/New_York:20300322T080000
DTEND;TZID=America/New_York:20300322T170000
DTSTAMP:20260420T201721
CREATED:20260419T012510Z
LAST-MODIFIED:20260419T012510Z
UID:10026797-1900396800-1900429200@bluewaterparent.com
SUMMARY:Discovery Lab for Littles
DESCRIPTION:This event is included with admission.
URL:https://bluewaterparent.com/event/discovery-lab-for-littles/2030-03-22/
LOCATION:Discovery City Children’s Museum\, 317 Grand River Avenue\, Port huron\, MI\, 48060
END:VEVENT
BEGIN:VEVENT
DTSTART;TZID=America/New_York:20300327T080000
DTEND;TZID=America/New_York:20300327T170000
DTSTAMP:20260420T201721
CREATED:20260419T012510Z
LAST-MODIFIED:20260419T012510Z
UID:10026798-1900828800-1900861200@bluewaterparent.com
SUMMARY:Discovery Lab for Littles
DESCRIPTION:This event is included with admission.
URL:https://bluewaterparent.com/event/discovery-lab-for-littles/2030-03-27/
LOCATION:Discovery City Children’s Museum\, 317 Grand River Avenue\, Port huron\, MI\, 48060
END:VEVENT
BEGIN:VEVENT
DTSTART;TZID=America/New_York:20300329T080000
DTEND;TZID=America/New_York:20300329T170000
DTSTAMP:20260420T201721
CREATED:20260419T012510Z
LAST-MODIFIED:20260419T012510Z
UID:10026799-1901001600-1901034000@bluewaterparent.com
SUMMARY:Discovery Lab for Littles
DESCRIPTION:This event is included with admission.
URL:https://bluewaterparent.com/event/discovery-lab-for-littles/2030-03-29/
LOCATION:Discovery City Children’s Museum\, 317 Grand River Avenue\, Port huron\, MI\, 48060
END:VEVENT
BEGIN:VEVENT
DTSTART;TZID=America/New_York:20300403T080000
DTEND;TZID=America/New_York:20300403T170000
DTSTAMP:20260420T201721
CREATED:20260419T012510Z
LAST-MODIFIED:20260419T012510Z
UID:10026800-1901433600-1901466000@bluewaterparent.com
SUMMARY:Discovery Lab for Littles
DESCRIPTION:This event is included with admission.
URL:https://bluewaterparent.com/event/discovery-lab-for-littles/2030-04-03/
LOCATION:Discovery City Children’s Museum\, 317 Grand River Avenue\, Port huron\, MI\, 48060
END:VEVENT
BEGIN:VEVENT
DTSTART;TZID=America/New_York:20300405T080000
DTEND;TZID=America/New_York:20300405T170000
DTSTAMP:20260420T201721
CREATED:20260419T012510Z
LAST-MODIFIED:20260419T012510Z
UID:10026801-1901606400-1901638800@bluewaterparent.com
SUMMARY:Discovery Lab for Littles
DESCRIPTION:This event is included with admission.
URL:https://bluewaterparent.com/event/discovery-lab-for-littles/2030-04-05/
LOCATION:Discovery City Children’s Museum\, 317 Grand River Avenue\, Port huron\, MI\, 48060
END:VEVENT
BEGIN:VEVENT
DTSTART;TZID=America/New_York:20300410T080000
DTEND;TZID=America/New_York:20300410T170000
DTSTAMP:20260420T201721
CREATED:20260419T012510Z
LAST-MODIFIED:20260419T012510Z
UID:10026802-1902038400-1902070800@bluewaterparent.com
SUMMARY:Discovery Lab for Littles
DESCRIPTION:This event is included with admission.
URL:https://bluewaterparent.com/event/discovery-lab-for-littles/2030-04-10/
LOCATION:Discovery City Children’s Museum\, 317 Grand River Avenue\, Port huron\, MI\, 48060
END:VEVENT
BEGIN:VEVENT
DTSTART;TZID=America/New_York:20300412T080000
DTEND;TZID=America/New_York:20300412T170000
DTSTAMP:20260420T201721
CREATED:20260419T012510Z
LAST-MODIFIED:20260419T012510Z
UID:10026803-1902211200-1902243600@bluewaterparent.com
SUMMARY:Discovery Lab for Littles
DESCRIPTION:This event is included with admission.
URL:https://bluewaterparent.com/event/discovery-lab-for-littles/2030-04-12/
LOCATION:Discovery City Children’s Museum\, 317 Grand River Avenue\, Port huron\, MI\, 48060
END:VEVENT
BEGIN:VEVENT
DTSTART;TZID=America/New_York:20300417T080000
DTEND;TZID=America/New_York:20300417T170000
DTSTAMP:20260420T201721
CREATED:20260419T012510Z
LAST-MODIFIED:20260419T012510Z
UID:10026804-1902643200-1902675600@bluewaterparent.com
SUMMARY:Discovery Lab for Littles
DESCRIPTION:This event is included with admission.
URL:https://bluewaterparent.com/event/discovery-lab-for-littles/2030-04-17/
LOCATION:Discovery City Children’s Museum\, 317 Grand River Avenue\, Port huron\, MI\, 48060
END:VEVENT
BEGIN:VEVENT
DTSTART;TZID=America/New_York:20300419T080000
DTEND;TZID=America/New_York:20300419T170000
DTSTAMP:20260420T201721
CREATED:20260419T012510Z
LAST-MODIFIED:20260419T012510Z
UID:10026805-1902816000-1902848400@bluewaterparent.com
SUMMARY:Discovery Lab for Littles
DESCRIPTION:This event is included with admission.
URL:https://bluewaterparent.com/event/discovery-lab-for-littles/2030-04-19/
LOCATION:Discovery City Children’s Museum\, 317 Grand River Avenue\, Port huron\, MI\, 48060
END:VEVENT
BEGIN:VEVENT
DTSTART;TZID=America/New_York:20300424T080000
DTEND;TZID=America/New_York:20300424T170000
DTSTAMP:20260420T201721
CREATED:20260419T012510Z
LAST-MODIFIED:20260419T012510Z
UID:10026806-1903248000-1903280400@bluewaterparent.com
SUMMARY:Discovery Lab for Littles
DESCRIPTION:This event is included with admission.
URL:https://bluewaterparent.com/event/discovery-lab-for-littles/2030-04-24/
LOCATION:Discovery City Children’s Museum\, 317 Grand River Avenue\, Port huron\, MI\, 48060
END:VEVENT
BEGIN:VEVENT
DTSTART;TZID=America/New_York:20300426T080000
DTEND;TZID=America/New_York:20300426T170000
DTSTAMP:20260420T201721
CREATED:20260419T012510Z
LAST-MODIFIED:20260419T012510Z
UID:10026807-1903420800-1903453200@bluewaterparent.com
SUMMARY:Discovery Lab for Littles
DESCRIPTION:This event is included with admission.
URL:https://bluewaterparent.com/event/discovery-lab-for-littles/2030-04-26/
LOCATION:Discovery City Children’s Museum\, 317 Grand River Avenue\, Port huron\, MI\, 48060
END:VEVENT
END:VCALENDAR