BEGIN:VCALENDAR
VERSION:2.0
PRODID:-//BlueWaterParent.com - ECPv6.15.20//NONSGML v1.0//EN
CALSCALE:GREGORIAN
METHOD:PUBLISH
X-WR-CALNAME:BlueWaterParent.com
X-ORIGINAL-URL:https://bluewaterparent.com
X-WR-CALDESC:Events for BlueWaterParent.com
REFRESH-INTERVAL;VALUE=DURATION:PT1H
X-Robots-Tag:noindex
X-PUBLISHED-TTL:PT1H
BEGIN:VTIMEZONE
TZID:America/New_York
BEGIN:DAYLIGHT
TZOFFSETFROM:-0500
TZOFFSETTO:-0400
TZNAME:EDT
DTSTART:20270314T070000
END:DAYLIGHT
BEGIN:STANDARD
TZOFFSETFROM:-0400
TZOFFSETTO:-0500
TZNAME:EST
DTSTART:20271107T060000
END:STANDARD
BEGIN:DAYLIGHT
TZOFFSETFROM:-0500
TZOFFSETTO:-0400
TZNAME:EDT
DTSTART:20280312T070000
END:DAYLIGHT
BEGIN:STANDARD
TZOFFSETFROM:-0400
TZOFFSETTO:-0500
TZNAME:EST
DTSTART:20281105T060000
END:STANDARD
BEGIN:DAYLIGHT
TZOFFSETFROM:-0500
TZOFFSETTO:-0400
TZNAME:EDT
DTSTART:20290311T070000
END:DAYLIGHT
BEGIN:STANDARD
TZOFFSETFROM:-0400
TZOFFSETTO:-0500
TZNAME:EST
DTSTART:20291104T060000
END:STANDARD
END:VTIMEZONE
BEGIN:VEVENT
DTSTART;TZID=America/New_York:20280502T153000
DTEND;TZID=America/New_York:20280502T173000
DTSTAMP:20260421T033940
CREATED:20260101T184832Z
LAST-MODIFIED:20260101T184832Z
UID:10019045-1840894200-1840901400@bluewaterparent.com
SUMMARY:Teen Zone - Burtchville
DESCRIPTION:Registration requested.
URL:https://bluewaterparent.com/event/teen-zone-burtchville-2/2028-05-02/
LOCATION:Burtchville Library\, 7093 2nd St\, Lakeport\, MI\, 48059\, United States
CATEGORIES:Teens
END:VEVENT
BEGIN:VEVENT
DTSTART;TZID=America/New_York:20280504T143000
DTEND;TZID=America/New_York:20280504T160000
DTSTAMP:20260421T033940
CREATED:20260101T200828Z
LAST-MODIFIED:20260101T200854Z
UID:10019714-1841063400-1841068800@bluewaterparent.com
SUMMARY:Teen Time - Yale
DESCRIPTION:
URL:https://bluewaterparent.com/event/teen-time-yale-3/2028-05-04/
LOCATION:Yale Library\, 2 Jones St\, Yale\, MI\, 48097\, United States
CATEGORIES:Teens
END:VEVENT
BEGIN:VEVENT
DTSTART;TZID=America/New_York:20280508T160000
DTEND;TZID=America/New_York:20280508T180000
DTSTAMP:20260421T033940
CREATED:20260101T211427Z
LAST-MODIFIED:20260101T211427Z
UID:10021060-1841414400-1841421600@bluewaterparent.com
SUMMARY:Teen Scene
DESCRIPTION:Ages 13-18.
URL:https://bluewaterparent.com/event/teen-scene/2028-05-08/
LOCATION:Capac Library\, 111 N Main St\, Capac\, MI\, 48014\, United States
CATEGORIES:Teens
END:VEVENT
BEGIN:VEVENT
DTSTART;TZID=America/New_York:20280509T170000
DTEND;TZID=America/New_York:20280509T193000
DTSTAMP:20260421T033940
CREATED:20260101T190453Z
LAST-MODIFIED:20260103T013002Z
UID:10021431-1841504400-1841513400@bluewaterparent.com
SUMMARY:Teen D&D Group - Algonac-Clay
DESCRIPTION:Registration requested.
URL:https://bluewaterparent.com/event/teen-dd-group-algonac-clay/2028-05-09/
LOCATION:Algonac-Clay Library\, 2011 St Clair River Dr\, Algonac\, MI\, 48001\, United States
CATEGORIES:Teens
END:VEVENT
BEGIN:VEVENT
DTSTART;TZID=America/New_York:20280511T143000
DTEND;TZID=America/New_York:20280511T160000
DTSTAMP:20260421T033940
CREATED:20260101T200828Z
LAST-MODIFIED:20260101T200854Z
UID:10019715-1841668200-1841673600@bluewaterparent.com
SUMMARY:Teen Time - Yale
DESCRIPTION:
URL:https://bluewaterparent.com/event/teen-time-yale-3/2028-05-11/
LOCATION:Yale Library\, 2 Jones St\, Yale\, MI\, 48097\, United States
CATEGORIES:Teens
END:VEVENT
BEGIN:VEVENT
DTSTART;TZID=America/New_York:20280518T143000
DTEND;TZID=America/New_York:20280518T160000
DTSTAMP:20260421T033940
CREATED:20260101T200828Z
LAST-MODIFIED:20260101T200854Z
UID:10019716-1842273000-1842278400@bluewaterparent.com
SUMMARY:Teen Time - Yale
DESCRIPTION:
URL:https://bluewaterparent.com/event/teen-time-yale-3/2028-05-18/
LOCATION:Yale Library\, 2 Jones St\, Yale\, MI\, 48097\, United States
CATEGORIES:Teens
END:VEVENT
BEGIN:VEVENT
DTSTART;TZID=America/New_York:20280523T170000
DTEND;TZID=America/New_York:20280523T193000
DTSTAMP:20260421T033940
CREATED:20260101T190453Z
LAST-MODIFIED:20260103T013002Z
UID:10021432-1842714000-1842723000@bluewaterparent.com
SUMMARY:Teen D&D Group - Algonac-Clay
DESCRIPTION:Registration requested.
URL:https://bluewaterparent.com/event/teen-dd-group-algonac-clay/2028-05-23/
LOCATION:Algonac-Clay Library\, 2011 St Clair River Dr\, Algonac\, MI\, 48001\, United States
CATEGORIES:Teens
END:VEVENT
BEGIN:VEVENT
DTSTART;TZID=America/New_York:20280525T143000
DTEND;TZID=America/New_York:20280525T160000
DTSTAMP:20260421T033940
CREATED:20260101T200828Z
LAST-MODIFIED:20260101T200854Z
UID:10019717-1842877800-1842883200@bluewaterparent.com
SUMMARY:Teen Time - Yale
DESCRIPTION:
URL:https://bluewaterparent.com/event/teen-time-yale-3/2028-05-25/
LOCATION:Yale Library\, 2 Jones St\, Yale\, MI\, 48097\, United States
CATEGORIES:Teens
END:VEVENT
END:VCALENDAR