BEGIN:VCALENDAR
VERSION:2.0
PRODID:-//BlueWaterParent.com - ECPv6.15.20//NONSGML v1.0//EN
CALSCALE:GREGORIAN
METHOD:PUBLISH
X-ORIGINAL-URL:https://bluewaterparent.com
X-WR-CALDESC:Events for BlueWaterParent.com
REFRESH-INTERVAL;VALUE=DURATION:PT1H
X-Robots-Tag:noindex
X-PUBLISHED-TTL:PT1H
BEGIN:VTIMEZONE
TZID:America/New_York
BEGIN:DAYLIGHT
TZOFFSETFROM:-0500
TZOFFSETTO:-0400
TZNAME:EDT
DTSTART:20270314T070000
END:DAYLIGHT
BEGIN:STANDARD
TZOFFSETFROM:-0400
TZOFFSETTO:-0500
TZNAME:EST
DTSTART:20271107T060000
END:STANDARD
BEGIN:DAYLIGHT
TZOFFSETFROM:-0500
TZOFFSETTO:-0400
TZNAME:EDT
DTSTART:20280312T070000
END:DAYLIGHT
BEGIN:STANDARD
TZOFFSETFROM:-0400
TZOFFSETTO:-0500
TZNAME:EST
DTSTART:20281105T060000
END:STANDARD
BEGIN:DAYLIGHT
TZOFFSETFROM:-0500
TZOFFSETTO:-0400
TZNAME:EDT
DTSTART:20290311T070000
END:DAYLIGHT
BEGIN:STANDARD
TZOFFSETFROM:-0400
TZOFFSETTO:-0500
TZNAME:EST
DTSTART:20291104T060000
END:STANDARD
END:VTIMEZONE
BEGIN:VEVENT
DTSTART;TZID=America/New_York:20281003T153000
DTEND;TZID=America/New_York:20281003T173000
DTSTAMP:20260424T012253
CREATED:20260101T184832Z
LAST-MODIFIED:20260101T184832Z
UID:10019050-1854199800-1854207000@bluewaterparent.com
SUMMARY:Teen Zone - Burtchville
DESCRIPTION:Registration requested.
URL:https://bluewaterparent.com/event/teen-zone-burtchville-2/2028-10-03/
LOCATION:Burtchville Library\, 7093 2nd St\, Lakeport\, MI\, 48059\, United States
CATEGORIES:Teens
END:VEVENT
BEGIN:VEVENT
DTSTART;TZID=America/New_York:20281005T143000
DTEND;TZID=America/New_York:20281005T160000
DTSTAMP:20260424T012253
CREATED:20260101T200828Z
LAST-MODIFIED:20260101T200854Z
UID:10019736-1854369000-1854374400@bluewaterparent.com
SUMMARY:Teen Time - Yale
DESCRIPTION:
URL:https://bluewaterparent.com/event/teen-time-yale-3/2028-10-05/
LOCATION:Yale Library\, 2 Jones St\, Yale\, MI\, 48097\, United States
CATEGORIES:Teens
END:VEVENT
BEGIN:VEVENT
DTSTART;TZID=America/New_York:20281009T160000
DTEND;TZID=America/New_York:20281009T180000
DTSTAMP:20260424T012253
CREATED:20260101T211427Z
LAST-MODIFIED:20260101T211427Z
UID:10021065-1854720000-1854727200@bluewaterparent.com
SUMMARY:Teen Scene
DESCRIPTION:Ages 13-18.
URL:https://bluewaterparent.com/event/teen-scene/2028-10-09/
LOCATION:Capac Library\, 111 N Main St\, Capac\, MI\, 48014\, United States
CATEGORIES:Teens
END:VEVENT
BEGIN:VEVENT
DTSTART;TZID=America/New_York:20281010T170000
DTEND;TZID=America/New_York:20281010T193000
DTSTAMP:20260424T012253
CREATED:20260101T190453Z
LAST-MODIFIED:20260103T013002Z
UID:10021442-1854810000-1854819000@bluewaterparent.com
SUMMARY:Teen D&D Group - Algonac-Clay
DESCRIPTION:Registration requested.
URL:https://bluewaterparent.com/event/teen-dd-group-algonac-clay/2028-10-10/
LOCATION:Algonac-Clay Library\, 2011 St Clair River Dr\, Algonac\, MI\, 48001\, United States
CATEGORIES:Teens
END:VEVENT
BEGIN:VEVENT
DTSTART;TZID=America/New_York:20281012T143000
DTEND;TZID=America/New_York:20281012T160000
DTSTAMP:20260424T012253
CREATED:20260101T200828Z
LAST-MODIFIED:20260101T200854Z
UID:10019737-1854973800-1854979200@bluewaterparent.com
SUMMARY:Teen Time - Yale
DESCRIPTION:
URL:https://bluewaterparent.com/event/teen-time-yale-3/2028-10-12/
LOCATION:Yale Library\, 2 Jones St\, Yale\, MI\, 48097\, United States
CATEGORIES:Teens
END:VEVENT
BEGIN:VEVENT
DTSTART;TZID=America/New_York:20281019T143000
DTEND;TZID=America/New_York:20281019T160000
DTSTAMP:20260424T012253
CREATED:20260101T200828Z
LAST-MODIFIED:20260101T200854Z
UID:10019738-1855578600-1855584000@bluewaterparent.com
SUMMARY:Teen Time - Yale
DESCRIPTION:
URL:https://bluewaterparent.com/event/teen-time-yale-3/2028-10-19/
LOCATION:Yale Library\, 2 Jones St\, Yale\, MI\, 48097\, United States
CATEGORIES:Teens
END:VEVENT
BEGIN:VEVENT
DTSTART;TZID=America/New_York:20281024T170000
DTEND;TZID=America/New_York:20281024T193000
DTSTAMP:20260424T012253
CREATED:20260101T190453Z
LAST-MODIFIED:20260103T013002Z
UID:10021443-1856019600-1856028600@bluewaterparent.com
SUMMARY:Teen D&D Group - Algonac-Clay
DESCRIPTION:Registration requested.
URL:https://bluewaterparent.com/event/teen-dd-group-algonac-clay/2028-10-24/
LOCATION:Algonac-Clay Library\, 2011 St Clair River Dr\, Algonac\, MI\, 48001\, United States
CATEGORIES:Teens
END:VEVENT
BEGIN:VEVENT
DTSTART;TZID=America/New_York:20281026T143000
DTEND;TZID=America/New_York:20281026T160000
DTSTAMP:20260424T012253
CREATED:20260101T200828Z
LAST-MODIFIED:20260101T200854Z
UID:10019739-1856183400-1856188800@bluewaterparent.com
SUMMARY:Teen Time - Yale
DESCRIPTION:
URL:https://bluewaterparent.com/event/teen-time-yale-3/2028-10-26/
LOCATION:Yale Library\, 2 Jones St\, Yale\, MI\, 48097\, United States
CATEGORIES:Teens
END:VEVENT
END:VCALENDAR