BEGIN:VCALENDAR
VERSION:2.0
PRODID:-//BlueWaterParent.com - ECPv6.15.20//NONSGML v1.0//EN
CALSCALE:GREGORIAN
METHOD:PUBLISH
X-ORIGINAL-URL:https://bluewaterparent.com
X-WR-CALDESC:Events for BlueWaterParent.com
REFRESH-INTERVAL;VALUE=DURATION:PT1H
X-Robots-Tag:noindex
X-PUBLISHED-TTL:PT1H
BEGIN:VTIMEZONE
TZID:America/New_York
BEGIN:DAYLIGHT
TZOFFSETFROM:-0500
TZOFFSETTO:-0400
TZNAME:EDT
DTSTART:20270314T070000
END:DAYLIGHT
BEGIN:STANDARD
TZOFFSETFROM:-0400
TZOFFSETTO:-0500
TZNAME:EST
DTSTART:20271107T060000
END:STANDARD
BEGIN:DAYLIGHT
TZOFFSETFROM:-0500
TZOFFSETTO:-0400
TZNAME:EDT
DTSTART:20280312T070000
END:DAYLIGHT
BEGIN:STANDARD
TZOFFSETFROM:-0400
TZOFFSETTO:-0500
TZNAME:EST
DTSTART:20281105T060000
END:STANDARD
BEGIN:DAYLIGHT
TZOFFSETFROM:-0500
TZOFFSETTO:-0400
TZNAME:EDT
DTSTART:20290311T070000
END:DAYLIGHT
BEGIN:STANDARD
TZOFFSETFROM:-0400
TZOFFSETTO:-0500
TZNAME:EST
DTSTART:20291104T060000
END:STANDARD
END:VTIMEZONE
BEGIN:VEVENT
DTSTART;TZID=America/New_York:20281205T153000
DTEND;TZID=America/New_York:20281205T173000
DTSTAMP:20260424T103438
CREATED:20260101T184832Z
LAST-MODIFIED:20260101T184832Z
UID:10019052-1859643000-1859650200@bluewaterparent.com
SUMMARY:Teen Zone - Burtchville
DESCRIPTION:Registration requested.
URL:https://bluewaterparent.com/event/teen-zone-burtchville-2/2028-12-05/
LOCATION:Burtchville Library\, 7093 2nd St\, Lakeport\, MI\, 48059\, United States
CATEGORIES:Teens
END:VEVENT
BEGIN:VEVENT
DTSTART;TZID=America/New_York:20281205T170000
DTEND;TZID=America/New_York:20281205T193000
DTSTAMP:20260424T103438
CREATED:20260101T190453Z
LAST-MODIFIED:20260103T013002Z
UID:10021446-1859648400-1859657400@bluewaterparent.com
SUMMARY:Teen D&D Group - Algonac-Clay
DESCRIPTION:Registration requested.
URL:https://bluewaterparent.com/event/teen-dd-group-algonac-clay/2028-12-05/
LOCATION:Algonac-Clay Library\, 2011 St Clair River Dr\, Algonac\, MI\, 48001\, United States
CATEGORIES:Teens
END:VEVENT
BEGIN:VEVENT
DTSTART;TZID=America/New_York:20281207T143000
DTEND;TZID=America/New_York:20281207T160000
DTSTAMP:20260424T103438
CREATED:20260101T200828Z
LAST-MODIFIED:20260101T200854Z
UID:10019745-1859812200-1859817600@bluewaterparent.com
SUMMARY:Teen Time - Yale
DESCRIPTION:
URL:https://bluewaterparent.com/event/teen-time-yale-3/2028-12-07/
LOCATION:Yale Library\, 2 Jones St\, Yale\, MI\, 48097\, United States
CATEGORIES:Teens
END:VEVENT
BEGIN:VEVENT
DTSTART;TZID=America/New_York:20281211T160000
DTEND;TZID=America/New_York:20281211T180000
DTSTAMP:20260424T103438
CREATED:20260101T211427Z
LAST-MODIFIED:20260101T211427Z
UID:10021067-1860163200-1860170400@bluewaterparent.com
SUMMARY:Teen Scene
DESCRIPTION:Ages 13-18.
URL:https://bluewaterparent.com/event/teen-scene/2028-12-11/
LOCATION:Capac Library\, 111 N Main St\, Capac\, MI\, 48014\, United States
CATEGORIES:Teens
END:VEVENT
BEGIN:VEVENT
DTSTART;TZID=America/New_York:20281214T143000
DTEND;TZID=America/New_York:20281214T160000
DTSTAMP:20260424T103438
CREATED:20260101T200828Z
LAST-MODIFIED:20260101T200854Z
UID:10019746-1860417000-1860422400@bluewaterparent.com
SUMMARY:Teen Time - Yale
DESCRIPTION:
URL:https://bluewaterparent.com/event/teen-time-yale-3/2028-12-14/
LOCATION:Yale Library\, 2 Jones St\, Yale\, MI\, 48097\, United States
CATEGORIES:Teens
END:VEVENT
BEGIN:VEVENT
DTSTART;TZID=America/New_York:20281219T170000
DTEND;TZID=America/New_York:20281219T193000
DTSTAMP:20260424T103438
CREATED:20260101T190453Z
LAST-MODIFIED:20260103T013002Z
UID:10021447-1860858000-1860867000@bluewaterparent.com
SUMMARY:Teen D&D Group - Algonac-Clay
DESCRIPTION:Registration requested.
URL:https://bluewaterparent.com/event/teen-dd-group-algonac-clay/2028-12-19/
LOCATION:Algonac-Clay Library\, 2011 St Clair River Dr\, Algonac\, MI\, 48001\, United States
CATEGORIES:Teens
END:VEVENT
BEGIN:VEVENT
DTSTART;TZID=America/New_York:20281221T143000
DTEND;TZID=America/New_York:20281221T160000
DTSTAMP:20260424T103438
CREATED:20260101T200828Z
LAST-MODIFIED:20260101T200854Z
UID:10019747-1861021800-1861027200@bluewaterparent.com
SUMMARY:Teen Time - Yale
DESCRIPTION:
URL:https://bluewaterparent.com/event/teen-time-yale-3/2028-12-21/
LOCATION:Yale Library\, 2 Jones St\, Yale\, MI\, 48097\, United States
CATEGORIES:Teens
END:VEVENT
BEGIN:VEVENT
DTSTART;TZID=America/New_York:20281228T143000
DTEND;TZID=America/New_York:20281228T160000
DTSTAMP:20260424T103438
CREATED:20260101T200828Z
LAST-MODIFIED:20260101T200854Z
UID:10019748-1861626600-1861632000@bluewaterparent.com
SUMMARY:Teen Time - Yale
DESCRIPTION:
URL:https://bluewaterparent.com/event/teen-time-yale-3/2028-12-28/
LOCATION:Yale Library\, 2 Jones St\, Yale\, MI\, 48097\, United States
CATEGORIES:Teens
END:VEVENT
END:VCALENDAR