BEGIN:VCALENDAR
VERSION:2.0
PRODID:-//BlueWaterParent.com - ECPv6.15.20//NONSGML v1.0//EN
CALSCALE:GREGORIAN
METHOD:PUBLISH
X-WR-CALNAME:BlueWaterParent.com
X-ORIGINAL-URL:https://bluewaterparent.com
X-WR-CALDESC:Events for BlueWaterParent.com
REFRESH-INTERVAL;VALUE=DURATION:PT1H
X-Robots-Tag:noindex
X-PUBLISHED-TTL:PT1H
BEGIN:VTIMEZONE
TZID:America/New_York
BEGIN:DAYLIGHT
TZOFFSETFROM:-0500
TZOFFSETTO:-0400
TZNAME:EDT
DTSTART:20250309T070000
END:DAYLIGHT
BEGIN:STANDARD
TZOFFSETFROM:-0400
TZOFFSETTO:-0500
TZNAME:EST
DTSTART:20251102T060000
END:STANDARD
BEGIN:DAYLIGHT
TZOFFSETFROM:-0500
TZOFFSETTO:-0400
TZNAME:EDT
DTSTART:20260308T070000
END:DAYLIGHT
BEGIN:STANDARD
TZOFFSETFROM:-0400
TZOFFSETTO:-0500
TZNAME:EST
DTSTART:20261101T060000
END:STANDARD
BEGIN:DAYLIGHT
TZOFFSETFROM:-0500
TZOFFSETTO:-0400
TZNAME:EDT
DTSTART:20270314T070000
END:DAYLIGHT
BEGIN:STANDARD
TZOFFSETFROM:-0400
TZOFFSETTO:-0500
TZNAME:EST
DTSTART:20271107T060000
END:STANDARD
END:VTIMEZONE
BEGIN:VEVENT
DTSTART;TZID=America/New_York:20260425T100000
DTEND;TZID=America/New_York:20260425T120000
DTSTAMP:20260419T093117
CREATED:20260419T014640Z
LAST-MODIFIED:20260419T014640Z
UID:10026910-1777111200-1777118400@bluewaterparent.com
SUMMARY:Fiction Writing Workshop for Aspiring Authors
DESCRIPTION:From SCCL: \n\nGrab your favorite pen (or laptop) and get ready to write with guidance from Marirose Sanborn-Smith\, local author (“Cavity” and the “M-19 Minute”) and editor. Hone your craft during a live critique session\, work through prompts\, and learn how to create scenes that jump off the page. (Ages 12 & Up) \nTo have your work critiqued live during the session\, please email the first 500 words in advance to Marirose at marirose.sanborn@gmail.com with the subject “SCCLS Workshop” and your name. Submissions are due by Thursday\, April 23rd. Original work only (no AI-generated content\, please). \nMarirose is delighted to return as a speaker to SCCLS. After the workshop\, there will be a 30-minute Q&A session and networking opportunity to form a critique group. \n\nRegistration requested.
URL:https://bluewaterparent.com/event/fiction-writing-workshop-for-aspiring-authors/
LOCATION:Main Library\, 210 McMorran Blvd\, Port Huron\, MI\, 48060\, United States
CATEGORIES:Free,Teens
END:VEVENT
END:VCALENDAR