BEGIN:VCALENDAR
VERSION:2.0
PRODID:-//BlueWaterParent.com - ECPv6.15.20//NONSGML v1.0//EN
CALSCALE:GREGORIAN
METHOD:PUBLISH
X-ORIGINAL-URL:https://bluewaterparent.com
X-WR-CALDESC:Events for BlueWaterParent.com
REFRESH-INTERVAL;VALUE=DURATION:PT1H
X-Robots-Tag:noindex
X-PUBLISHED-TTL:PT1H
BEGIN:VTIMEZONE
TZID:America/New_York
BEGIN:DAYLIGHT
TZOFFSETFROM:-0500
TZOFFSETTO:-0400
TZNAME:EDT
DTSTART:20250309T070000
END:DAYLIGHT
BEGIN:STANDARD
TZOFFSETFROM:-0400
TZOFFSETTO:-0500
TZNAME:EST
DTSTART:20251102T060000
END:STANDARD
BEGIN:DAYLIGHT
TZOFFSETFROM:-0500
TZOFFSETTO:-0400
TZNAME:EDT
DTSTART:20260308T070000
END:DAYLIGHT
BEGIN:STANDARD
TZOFFSETFROM:-0400
TZOFFSETTO:-0500
TZNAME:EST
DTSTART:20261101T060000
END:STANDARD
BEGIN:DAYLIGHT
TZOFFSETFROM:-0500
TZOFFSETTO:-0400
TZNAME:EDT
DTSTART:20270314T070000
END:DAYLIGHT
BEGIN:STANDARD
TZOFFSETFROM:-0400
TZOFFSETTO:-0500
TZNAME:EST
DTSTART:20271107T060000
END:STANDARD
END:VTIMEZONE
BEGIN:VEVENT
DTSTART;TZID=America/New_York:20260430T100000
DTEND;TZID=America/New_York:20260430T110000
DTSTAMP:20260424T163530
CREATED:20251201T004011Z
LAST-MODIFIED:20260307T021133Z
UID:10023830-1777543200-1777546800@bluewaterparent.com
SUMMARY:Great Start Playgroup - Avoca
DESCRIPTION:
URL:https://bluewaterparent.com/event/great-start-playgroup-emmett/2026-04-30/
LOCATION:Avoca Elementary\, 8751 Willow St.\, Avoca\, MI\, 48006\, United States
CATEGORIES:Playgroups
END:VEVENT
BEGIN:VEVENT
DTSTART;TZID=America/New_York:20260507T100000
DTEND;TZID=America/New_York:20260507T110000
DTSTAMP:20260424T163530
CREATED:20251201T004011Z
LAST-MODIFIED:20260307T021133Z
UID:10023831-1778148000-1778151600@bluewaterparent.com
SUMMARY:Great Start Playgroup - Avoca
DESCRIPTION:
URL:https://bluewaterparent.com/event/great-start-playgroup-emmett/2026-05-07/
LOCATION:Avoca Elementary\, 8751 Willow St.\, Avoca\, MI\, 48006\, United States
CATEGORIES:Playgroups
END:VEVENT
BEGIN:VEVENT
DTSTART;TZID=America/New_York:20260514T100000
DTEND;TZID=America/New_York:20260514T110000
DTSTAMP:20260424T163530
CREATED:20251201T004011Z
LAST-MODIFIED:20260307T021133Z
UID:10023832-1778752800-1778756400@bluewaterparent.com
SUMMARY:Great Start Playgroup - Avoca
DESCRIPTION:
URL:https://bluewaterparent.com/event/great-start-playgroup-emmett/2026-05-14/
LOCATION:Avoca Elementary\, 8751 Willow St.\, Avoca\, MI\, 48006\, United States
CATEGORIES:Playgroups
END:VEVENT
BEGIN:VEVENT
DTSTART;TZID=America/New_York:20260521T100000
DTEND;TZID=America/New_York:20260521T110000
DTSTAMP:20260424T163530
CREATED:20251201T004011Z
LAST-MODIFIED:20260307T021133Z
UID:10023833-1779357600-1779361200@bluewaterparent.com
SUMMARY:Great Start Playgroup - Avoca
DESCRIPTION:
URL:https://bluewaterparent.com/event/great-start-playgroup-emmett/2026-05-21/
LOCATION:Avoca Elementary\, 8751 Willow St.\, Avoca\, MI\, 48006\, United States
CATEGORIES:Playgroups
END:VEVENT
BEGIN:VEVENT
DTSTART;TZID=America/New_York:20260528T100000
DTEND;TZID=America/New_York:20260528T110000
DTSTAMP:20260424T163530
CREATED:20251201T004011Z
LAST-MODIFIED:20260307T021133Z
UID:10023834-1779962400-1779966000@bluewaterparent.com
SUMMARY:Great Start Playgroup - Avoca
DESCRIPTION:
URL:https://bluewaterparent.com/event/great-start-playgroup-emmett/2026-05-28/
LOCATION:Avoca Elementary\, 8751 Willow St.\, Avoca\, MI\, 48006\, United States
CATEGORIES:Playgroups
END:VEVENT
BEGIN:VEVENT
DTSTART;TZID=America/New_York:20260604T100000
DTEND;TZID=America/New_York:20260604T110000
DTSTAMP:20260424T163530
CREATED:20251201T004011Z
LAST-MODIFIED:20260307T021133Z
UID:10023835-1780567200-1780570800@bluewaterparent.com
SUMMARY:Great Start Playgroup - Avoca
DESCRIPTION:
URL:https://bluewaterparent.com/event/great-start-playgroup-emmett/2026-06-04/
LOCATION:Avoca Elementary\, 8751 Willow St.\, Avoca\, MI\, 48006\, United States
CATEGORIES:Playgroups
END:VEVENT
BEGIN:VEVENT
DTSTART;TZID=America/New_York:20260611T100000
DTEND;TZID=America/New_York:20260611T110000
DTSTAMP:20260424T163530
CREATED:20251201T004011Z
LAST-MODIFIED:20260307T021133Z
UID:10023836-1781172000-1781175600@bluewaterparent.com
SUMMARY:Great Start Playgroup - Avoca
DESCRIPTION:
URL:https://bluewaterparent.com/event/great-start-playgroup-emmett/2026-06-11/
LOCATION:Avoca Elementary\, 8751 Willow St.\, Avoca\, MI\, 48006\, United States
CATEGORIES:Playgroups
END:VEVENT
BEGIN:VEVENT
DTSTART;TZID=America/New_York:20260618T100000
DTEND;TZID=America/New_York:20260618T110000
DTSTAMP:20260424T163530
CREATED:20251201T004011Z
LAST-MODIFIED:20260307T021133Z
UID:10023837-1781776800-1781780400@bluewaterparent.com
SUMMARY:Great Start Playgroup - Avoca
DESCRIPTION:
URL:https://bluewaterparent.com/event/great-start-playgroup-emmett/2026-06-18/
LOCATION:Avoca Elementary\, 8751 Willow St.\, Avoca\, MI\, 48006\, United States
CATEGORIES:Playgroups
END:VEVENT
BEGIN:VEVENT
DTSTART;TZID=America/New_York:20260625T100000
DTEND;TZID=America/New_York:20260625T110000
DTSTAMP:20260424T163530
CREATED:20251201T004011Z
LAST-MODIFIED:20260307T021133Z
UID:10023838-1782381600-1782385200@bluewaterparent.com
SUMMARY:Great Start Playgroup - Avoca
DESCRIPTION:
URL:https://bluewaterparent.com/event/great-start-playgroup-emmett/2026-06-25/
LOCATION:Avoca Elementary\, 8751 Willow St.\, Avoca\, MI\, 48006\, United States
CATEGORIES:Playgroups
END:VEVENT
BEGIN:VEVENT
DTSTART;TZID=America/New_York:20260702T100000
DTEND;TZID=America/New_York:20260702T110000
DTSTAMP:20260424T163530
CREATED:20251201T004011Z
LAST-MODIFIED:20260307T021133Z
UID:10023839-1782986400-1782990000@bluewaterparent.com
SUMMARY:Great Start Playgroup - Avoca
DESCRIPTION:
URL:https://bluewaterparent.com/event/great-start-playgroup-emmett/2026-07-02/
LOCATION:Avoca Elementary\, 8751 Willow St.\, Avoca\, MI\, 48006\, United States
CATEGORIES:Playgroups
END:VEVENT
BEGIN:VEVENT
DTSTART;TZID=America/New_York:20260709T100000
DTEND;TZID=America/New_York:20260709T110000
DTSTAMP:20260424T163530
CREATED:20251201T004011Z
LAST-MODIFIED:20260307T021133Z
UID:10023840-1783591200-1783594800@bluewaterparent.com
SUMMARY:Great Start Playgroup - Avoca
DESCRIPTION:
URL:https://bluewaterparent.com/event/great-start-playgroup-emmett/2026-07-09/
LOCATION:Avoca Elementary\, 8751 Willow St.\, Avoca\, MI\, 48006\, United States
CATEGORIES:Playgroups
END:VEVENT
BEGIN:VEVENT
DTSTART;TZID=America/New_York:20260716T100000
DTEND;TZID=America/New_York:20260716T110000
DTSTAMP:20260424T163530
CREATED:20251201T004011Z
LAST-MODIFIED:20260307T021133Z
UID:10023841-1784196000-1784199600@bluewaterparent.com
SUMMARY:Great Start Playgroup - Avoca
DESCRIPTION:
URL:https://bluewaterparent.com/event/great-start-playgroup-emmett/2026-07-16/
LOCATION:Avoca Elementary\, 8751 Willow St.\, Avoca\, MI\, 48006\, United States
CATEGORIES:Playgroups
END:VEVENT
BEGIN:VEVENT
DTSTART;TZID=America/New_York:20260723T100000
DTEND;TZID=America/New_York:20260723T110000
DTSTAMP:20260424T163530
CREATED:20251201T004011Z
LAST-MODIFIED:20260307T021133Z
UID:10023842-1784800800-1784804400@bluewaterparent.com
SUMMARY:Great Start Playgroup - Avoca
DESCRIPTION:
URL:https://bluewaterparent.com/event/great-start-playgroup-emmett/2026-07-23/
LOCATION:Avoca Elementary\, 8751 Willow St.\, Avoca\, MI\, 48006\, United States
CATEGORIES:Playgroups
END:VEVENT
BEGIN:VEVENT
DTSTART;TZID=America/New_York:20260730T100000
DTEND;TZID=America/New_York:20260730T110000
DTSTAMP:20260424T163530
CREATED:20251201T004011Z
LAST-MODIFIED:20260307T021133Z
UID:10023843-1785405600-1785409200@bluewaterparent.com
SUMMARY:Great Start Playgroup - Avoca
DESCRIPTION:
URL:https://bluewaterparent.com/event/great-start-playgroup-emmett/2026-07-30/
LOCATION:Avoca Elementary\, 8751 Willow St.\, Avoca\, MI\, 48006\, United States
CATEGORIES:Playgroups
END:VEVENT
BEGIN:VEVENT
DTSTART;TZID=America/New_York:20260806T100000
DTEND;TZID=America/New_York:20260806T110000
DTSTAMP:20260424T163530
CREATED:20251201T004011Z
LAST-MODIFIED:20260307T021133Z
UID:10023844-1786010400-1786014000@bluewaterparent.com
SUMMARY:Great Start Playgroup - Avoca
DESCRIPTION:
URL:https://bluewaterparent.com/event/great-start-playgroup-emmett/2026-08-06/
LOCATION:Avoca Elementary\, 8751 Willow St.\, Avoca\, MI\, 48006\, United States
CATEGORIES:Playgroups
END:VEVENT
BEGIN:VEVENT
DTSTART;TZID=America/New_York:20260813T100000
DTEND;TZID=America/New_York:20260813T110000
DTSTAMP:20260424T163530
CREATED:20251201T004011Z
LAST-MODIFIED:20260307T021133Z
UID:10023845-1786615200-1786618800@bluewaterparent.com
SUMMARY:Great Start Playgroup - Avoca
DESCRIPTION:
URL:https://bluewaterparent.com/event/great-start-playgroup-emmett/2026-08-13/
LOCATION:Avoca Elementary\, 8751 Willow St.\, Avoca\, MI\, 48006\, United States
CATEGORIES:Playgroups
END:VEVENT
BEGIN:VEVENT
DTSTART;TZID=America/New_York:20260820T100000
DTEND;TZID=America/New_York:20260820T110000
DTSTAMP:20260424T163530
CREATED:20251201T004011Z
LAST-MODIFIED:20260307T021133Z
UID:10023846-1787220000-1787223600@bluewaterparent.com
SUMMARY:Great Start Playgroup - Avoca
DESCRIPTION:
URL:https://bluewaterparent.com/event/great-start-playgroup-emmett/2026-08-20/
LOCATION:Avoca Elementary\, 8751 Willow St.\, Avoca\, MI\, 48006\, United States
CATEGORIES:Playgroups
END:VEVENT
BEGIN:VEVENT
DTSTART;TZID=America/New_York:20260827T100000
DTEND;TZID=America/New_York:20260827T110000
DTSTAMP:20260424T163530
CREATED:20251201T004011Z
LAST-MODIFIED:20260307T021133Z
UID:10023847-1787824800-1787828400@bluewaterparent.com
SUMMARY:Great Start Playgroup - Avoca
DESCRIPTION:
URL:https://bluewaterparent.com/event/great-start-playgroup-emmett/2026-08-27/
LOCATION:Avoca Elementary\, 8751 Willow St.\, Avoca\, MI\, 48006\, United States
CATEGORIES:Playgroups
END:VEVENT
BEGIN:VEVENT
DTSTART;TZID=America/New_York:20260903T100000
DTEND;TZID=America/New_York:20260903T110000
DTSTAMP:20260424T163530
CREATED:20251201T004011Z
LAST-MODIFIED:20260307T021133Z
UID:10023848-1788429600-1788433200@bluewaterparent.com
SUMMARY:Great Start Playgroup - Avoca
DESCRIPTION:
URL:https://bluewaterparent.com/event/great-start-playgroup-emmett/2026-09-03/
LOCATION:Avoca Elementary\, 8751 Willow St.\, Avoca\, MI\, 48006\, United States
CATEGORIES:Playgroups
END:VEVENT
BEGIN:VEVENT
DTSTART;TZID=America/New_York:20260910T100000
DTEND;TZID=America/New_York:20260910T110000
DTSTAMP:20260424T163530
CREATED:20251201T004011Z
LAST-MODIFIED:20260307T021133Z
UID:10023849-1789034400-1789038000@bluewaterparent.com
SUMMARY:Great Start Playgroup - Avoca
DESCRIPTION:
URL:https://bluewaterparent.com/event/great-start-playgroup-emmett/2026-09-10/
LOCATION:Avoca Elementary\, 8751 Willow St.\, Avoca\, MI\, 48006\, United States
CATEGORIES:Playgroups
END:VEVENT
BEGIN:VEVENT
DTSTART;TZID=America/New_York:20260917T100000
DTEND;TZID=America/New_York:20260917T110000
DTSTAMP:20260424T163530
CREATED:20251201T004011Z
LAST-MODIFIED:20260307T021133Z
UID:10023850-1789639200-1789642800@bluewaterparent.com
SUMMARY:Great Start Playgroup - Avoca
DESCRIPTION:
URL:https://bluewaterparent.com/event/great-start-playgroup-emmett/2026-09-17/
LOCATION:Avoca Elementary\, 8751 Willow St.\, Avoca\, MI\, 48006\, United States
CATEGORIES:Playgroups
END:VEVENT
BEGIN:VEVENT
DTSTART;TZID=America/New_York:20260924T100000
DTEND;TZID=America/New_York:20260924T110000
DTSTAMP:20260424T163530
CREATED:20251201T004011Z
LAST-MODIFIED:20260307T021133Z
UID:10023851-1790244000-1790247600@bluewaterparent.com
SUMMARY:Great Start Playgroup - Avoca
DESCRIPTION:
URL:https://bluewaterparent.com/event/great-start-playgroup-emmett/2026-09-24/
LOCATION:Avoca Elementary\, 8751 Willow St.\, Avoca\, MI\, 48006\, United States
CATEGORIES:Playgroups
END:VEVENT
BEGIN:VEVENT
DTSTART;TZID=America/New_York:20261001T100000
DTEND;TZID=America/New_York:20261001T110000
DTSTAMP:20260424T163530
CREATED:20251201T004011Z
LAST-MODIFIED:20260307T021133Z
UID:10023852-1790848800-1790852400@bluewaterparent.com
SUMMARY:Great Start Playgroup - Avoca
DESCRIPTION:
URL:https://bluewaterparent.com/event/great-start-playgroup-emmett/2026-10-01/
LOCATION:Avoca Elementary\, 8751 Willow St.\, Avoca\, MI\, 48006\, United States
CATEGORIES:Playgroups
END:VEVENT
BEGIN:VEVENT
DTSTART;TZID=America/New_York:20261008T100000
DTEND;TZID=America/New_York:20261008T110000
DTSTAMP:20260424T163530
CREATED:20251201T004011Z
LAST-MODIFIED:20260307T021133Z
UID:10023853-1791453600-1791457200@bluewaterparent.com
SUMMARY:Great Start Playgroup - Avoca
DESCRIPTION:
URL:https://bluewaterparent.com/event/great-start-playgroup-emmett/2026-10-08/
LOCATION:Avoca Elementary\, 8751 Willow St.\, Avoca\, MI\, 48006\, United States
CATEGORIES:Playgroups
END:VEVENT
BEGIN:VEVENT
DTSTART;TZID=America/New_York:20261015T100000
DTEND;TZID=America/New_York:20261015T110000
DTSTAMP:20260424T163530
CREATED:20251201T004011Z
LAST-MODIFIED:20260307T021133Z
UID:10023854-1792058400-1792062000@bluewaterparent.com
SUMMARY:Great Start Playgroup - Avoca
DESCRIPTION:
URL:https://bluewaterparent.com/event/great-start-playgroup-emmett/2026-10-15/
LOCATION:Avoca Elementary\, 8751 Willow St.\, Avoca\, MI\, 48006\, United States
CATEGORIES:Playgroups
END:VEVENT
BEGIN:VEVENT
DTSTART;TZID=America/New_York:20261022T100000
DTEND;TZID=America/New_York:20261022T110000
DTSTAMP:20260424T163530
CREATED:20251201T004011Z
LAST-MODIFIED:20260307T021133Z
UID:10023855-1792663200-1792666800@bluewaterparent.com
SUMMARY:Great Start Playgroup - Avoca
DESCRIPTION:
URL:https://bluewaterparent.com/event/great-start-playgroup-emmett/2026-10-22/
LOCATION:Avoca Elementary\, 8751 Willow St.\, Avoca\, MI\, 48006\, United States
CATEGORIES:Playgroups
END:VEVENT
BEGIN:VEVENT
DTSTART;TZID=America/New_York:20261029T100000
DTEND;TZID=America/New_York:20261029T110000
DTSTAMP:20260424T163530
CREATED:20251201T004011Z
LAST-MODIFIED:20260307T021133Z
UID:10023856-1793268000-1793271600@bluewaterparent.com
SUMMARY:Great Start Playgroup - Avoca
DESCRIPTION:
URL:https://bluewaterparent.com/event/great-start-playgroup-emmett/2026-10-29/
LOCATION:Avoca Elementary\, 8751 Willow St.\, Avoca\, MI\, 48006\, United States
CATEGORIES:Playgroups
END:VEVENT
BEGIN:VEVENT
DTSTART;TZID=America/New_York:20261105T100000
DTEND;TZID=America/New_York:20261105T110000
DTSTAMP:20260424T163530
CREATED:20251201T004011Z
LAST-MODIFIED:20260307T021133Z
UID:10023857-1793872800-1793876400@bluewaterparent.com
SUMMARY:Great Start Playgroup - Avoca
DESCRIPTION:
URL:https://bluewaterparent.com/event/great-start-playgroup-emmett/2026-11-05/
LOCATION:Avoca Elementary\, 8751 Willow St.\, Avoca\, MI\, 48006\, United States
CATEGORIES:Playgroups
END:VEVENT
BEGIN:VEVENT
DTSTART;TZID=America/New_York:20261112T100000
DTEND;TZID=America/New_York:20261112T110000
DTSTAMP:20260424T163530
CREATED:20251201T004011Z
LAST-MODIFIED:20260307T021133Z
UID:10023858-1794477600-1794481200@bluewaterparent.com
SUMMARY:Great Start Playgroup - Avoca
DESCRIPTION:
URL:https://bluewaterparent.com/event/great-start-playgroup-emmett/2026-11-12/
LOCATION:Avoca Elementary\, 8751 Willow St.\, Avoca\, MI\, 48006\, United States
CATEGORIES:Playgroups
END:VEVENT
BEGIN:VEVENT
DTSTART;TZID=America/New_York:20261119T100000
DTEND;TZID=America/New_York:20261119T110000
DTSTAMP:20260424T163530
CREATED:20251201T004011Z
LAST-MODIFIED:20260307T021133Z
UID:10023859-1795082400-1795086000@bluewaterparent.com
SUMMARY:Great Start Playgroup - Avoca
DESCRIPTION:
URL:https://bluewaterparent.com/event/great-start-playgroup-emmett/2026-11-19/
LOCATION:Avoca Elementary\, 8751 Willow St.\, Avoca\, MI\, 48006\, United States
CATEGORIES:Playgroups
END:VEVENT
END:VCALENDAR