BEGIN:VCALENDAR
VERSION:2.0
PRODID:-//BlueWaterParent.com - ECPv6.15.20//NONSGML v1.0//EN
CALSCALE:GREGORIAN
METHOD:PUBLISH
X-ORIGINAL-URL:https://bluewaterparent.com
X-WR-CALDESC:Events for BlueWaterParent.com
REFRESH-INTERVAL;VALUE=DURATION:PT1H
X-Robots-Tag:noindex
X-PUBLISHED-TTL:PT1H
BEGIN:VTIMEZONE
TZID:America/New_York
BEGIN:DAYLIGHT
TZOFFSETFROM:-0500
TZOFFSETTO:-0400
TZNAME:EDT
DTSTART:20270314T070000
END:DAYLIGHT
BEGIN:STANDARD
TZOFFSETFROM:-0400
TZOFFSETTO:-0500
TZNAME:EST
DTSTART:20271107T060000
END:STANDARD
BEGIN:DAYLIGHT
TZOFFSETFROM:-0500
TZOFFSETTO:-0400
TZNAME:EDT
DTSTART:20280312T070000
END:DAYLIGHT
BEGIN:STANDARD
TZOFFSETFROM:-0400
TZOFFSETTO:-0500
TZNAME:EST
DTSTART:20281105T060000
END:STANDARD
BEGIN:DAYLIGHT
TZOFFSETFROM:-0500
TZOFFSETTO:-0400
TZNAME:EDT
DTSTART:20290311T070000
END:DAYLIGHT
BEGIN:STANDARD
TZOFFSETFROM:-0400
TZOFFSETTO:-0500
TZNAME:EST
DTSTART:20291104T060000
END:STANDARD
BEGIN:DAYLIGHT
TZOFFSETFROM:-0500
TZOFFSETTO:-0400
TZNAME:EDT
DTSTART:20300310T070000
END:DAYLIGHT
BEGIN:STANDARD
TZOFFSETFROM:-0400
TZOFFSETTO:-0500
TZNAME:EST
DTSTART:20301103T060000
END:STANDARD
END:VTIMEZONE
BEGIN:VEVENT
DTSTART;TZID=America/New_York:20281123T100000
DTEND;TZID=America/New_York:20281123T110000
DTSTAMP:20260422T043307
CREATED:20251201T004011Z
LAST-MODIFIED:20260307T021133Z
UID:10023964-1858586400-1858590000@bluewaterparent.com
SUMMARY:Great Start Playgroup - Avoca
DESCRIPTION:
URL:https://bluewaterparent.com/event/great-start-playgroup-emmett/2028-11-23/
LOCATION:Avoca Elementary\, 8751 Willow St.\, Avoca\, MI\, 48006\, United States
CATEGORIES:Playgroups
END:VEVENT
BEGIN:VEVENT
DTSTART;TZID=America/New_York:20281130T100000
DTEND;TZID=America/New_York:20281130T110000
DTSTAMP:20260422T043307
CREATED:20251201T004011Z
LAST-MODIFIED:20260307T021133Z
UID:10023965-1859191200-1859194800@bluewaterparent.com
SUMMARY:Great Start Playgroup - Avoca
DESCRIPTION:
URL:https://bluewaterparent.com/event/great-start-playgroup-emmett/2028-11-30/
LOCATION:Avoca Elementary\, 8751 Willow St.\, Avoca\, MI\, 48006\, United States
CATEGORIES:Playgroups
END:VEVENT
BEGIN:VEVENT
DTSTART;TZID=America/New_York:20281207T100000
DTEND;TZID=America/New_York:20281207T110000
DTSTAMP:20260422T043307
CREATED:20251201T004011Z
LAST-MODIFIED:20260307T021133Z
UID:10023966-1859796000-1859799600@bluewaterparent.com
SUMMARY:Great Start Playgroup - Avoca
DESCRIPTION:
URL:https://bluewaterparent.com/event/great-start-playgroup-emmett/2028-12-07/
LOCATION:Avoca Elementary\, 8751 Willow St.\, Avoca\, MI\, 48006\, United States
CATEGORIES:Playgroups
END:VEVENT
BEGIN:VEVENT
DTSTART;TZID=America/New_York:20281214T100000
DTEND;TZID=America/New_York:20281214T110000
DTSTAMP:20260422T043307
CREATED:20251201T004011Z
LAST-MODIFIED:20260307T021133Z
UID:10023967-1860400800-1860404400@bluewaterparent.com
SUMMARY:Great Start Playgroup - Avoca
DESCRIPTION:
URL:https://bluewaterparent.com/event/great-start-playgroup-emmett/2028-12-14/
LOCATION:Avoca Elementary\, 8751 Willow St.\, Avoca\, MI\, 48006\, United States
CATEGORIES:Playgroups
END:VEVENT
BEGIN:VEVENT
DTSTART;TZID=America/New_York:20281221T100000
DTEND;TZID=America/New_York:20281221T110000
DTSTAMP:20260422T043307
CREATED:20251201T004011Z
LAST-MODIFIED:20260307T021133Z
UID:10023968-1861005600-1861009200@bluewaterparent.com
SUMMARY:Great Start Playgroup - Avoca
DESCRIPTION:
URL:https://bluewaterparent.com/event/great-start-playgroup-emmett/2028-12-21/
LOCATION:Avoca Elementary\, 8751 Willow St.\, Avoca\, MI\, 48006\, United States
CATEGORIES:Playgroups
END:VEVENT
BEGIN:VEVENT
DTSTART;TZID=America/New_York:20281228T100000
DTEND;TZID=America/New_York:20281228T110000
DTSTAMP:20260422T043307
CREATED:20251201T004011Z
LAST-MODIFIED:20260307T021133Z
UID:10023969-1861610400-1861614000@bluewaterparent.com
SUMMARY:Great Start Playgroup - Avoca
DESCRIPTION:
URL:https://bluewaterparent.com/event/great-start-playgroup-emmett/2028-12-28/
LOCATION:Avoca Elementary\, 8751 Willow St.\, Avoca\, MI\, 48006\, United States
CATEGORIES:Playgroups
END:VEVENT
BEGIN:VEVENT
DTSTART;TZID=America/New_York:20290104T100000
DTEND;TZID=America/New_York:20290104T110000
DTSTAMP:20260422T043307
CREATED:20251201T004011Z
LAST-MODIFIED:20260307T021133Z
UID:10023970-1862215200-1862218800@bluewaterparent.com
SUMMARY:Great Start Playgroup - Avoca
DESCRIPTION:
URL:https://bluewaterparent.com/event/great-start-playgroup-emmett/2029-01-04/
LOCATION:Avoca Elementary\, 8751 Willow St.\, Avoca\, MI\, 48006\, United States
CATEGORIES:Playgroups
END:VEVENT
BEGIN:VEVENT
DTSTART;TZID=America/New_York:20290111T100000
DTEND;TZID=America/New_York:20290111T110000
DTSTAMP:20260422T043307
CREATED:20251201T004011Z
LAST-MODIFIED:20260307T021133Z
UID:10023971-1862820000-1862823600@bluewaterparent.com
SUMMARY:Great Start Playgroup - Avoca
DESCRIPTION:
URL:https://bluewaterparent.com/event/great-start-playgroup-emmett/2029-01-11/
LOCATION:Avoca Elementary\, 8751 Willow St.\, Avoca\, MI\, 48006\, United States
CATEGORIES:Playgroups
END:VEVENT
BEGIN:VEVENT
DTSTART;TZID=America/New_York:20290118T100000
DTEND;TZID=America/New_York:20290118T110000
DTSTAMP:20260422T043307
CREATED:20251201T004011Z
LAST-MODIFIED:20260307T021133Z
UID:10023972-1863424800-1863428400@bluewaterparent.com
SUMMARY:Great Start Playgroup - Avoca
DESCRIPTION:
URL:https://bluewaterparent.com/event/great-start-playgroup-emmett/2029-01-18/
LOCATION:Avoca Elementary\, 8751 Willow St.\, Avoca\, MI\, 48006\, United States
CATEGORIES:Playgroups
END:VEVENT
BEGIN:VEVENT
DTSTART;TZID=America/New_York:20290125T100000
DTEND;TZID=America/New_York:20290125T110000
DTSTAMP:20260422T043307
CREATED:20251201T004011Z
LAST-MODIFIED:20260307T021133Z
UID:10023973-1864029600-1864033200@bluewaterparent.com
SUMMARY:Great Start Playgroup - Avoca
DESCRIPTION:
URL:https://bluewaterparent.com/event/great-start-playgroup-emmett/2029-01-25/
LOCATION:Avoca Elementary\, 8751 Willow St.\, Avoca\, MI\, 48006\, United States
CATEGORIES:Playgroups
END:VEVENT
BEGIN:VEVENT
DTSTART;TZID=America/New_York:20290201T100000
DTEND;TZID=America/New_York:20290201T110000
DTSTAMP:20260422T043307
CREATED:20251201T004011Z
LAST-MODIFIED:20260307T021133Z
UID:10023974-1864634400-1864638000@bluewaterparent.com
SUMMARY:Great Start Playgroup - Avoca
DESCRIPTION:
URL:https://bluewaterparent.com/event/great-start-playgroup-emmett/2029-02-01/
LOCATION:Avoca Elementary\, 8751 Willow St.\, Avoca\, MI\, 48006\, United States
CATEGORIES:Playgroups
END:VEVENT
BEGIN:VEVENT
DTSTART;TZID=America/New_York:20290208T100000
DTEND;TZID=America/New_York:20290208T110000
DTSTAMP:20260422T043307
CREATED:20251201T004011Z
LAST-MODIFIED:20260307T021133Z
UID:10023975-1865239200-1865242800@bluewaterparent.com
SUMMARY:Great Start Playgroup - Avoca
DESCRIPTION:
URL:https://bluewaterparent.com/event/great-start-playgroup-emmett/2029-02-08/
LOCATION:Avoca Elementary\, 8751 Willow St.\, Avoca\, MI\, 48006\, United States
CATEGORIES:Playgroups
END:VEVENT
BEGIN:VEVENT
DTSTART;TZID=America/New_York:20290215T100000
DTEND;TZID=America/New_York:20290215T110000
DTSTAMP:20260422T043307
CREATED:20251201T004011Z
LAST-MODIFIED:20260307T021133Z
UID:10023976-1865844000-1865847600@bluewaterparent.com
SUMMARY:Great Start Playgroup - Avoca
DESCRIPTION:
URL:https://bluewaterparent.com/event/great-start-playgroup-emmett/2029-02-15/
LOCATION:Avoca Elementary\, 8751 Willow St.\, Avoca\, MI\, 48006\, United States
CATEGORIES:Playgroups
END:VEVENT
BEGIN:VEVENT
DTSTART;TZID=America/New_York:20290222T100000
DTEND;TZID=America/New_York:20290222T110000
DTSTAMP:20260422T043307
CREATED:20251201T004011Z
LAST-MODIFIED:20260307T021133Z
UID:10023977-1866448800-1866452400@bluewaterparent.com
SUMMARY:Great Start Playgroup - Avoca
DESCRIPTION:
URL:https://bluewaterparent.com/event/great-start-playgroup-emmett/2029-02-22/
LOCATION:Avoca Elementary\, 8751 Willow St.\, Avoca\, MI\, 48006\, United States
CATEGORIES:Playgroups
END:VEVENT
BEGIN:VEVENT
DTSTART;TZID=America/New_York:20290301T100000
DTEND;TZID=America/New_York:20290301T110000
DTSTAMP:20260422T043307
CREATED:20251201T004011Z
LAST-MODIFIED:20260307T021133Z
UID:10023978-1867053600-1867057200@bluewaterparent.com
SUMMARY:Great Start Playgroup - Avoca
DESCRIPTION:
URL:https://bluewaterparent.com/event/great-start-playgroup-emmett/2029-03-01/
LOCATION:Avoca Elementary\, 8751 Willow St.\, Avoca\, MI\, 48006\, United States
CATEGORIES:Playgroups
END:VEVENT
BEGIN:VEVENT
DTSTART;TZID=America/New_York:20290308T100000
DTEND;TZID=America/New_York:20290308T110000
DTSTAMP:20260422T043307
CREATED:20251201T004011Z
LAST-MODIFIED:20260307T021133Z
UID:10023979-1867658400-1867662000@bluewaterparent.com
SUMMARY:Great Start Playgroup - Avoca
DESCRIPTION:
URL:https://bluewaterparent.com/event/great-start-playgroup-emmett/2029-03-08/
LOCATION:Avoca Elementary\, 8751 Willow St.\, Avoca\, MI\, 48006\, United States
CATEGORIES:Playgroups
END:VEVENT
BEGIN:VEVENT
DTSTART;TZID=America/New_York:20290315T100000
DTEND;TZID=America/New_York:20290315T110000
DTSTAMP:20260422T043307
CREATED:20251201T004011Z
LAST-MODIFIED:20260307T021133Z
UID:10023980-1868263200-1868266800@bluewaterparent.com
SUMMARY:Great Start Playgroup - Avoca
DESCRIPTION:
URL:https://bluewaterparent.com/event/great-start-playgroup-emmett/2029-03-15/
LOCATION:Avoca Elementary\, 8751 Willow St.\, Avoca\, MI\, 48006\, United States
CATEGORIES:Playgroups
END:VEVENT
BEGIN:VEVENT
DTSTART;TZID=America/New_York:20290322T100000
DTEND;TZID=America/New_York:20290322T110000
DTSTAMP:20260422T043307
CREATED:20251201T004011Z
LAST-MODIFIED:20260307T021133Z
UID:10023981-1868868000-1868871600@bluewaterparent.com
SUMMARY:Great Start Playgroup - Avoca
DESCRIPTION:
URL:https://bluewaterparent.com/event/great-start-playgroup-emmett/2029-03-22/
LOCATION:Avoca Elementary\, 8751 Willow St.\, Avoca\, MI\, 48006\, United States
CATEGORIES:Playgroups
END:VEVENT
BEGIN:VEVENT
DTSTART;TZID=America/New_York:20290329T100000
DTEND;TZID=America/New_York:20290329T110000
DTSTAMP:20260422T043307
CREATED:20251201T004011Z
LAST-MODIFIED:20260307T021133Z
UID:10023982-1869472800-1869476400@bluewaterparent.com
SUMMARY:Great Start Playgroup - Avoca
DESCRIPTION:
URL:https://bluewaterparent.com/event/great-start-playgroup-emmett/2029-03-29/
LOCATION:Avoca Elementary\, 8751 Willow St.\, Avoca\, MI\, 48006\, United States
CATEGORIES:Playgroups
END:VEVENT
BEGIN:VEVENT
DTSTART;TZID=America/New_York:20290405T100000
DTEND;TZID=America/New_York:20290405T110000
DTSTAMP:20260422T043307
CREATED:20251201T004011Z
LAST-MODIFIED:20260307T021133Z
UID:10023983-1870077600-1870081200@bluewaterparent.com
SUMMARY:Great Start Playgroup - Avoca
DESCRIPTION:
URL:https://bluewaterparent.com/event/great-start-playgroup-emmett/2029-04-05/
LOCATION:Avoca Elementary\, 8751 Willow St.\, Avoca\, MI\, 48006\, United States
CATEGORIES:Playgroups
END:VEVENT
BEGIN:VEVENT
DTSTART;TZID=America/New_York:20290412T100000
DTEND;TZID=America/New_York:20290412T110000
DTSTAMP:20260422T043307
CREATED:20251201T004011Z
LAST-MODIFIED:20260307T021133Z
UID:10023984-1870682400-1870686000@bluewaterparent.com
SUMMARY:Great Start Playgroup - Avoca
DESCRIPTION:
URL:https://bluewaterparent.com/event/great-start-playgroup-emmett/2029-04-12/
LOCATION:Avoca Elementary\, 8751 Willow St.\, Avoca\, MI\, 48006\, United States
CATEGORIES:Playgroups
END:VEVENT
BEGIN:VEVENT
DTSTART;TZID=America/New_York:20290419T100000
DTEND;TZID=America/New_York:20290419T110000
DTSTAMP:20260422T043307
CREATED:20251201T004011Z
LAST-MODIFIED:20260307T021133Z
UID:10023985-1871287200-1871290800@bluewaterparent.com
SUMMARY:Great Start Playgroup - Avoca
DESCRIPTION:
URL:https://bluewaterparent.com/event/great-start-playgroup-emmett/2029-04-19/
LOCATION:Avoca Elementary\, 8751 Willow St.\, Avoca\, MI\, 48006\, United States
CATEGORIES:Playgroups
END:VEVENT
BEGIN:VEVENT
DTSTART;TZID=America/New_York:20290426T100000
DTEND;TZID=America/New_York:20290426T110000
DTSTAMP:20260422T043307
CREATED:20251201T004011Z
LAST-MODIFIED:20260307T021133Z
UID:10023986-1871892000-1871895600@bluewaterparent.com
SUMMARY:Great Start Playgroup - Avoca
DESCRIPTION:
URL:https://bluewaterparent.com/event/great-start-playgroup-emmett/2029-04-26/
LOCATION:Avoca Elementary\, 8751 Willow St.\, Avoca\, MI\, 48006\, United States
CATEGORIES:Playgroups
END:VEVENT
BEGIN:VEVENT
DTSTART;TZID=America/New_York:20290503T100000
DTEND;TZID=America/New_York:20290503T110000
DTSTAMP:20260422T043307
CREATED:20251201T004011Z
LAST-MODIFIED:20260307T021133Z
UID:10023987-1872496800-1872500400@bluewaterparent.com
SUMMARY:Great Start Playgroup - Avoca
DESCRIPTION:
URL:https://bluewaterparent.com/event/great-start-playgroup-emmett/2029-05-03/
LOCATION:Avoca Elementary\, 8751 Willow St.\, Avoca\, MI\, 48006\, United States
CATEGORIES:Playgroups
END:VEVENT
BEGIN:VEVENT
DTSTART;TZID=America/New_York:20290510T100000
DTEND;TZID=America/New_York:20290510T110000
DTSTAMP:20260422T043307
CREATED:20251201T004011Z
LAST-MODIFIED:20260307T021133Z
UID:10023988-1873101600-1873105200@bluewaterparent.com
SUMMARY:Great Start Playgroup - Avoca
DESCRIPTION:
URL:https://bluewaterparent.com/event/great-start-playgroup-emmett/2029-05-10/
LOCATION:Avoca Elementary\, 8751 Willow St.\, Avoca\, MI\, 48006\, United States
CATEGORIES:Playgroups
END:VEVENT
BEGIN:VEVENT
DTSTART;TZID=America/New_York:20290517T100000
DTEND;TZID=America/New_York:20290517T110000
DTSTAMP:20260422T043307
CREATED:20251201T004011Z
LAST-MODIFIED:20260307T021133Z
UID:10023989-1873706400-1873710000@bluewaterparent.com
SUMMARY:Great Start Playgroup - Avoca
DESCRIPTION:
URL:https://bluewaterparent.com/event/great-start-playgroup-emmett/2029-05-17/
LOCATION:Avoca Elementary\, 8751 Willow St.\, Avoca\, MI\, 48006\, United States
CATEGORIES:Playgroups
END:VEVENT
BEGIN:VEVENT
DTSTART;TZID=America/New_York:20290524T100000
DTEND;TZID=America/New_York:20290524T110000
DTSTAMP:20260422T043307
CREATED:20251201T004011Z
LAST-MODIFIED:20260307T021133Z
UID:10023990-1874311200-1874314800@bluewaterparent.com
SUMMARY:Great Start Playgroup - Avoca
DESCRIPTION:
URL:https://bluewaterparent.com/event/great-start-playgroup-emmett/2029-05-24/
LOCATION:Avoca Elementary\, 8751 Willow St.\, Avoca\, MI\, 48006\, United States
CATEGORIES:Playgroups
END:VEVENT
BEGIN:VEVENT
DTSTART;TZID=America/New_York:20290531T100000
DTEND;TZID=America/New_York:20290531T110000
DTSTAMP:20260422T043307
CREATED:20251201T004011Z
LAST-MODIFIED:20260307T021133Z
UID:10023991-1874916000-1874919600@bluewaterparent.com
SUMMARY:Great Start Playgroup - Avoca
DESCRIPTION:
URL:https://bluewaterparent.com/event/great-start-playgroup-emmett/2029-05-31/
LOCATION:Avoca Elementary\, 8751 Willow St.\, Avoca\, MI\, 48006\, United States
CATEGORIES:Playgroups
END:VEVENT
BEGIN:VEVENT
DTSTART;TZID=America/New_York:20290607T100000
DTEND;TZID=America/New_York:20290607T110000
DTSTAMP:20260422T043307
CREATED:20251201T004011Z
LAST-MODIFIED:20260307T021133Z
UID:10023992-1875520800-1875524400@bluewaterparent.com
SUMMARY:Great Start Playgroup - Avoca
DESCRIPTION:
URL:https://bluewaterparent.com/event/great-start-playgroup-emmett/2029-06-07/
LOCATION:Avoca Elementary\, 8751 Willow St.\, Avoca\, MI\, 48006\, United States
CATEGORIES:Playgroups
END:VEVENT
BEGIN:VEVENT
DTSTART;TZID=America/New_York:20290614T100000
DTEND;TZID=America/New_York:20290614T110000
DTSTAMP:20260422T043307
CREATED:20251201T004011Z
LAST-MODIFIED:20260307T021133Z
UID:10023993-1876125600-1876129200@bluewaterparent.com
SUMMARY:Great Start Playgroup - Avoca
DESCRIPTION:
URL:https://bluewaterparent.com/event/great-start-playgroup-emmett/2029-06-14/
LOCATION:Avoca Elementary\, 8751 Willow St.\, Avoca\, MI\, 48006\, United States
CATEGORIES:Playgroups
END:VEVENT
END:VCALENDAR