BEGIN:VCALENDAR
VERSION:2.0
PRODID:-//BlueWaterParent.com - ECPv6.15.20//NONSGML v1.0//EN
CALSCALE:GREGORIAN
METHOD:PUBLISH
X-ORIGINAL-URL:https://bluewaterparent.com
X-WR-CALDESC:Events for BlueWaterParent.com
REFRESH-INTERVAL;VALUE=DURATION:PT1H
X-Robots-Tag:noindex
X-PUBLISHED-TTL:PT1H
BEGIN:VTIMEZONE
TZID:America/New_York
BEGIN:DAYLIGHT
TZOFFSETFROM:-0500
TZOFFSETTO:-0400
TZNAME:EDT
DTSTART:20280312T070000
END:DAYLIGHT
BEGIN:STANDARD
TZOFFSETFROM:-0400
TZOFFSETTO:-0500
TZNAME:EST
DTSTART:20281105T060000
END:STANDARD
BEGIN:DAYLIGHT
TZOFFSETFROM:-0500
TZOFFSETTO:-0400
TZNAME:EDT
DTSTART:20290311T070000
END:DAYLIGHT
BEGIN:STANDARD
TZOFFSETFROM:-0400
TZOFFSETTO:-0500
TZNAME:EST
DTSTART:20291104T060000
END:STANDARD
BEGIN:DAYLIGHT
TZOFFSETFROM:-0500
TZOFFSETTO:-0400
TZNAME:EDT
DTSTART:20300310T070000
END:DAYLIGHT
BEGIN:STANDARD
TZOFFSETFROM:-0400
TZOFFSETTO:-0500
TZNAME:EST
DTSTART:20301103T060000
END:STANDARD
BEGIN:DAYLIGHT
TZOFFSETFROM:-0500
TZOFFSETTO:-0400
TZNAME:EDT
DTSTART:20310309T070000
END:DAYLIGHT
BEGIN:STANDARD
TZOFFSETFROM:-0400
TZOFFSETTO:-0500
TZNAME:EST
DTSTART:20311102T060000
END:STANDARD
END:VTIMEZONE
BEGIN:VEVENT
DTSTART;TZID=America/New_York:20291011T100000
DTEND;TZID=America/New_York:20291011T110000
DTSTAMP:20260424T113206
CREATED:20251201T004011Z
LAST-MODIFIED:20260307T021133Z
UID:10024010-1886407200-1886410800@bluewaterparent.com
SUMMARY:Great Start Playgroup - Avoca
DESCRIPTION:
URL:https://bluewaterparent.com/event/great-start-playgroup-emmett/2029-10-11/
LOCATION:Avoca Elementary\, 8751 Willow St.\, Avoca\, MI\, 48006\, United States
CATEGORIES:Playgroups
END:VEVENT
BEGIN:VEVENT
DTSTART;TZID=America/New_York:20291018T100000
DTEND;TZID=America/New_York:20291018T110000
DTSTAMP:20260424T113206
CREATED:20251201T004011Z
LAST-MODIFIED:20260307T021133Z
UID:10024011-1887012000-1887015600@bluewaterparent.com
SUMMARY:Great Start Playgroup - Avoca
DESCRIPTION:
URL:https://bluewaterparent.com/event/great-start-playgroup-emmett/2029-10-18/
LOCATION:Avoca Elementary\, 8751 Willow St.\, Avoca\, MI\, 48006\, United States
CATEGORIES:Playgroups
END:VEVENT
BEGIN:VEVENT
DTSTART;TZID=America/New_York:20291025T100000
DTEND;TZID=America/New_York:20291025T110000
DTSTAMP:20260424T113206
CREATED:20251201T004011Z
LAST-MODIFIED:20260307T021133Z
UID:10024012-1887616800-1887620400@bluewaterparent.com
SUMMARY:Great Start Playgroup - Avoca
DESCRIPTION:
URL:https://bluewaterparent.com/event/great-start-playgroup-emmett/2029-10-25/
LOCATION:Avoca Elementary\, 8751 Willow St.\, Avoca\, MI\, 48006\, United States
CATEGORIES:Playgroups
END:VEVENT
BEGIN:VEVENT
DTSTART;TZID=America/New_York:20291101T100000
DTEND;TZID=America/New_York:20291101T110000
DTSTAMP:20260424T113206
CREATED:20251201T004011Z
LAST-MODIFIED:20260307T021133Z
UID:10024013-1888221600-1888225200@bluewaterparent.com
SUMMARY:Great Start Playgroup - Avoca
DESCRIPTION:
URL:https://bluewaterparent.com/event/great-start-playgroup-emmett/2029-11-01/
LOCATION:Avoca Elementary\, 8751 Willow St.\, Avoca\, MI\, 48006\, United States
CATEGORIES:Playgroups
END:VEVENT
BEGIN:VEVENT
DTSTART;TZID=America/New_York:20291108T100000
DTEND;TZID=America/New_York:20291108T110000
DTSTAMP:20260424T113206
CREATED:20251201T004011Z
LAST-MODIFIED:20260307T021133Z
UID:10024014-1888826400-1888830000@bluewaterparent.com
SUMMARY:Great Start Playgroup - Avoca
DESCRIPTION:
URL:https://bluewaterparent.com/event/great-start-playgroup-emmett/2029-11-08/
LOCATION:Avoca Elementary\, 8751 Willow St.\, Avoca\, MI\, 48006\, United States
CATEGORIES:Playgroups
END:VEVENT
BEGIN:VEVENT
DTSTART;TZID=America/New_York:20291115T100000
DTEND;TZID=America/New_York:20291115T110000
DTSTAMP:20260424T113206
CREATED:20251201T004011Z
LAST-MODIFIED:20260307T021133Z
UID:10024015-1889431200-1889434800@bluewaterparent.com
SUMMARY:Great Start Playgroup - Avoca
DESCRIPTION:
URL:https://bluewaterparent.com/event/great-start-playgroup-emmett/2029-11-15/
LOCATION:Avoca Elementary\, 8751 Willow St.\, Avoca\, MI\, 48006\, United States
CATEGORIES:Playgroups
END:VEVENT
BEGIN:VEVENT
DTSTART;TZID=America/New_York:20291122T100000
DTEND;TZID=America/New_York:20291122T110000
DTSTAMP:20260424T113206
CREATED:20251201T004011Z
LAST-MODIFIED:20260307T021133Z
UID:10024016-1890036000-1890039600@bluewaterparent.com
SUMMARY:Great Start Playgroup - Avoca
DESCRIPTION:
URL:https://bluewaterparent.com/event/great-start-playgroup-emmett/2029-11-22/
LOCATION:Avoca Elementary\, 8751 Willow St.\, Avoca\, MI\, 48006\, United States
CATEGORIES:Playgroups
END:VEVENT
BEGIN:VEVENT
DTSTART;TZID=America/New_York:20291129T100000
DTEND;TZID=America/New_York:20291129T110000
DTSTAMP:20260424T113206
CREATED:20251201T004011Z
LAST-MODIFIED:20260307T021133Z
UID:10024017-1890640800-1890644400@bluewaterparent.com
SUMMARY:Great Start Playgroup - Avoca
DESCRIPTION:
URL:https://bluewaterparent.com/event/great-start-playgroup-emmett/2029-11-29/
LOCATION:Avoca Elementary\, 8751 Willow St.\, Avoca\, MI\, 48006\, United States
CATEGORIES:Playgroups
END:VEVENT
BEGIN:VEVENT
DTSTART;TZID=America/New_York:20291206T100000
DTEND;TZID=America/New_York:20291206T110000
DTSTAMP:20260424T113206
CREATED:20251201T004011Z
LAST-MODIFIED:20260307T021133Z
UID:10024018-1891245600-1891249200@bluewaterparent.com
SUMMARY:Great Start Playgroup - Avoca
DESCRIPTION:
URL:https://bluewaterparent.com/event/great-start-playgroup-emmett/2029-12-06/
LOCATION:Avoca Elementary\, 8751 Willow St.\, Avoca\, MI\, 48006\, United States
CATEGORIES:Playgroups
END:VEVENT
BEGIN:VEVENT
DTSTART;TZID=America/New_York:20291213T100000
DTEND;TZID=America/New_York:20291213T110000
DTSTAMP:20260424T113206
CREATED:20251201T004011Z
LAST-MODIFIED:20260307T021133Z
UID:10024019-1891850400-1891854000@bluewaterparent.com
SUMMARY:Great Start Playgroup - Avoca
DESCRIPTION:
URL:https://bluewaterparent.com/event/great-start-playgroup-emmett/2029-12-13/
LOCATION:Avoca Elementary\, 8751 Willow St.\, Avoca\, MI\, 48006\, United States
CATEGORIES:Playgroups
END:VEVENT
BEGIN:VEVENT
DTSTART;TZID=America/New_York:20291220T100000
DTEND;TZID=America/New_York:20291220T110000
DTSTAMP:20260424T113206
CREATED:20251201T004011Z
LAST-MODIFIED:20260307T021133Z
UID:10024020-1892455200-1892458800@bluewaterparent.com
SUMMARY:Great Start Playgroup - Avoca
DESCRIPTION:
URL:https://bluewaterparent.com/event/great-start-playgroup-emmett/2029-12-20/
LOCATION:Avoca Elementary\, 8751 Willow St.\, Avoca\, MI\, 48006\, United States
CATEGORIES:Playgroups
END:VEVENT
BEGIN:VEVENT
DTSTART;TZID=America/New_York:20291227T100000
DTEND;TZID=America/New_York:20291227T110000
DTSTAMP:20260424T113206
CREATED:20251201T004011Z
LAST-MODIFIED:20260307T021133Z
UID:10024021-1893060000-1893063600@bluewaterparent.com
SUMMARY:Great Start Playgroup - Avoca
DESCRIPTION:
URL:https://bluewaterparent.com/event/great-start-playgroup-emmett/2029-12-27/
LOCATION:Avoca Elementary\, 8751 Willow St.\, Avoca\, MI\, 48006\, United States
CATEGORIES:Playgroups
END:VEVENT
BEGIN:VEVENT
DTSTART;TZID=America/New_York:20300103T100000
DTEND;TZID=America/New_York:20300103T110000
DTSTAMP:20260424T113206
CREATED:20251201T004011Z
LAST-MODIFIED:20260307T021133Z
UID:10024022-1893664800-1893668400@bluewaterparent.com
SUMMARY:Great Start Playgroup - Avoca
DESCRIPTION:
URL:https://bluewaterparent.com/event/great-start-playgroup-emmett/2030-01-03/
LOCATION:Avoca Elementary\, 8751 Willow St.\, Avoca\, MI\, 48006\, United States
CATEGORIES:Playgroups
END:VEVENT
BEGIN:VEVENT
DTSTART;TZID=America/New_York:20300110T100000
DTEND;TZID=America/New_York:20300110T110000
DTSTAMP:20260424T113206
CREATED:20251201T004011Z
LAST-MODIFIED:20260307T021133Z
UID:10024023-1894269600-1894273200@bluewaterparent.com
SUMMARY:Great Start Playgroup - Avoca
DESCRIPTION:
URL:https://bluewaterparent.com/event/great-start-playgroup-emmett/2030-01-10/
LOCATION:Avoca Elementary\, 8751 Willow St.\, Avoca\, MI\, 48006\, United States
CATEGORIES:Playgroups
END:VEVENT
BEGIN:VEVENT
DTSTART;TZID=America/New_York:20300117T100000
DTEND;TZID=America/New_York:20300117T110000
DTSTAMP:20260424T113206
CREATED:20251201T004011Z
LAST-MODIFIED:20260307T021133Z
UID:10024024-1894874400-1894878000@bluewaterparent.com
SUMMARY:Great Start Playgroup - Avoca
DESCRIPTION:
URL:https://bluewaterparent.com/event/great-start-playgroup-emmett/2030-01-17/
LOCATION:Avoca Elementary\, 8751 Willow St.\, Avoca\, MI\, 48006\, United States
CATEGORIES:Playgroups
END:VEVENT
BEGIN:VEVENT
DTSTART;TZID=America/New_York:20300124T100000
DTEND;TZID=America/New_York:20300124T110000
DTSTAMP:20260424T113206
CREATED:20251201T004011Z
LAST-MODIFIED:20260307T021133Z
UID:10024025-1895479200-1895482800@bluewaterparent.com
SUMMARY:Great Start Playgroup - Avoca
DESCRIPTION:
URL:https://bluewaterparent.com/event/great-start-playgroup-emmett/2030-01-24/
LOCATION:Avoca Elementary\, 8751 Willow St.\, Avoca\, MI\, 48006\, United States
CATEGORIES:Playgroups
END:VEVENT
BEGIN:VEVENT
DTSTART;TZID=America/New_York:20300131T100000
DTEND;TZID=America/New_York:20300131T110000
DTSTAMP:20260424T113206
CREATED:20251201T004011Z
LAST-MODIFIED:20260307T021133Z
UID:10024026-1896084000-1896087600@bluewaterparent.com
SUMMARY:Great Start Playgroup - Avoca
DESCRIPTION:
URL:https://bluewaterparent.com/event/great-start-playgroup-emmett/2030-01-31/
LOCATION:Avoca Elementary\, 8751 Willow St.\, Avoca\, MI\, 48006\, United States
CATEGORIES:Playgroups
END:VEVENT
BEGIN:VEVENT
DTSTART;TZID=America/New_York:20300207T100000
DTEND;TZID=America/New_York:20300207T110000
DTSTAMP:20260424T113206
CREATED:20251201T004011Z
LAST-MODIFIED:20260307T021133Z
UID:10024027-1896688800-1896692400@bluewaterparent.com
SUMMARY:Great Start Playgroup - Avoca
DESCRIPTION:
URL:https://bluewaterparent.com/event/great-start-playgroup-emmett/2030-02-07/
LOCATION:Avoca Elementary\, 8751 Willow St.\, Avoca\, MI\, 48006\, United States
CATEGORIES:Playgroups
END:VEVENT
BEGIN:VEVENT
DTSTART;TZID=America/New_York:20300214T100000
DTEND;TZID=America/New_York:20300214T110000
DTSTAMP:20260424T113206
CREATED:20251201T004011Z
LAST-MODIFIED:20260307T021133Z
UID:10024028-1897293600-1897297200@bluewaterparent.com
SUMMARY:Great Start Playgroup - Avoca
DESCRIPTION:
URL:https://bluewaterparent.com/event/great-start-playgroup-emmett/2030-02-14/
LOCATION:Avoca Elementary\, 8751 Willow St.\, Avoca\, MI\, 48006\, United States
CATEGORIES:Playgroups
END:VEVENT
BEGIN:VEVENT
DTSTART;TZID=America/New_York:20300221T100000
DTEND;TZID=America/New_York:20300221T110000
DTSTAMP:20260424T113206
CREATED:20251201T004011Z
LAST-MODIFIED:20260307T021133Z
UID:10024029-1897898400-1897902000@bluewaterparent.com
SUMMARY:Great Start Playgroup - Avoca
DESCRIPTION:
URL:https://bluewaterparent.com/event/great-start-playgroup-emmett/2030-02-21/
LOCATION:Avoca Elementary\, 8751 Willow St.\, Avoca\, MI\, 48006\, United States
CATEGORIES:Playgroups
END:VEVENT
BEGIN:VEVENT
DTSTART;TZID=America/New_York:20300228T100000
DTEND;TZID=America/New_York:20300228T110000
DTSTAMP:20260424T113206
CREATED:20251201T004011Z
LAST-MODIFIED:20260307T021133Z
UID:10024030-1898503200-1898506800@bluewaterparent.com
SUMMARY:Great Start Playgroup - Avoca
DESCRIPTION:
URL:https://bluewaterparent.com/event/great-start-playgroup-emmett/2030-02-28/
LOCATION:Avoca Elementary\, 8751 Willow St.\, Avoca\, MI\, 48006\, United States
CATEGORIES:Playgroups
END:VEVENT
BEGIN:VEVENT
DTSTART;TZID=America/New_York:20300307T100000
DTEND;TZID=America/New_York:20300307T110000
DTSTAMP:20260424T113206
CREATED:20251201T004011Z
LAST-MODIFIED:20260307T021133Z
UID:10024031-1899108000-1899111600@bluewaterparent.com
SUMMARY:Great Start Playgroup - Avoca
DESCRIPTION:
URL:https://bluewaterparent.com/event/great-start-playgroup-emmett/2030-03-07/
LOCATION:Avoca Elementary\, 8751 Willow St.\, Avoca\, MI\, 48006\, United States
CATEGORIES:Playgroups
END:VEVENT
BEGIN:VEVENT
DTSTART;TZID=America/New_York:20300314T100000
DTEND;TZID=America/New_York:20300314T110000
DTSTAMP:20260424T113206
CREATED:20251201T004011Z
LAST-MODIFIED:20260307T021133Z
UID:10024032-1899712800-1899716400@bluewaterparent.com
SUMMARY:Great Start Playgroup - Avoca
DESCRIPTION:
URL:https://bluewaterparent.com/event/great-start-playgroup-emmett/2030-03-14/
LOCATION:Avoca Elementary\, 8751 Willow St.\, Avoca\, MI\, 48006\, United States
CATEGORIES:Playgroups
END:VEVENT
BEGIN:VEVENT
DTSTART;TZID=America/New_York:20300321T100000
DTEND;TZID=America/New_York:20300321T110000
DTSTAMP:20260424T113206
CREATED:20251201T004011Z
LAST-MODIFIED:20260307T021133Z
UID:10024033-1900317600-1900321200@bluewaterparent.com
SUMMARY:Great Start Playgroup - Avoca
DESCRIPTION:
URL:https://bluewaterparent.com/event/great-start-playgroup-emmett/2030-03-21/
LOCATION:Avoca Elementary\, 8751 Willow St.\, Avoca\, MI\, 48006\, United States
CATEGORIES:Playgroups
END:VEVENT
BEGIN:VEVENT
DTSTART;TZID=America/New_York:20300328T100000
DTEND;TZID=America/New_York:20300328T110000
DTSTAMP:20260424T113206
CREATED:20251201T004011Z
LAST-MODIFIED:20260307T021133Z
UID:10024034-1900922400-1900926000@bluewaterparent.com
SUMMARY:Great Start Playgroup - Avoca
DESCRIPTION:
URL:https://bluewaterparent.com/event/great-start-playgroup-emmett/2030-03-28/
LOCATION:Avoca Elementary\, 8751 Willow St.\, Avoca\, MI\, 48006\, United States
CATEGORIES:Playgroups
END:VEVENT
BEGIN:VEVENT
DTSTART;TZID=America/New_York:20300404T100000
DTEND;TZID=America/New_York:20300404T110000
DTSTAMP:20260424T113206
CREATED:20251201T004011Z
LAST-MODIFIED:20260307T021133Z
UID:10024035-1901527200-1901530800@bluewaterparent.com
SUMMARY:Great Start Playgroup - Avoca
DESCRIPTION:
URL:https://bluewaterparent.com/event/great-start-playgroup-emmett/2030-04-04/
LOCATION:Avoca Elementary\, 8751 Willow St.\, Avoca\, MI\, 48006\, United States
CATEGORIES:Playgroups
END:VEVENT
BEGIN:VEVENT
DTSTART;TZID=America/New_York:20300411T100000
DTEND;TZID=America/New_York:20300411T110000
DTSTAMP:20260424T113206
CREATED:20251201T004011Z
LAST-MODIFIED:20260307T021133Z
UID:10024036-1902132000-1902135600@bluewaterparent.com
SUMMARY:Great Start Playgroup - Avoca
DESCRIPTION:
URL:https://bluewaterparent.com/event/great-start-playgroup-emmett/2030-04-11/
LOCATION:Avoca Elementary\, 8751 Willow St.\, Avoca\, MI\, 48006\, United States
CATEGORIES:Playgroups
END:VEVENT
BEGIN:VEVENT
DTSTART;TZID=America/New_York:20300418T100000
DTEND;TZID=America/New_York:20300418T110000
DTSTAMP:20260424T113206
CREATED:20251201T004011Z
LAST-MODIFIED:20260307T021133Z
UID:10024037-1902736800-1902740400@bluewaterparent.com
SUMMARY:Great Start Playgroup - Avoca
DESCRIPTION:
URL:https://bluewaterparent.com/event/great-start-playgroup-emmett/2030-04-18/
LOCATION:Avoca Elementary\, 8751 Willow St.\, Avoca\, MI\, 48006\, United States
CATEGORIES:Playgroups
END:VEVENT
BEGIN:VEVENT
DTSTART;TZID=America/New_York:20300425T100000
DTEND;TZID=America/New_York:20300425T110000
DTSTAMP:20260424T113206
CREATED:20251201T004011Z
LAST-MODIFIED:20260307T021133Z
UID:10024038-1903341600-1903345200@bluewaterparent.com
SUMMARY:Great Start Playgroup - Avoca
DESCRIPTION:
URL:https://bluewaterparent.com/event/great-start-playgroup-emmett/2030-04-25/
LOCATION:Avoca Elementary\, 8751 Willow St.\, Avoca\, MI\, 48006\, United States
CATEGORIES:Playgroups
END:VEVENT
BEGIN:VEVENT
DTSTART;TZID=America/New_York:20300502T100000
DTEND;TZID=America/New_York:20300502T110000
DTSTAMP:20260424T113206
CREATED:20251201T004011Z
LAST-MODIFIED:20260307T021133Z
UID:10024039-1903946400-1903950000@bluewaterparent.com
SUMMARY:Great Start Playgroup - Avoca
DESCRIPTION:
URL:https://bluewaterparent.com/event/great-start-playgroup-emmett/2030-05-02/
LOCATION:Avoca Elementary\, 8751 Willow St.\, Avoca\, MI\, 48006\, United States
CATEGORIES:Playgroups
END:VEVENT
END:VCALENDAR