BEGIN:VCALENDAR
VERSION:2.0
PRODID:-//BlueWaterParent.com - ECPv6.15.20//NONSGML v1.0//EN
CALSCALE:GREGORIAN
METHOD:PUBLISH
X-WR-CALNAME:BlueWaterParent.com
X-ORIGINAL-URL:https://bluewaterparent.com
X-WR-CALDESC:Events for BlueWaterParent.com
REFRESH-INTERVAL;VALUE=DURATION:PT1H
X-Robots-Tag:noindex
X-PUBLISHED-TTL:PT1H
BEGIN:VTIMEZONE
TZID:America/New_York
BEGIN:DAYLIGHT
TZOFFSETFROM:-0500
TZOFFSETTO:-0400
TZNAME:EDT
DTSTART:20290311T070000
END:DAYLIGHT
BEGIN:STANDARD
TZOFFSETFROM:-0400
TZOFFSETTO:-0500
TZNAME:EST
DTSTART:20291104T060000
END:STANDARD
BEGIN:DAYLIGHT
TZOFFSETFROM:-0500
TZOFFSETTO:-0400
TZNAME:EDT
DTSTART:20300310T070000
END:DAYLIGHT
BEGIN:STANDARD
TZOFFSETFROM:-0400
TZOFFSETTO:-0500
TZNAME:EST
DTSTART:20301103T060000
END:STANDARD
BEGIN:DAYLIGHT
TZOFFSETFROM:-0500
TZOFFSETTO:-0400
TZNAME:EDT
DTSTART:20310309T070000
END:DAYLIGHT
BEGIN:STANDARD
TZOFFSETFROM:-0400
TZOFFSETTO:-0500
TZNAME:EST
DTSTART:20311102T060000
END:STANDARD
BEGIN:DAYLIGHT
TZOFFSETFROM:-0500
TZOFFSETTO:-0400
TZNAME:EDT
DTSTART:20320314T070000
END:DAYLIGHT
BEGIN:STANDARD
TZOFFSETFROM:-0400
TZOFFSETTO:-0500
TZNAME:EST
DTSTART:20321107T060000
END:STANDARD
END:VTIMEZONE
BEGIN:VEVENT
DTSTART;TZID=America/New_York:20300822T100000
DTEND;TZID=America/New_York:20300822T110000
DTSTAMP:20260424T210217
CREATED:20251201T004011Z
LAST-MODIFIED:20260307T021133Z
UID:10024055-1913623200-1913626800@bluewaterparent.com
SUMMARY:Great Start Playgroup - Avoca
DESCRIPTION:
URL:https://bluewaterparent.com/event/great-start-playgroup-emmett/2030-08-22/
LOCATION:Avoca Elementary\, 8751 Willow St.\, Avoca\, MI\, 48006\, United States
CATEGORIES:Playgroups
END:VEVENT
BEGIN:VEVENT
DTSTART;TZID=America/New_York:20300829T100000
DTEND;TZID=America/New_York:20300829T110000
DTSTAMP:20260424T210217
CREATED:20251201T004011Z
LAST-MODIFIED:20260307T021133Z
UID:10024056-1914228000-1914231600@bluewaterparent.com
SUMMARY:Great Start Playgroup - Avoca
DESCRIPTION:
URL:https://bluewaterparent.com/event/great-start-playgroup-emmett/2030-08-29/
LOCATION:Avoca Elementary\, 8751 Willow St.\, Avoca\, MI\, 48006\, United States
CATEGORIES:Playgroups
END:VEVENT
BEGIN:VEVENT
DTSTART;TZID=America/New_York:20300905T100000
DTEND;TZID=America/New_York:20300905T110000
DTSTAMP:20260424T210217
CREATED:20251201T004011Z
LAST-MODIFIED:20260307T021133Z
UID:10024057-1914832800-1914836400@bluewaterparent.com
SUMMARY:Great Start Playgroup - Avoca
DESCRIPTION:
URL:https://bluewaterparent.com/event/great-start-playgroup-emmett/2030-09-05/
LOCATION:Avoca Elementary\, 8751 Willow St.\, Avoca\, MI\, 48006\, United States
CATEGORIES:Playgroups
END:VEVENT
BEGIN:VEVENT
DTSTART;TZID=America/New_York:20300912T100000
DTEND;TZID=America/New_York:20300912T110000
DTSTAMP:20260424T210217
CREATED:20251201T004011Z
LAST-MODIFIED:20260307T021133Z
UID:10024058-1915437600-1915441200@bluewaterparent.com
SUMMARY:Great Start Playgroup - Avoca
DESCRIPTION:
URL:https://bluewaterparent.com/event/great-start-playgroup-emmett/2030-09-12/
LOCATION:Avoca Elementary\, 8751 Willow St.\, Avoca\, MI\, 48006\, United States
CATEGORIES:Playgroups
END:VEVENT
BEGIN:VEVENT
DTSTART;TZID=America/New_York:20300919T100000
DTEND;TZID=America/New_York:20300919T110000
DTSTAMP:20260424T210217
CREATED:20251201T004011Z
LAST-MODIFIED:20260307T021133Z
UID:10024059-1916042400-1916046000@bluewaterparent.com
SUMMARY:Great Start Playgroup - Avoca
DESCRIPTION:
URL:https://bluewaterparent.com/event/great-start-playgroup-emmett/2030-09-19/
LOCATION:Avoca Elementary\, 8751 Willow St.\, Avoca\, MI\, 48006\, United States
CATEGORIES:Playgroups
END:VEVENT
BEGIN:VEVENT
DTSTART;TZID=America/New_York:20300926T100000
DTEND;TZID=America/New_York:20300926T110000
DTSTAMP:20260424T210217
CREATED:20251201T004011Z
LAST-MODIFIED:20260307T021133Z
UID:10024060-1916647200-1916650800@bluewaterparent.com
SUMMARY:Great Start Playgroup - Avoca
DESCRIPTION:
URL:https://bluewaterparent.com/event/great-start-playgroup-emmett/2030-09-26/
LOCATION:Avoca Elementary\, 8751 Willow St.\, Avoca\, MI\, 48006\, United States
CATEGORIES:Playgroups
END:VEVENT
BEGIN:VEVENT
DTSTART;TZID=America/New_York:20301003T100000
DTEND;TZID=America/New_York:20301003T110000
DTSTAMP:20260424T210217
CREATED:20251201T004011Z
LAST-MODIFIED:20260307T021133Z
UID:10024061-1917252000-1917255600@bluewaterparent.com
SUMMARY:Great Start Playgroup - Avoca
DESCRIPTION:
URL:https://bluewaterparent.com/event/great-start-playgroup-emmett/2030-10-03/
LOCATION:Avoca Elementary\, 8751 Willow St.\, Avoca\, MI\, 48006\, United States
CATEGORIES:Playgroups
END:VEVENT
BEGIN:VEVENT
DTSTART;TZID=America/New_York:20301010T100000
DTEND;TZID=America/New_York:20301010T110000
DTSTAMP:20260424T210217
CREATED:20251201T004011Z
LAST-MODIFIED:20260307T021133Z
UID:10024062-1917856800-1917860400@bluewaterparent.com
SUMMARY:Great Start Playgroup - Avoca
DESCRIPTION:
URL:https://bluewaterparent.com/event/great-start-playgroup-emmett/2030-10-10/
LOCATION:Avoca Elementary\, 8751 Willow St.\, Avoca\, MI\, 48006\, United States
CATEGORIES:Playgroups
END:VEVENT
BEGIN:VEVENT
DTSTART;TZID=America/New_York:20301017T100000
DTEND;TZID=America/New_York:20301017T110000
DTSTAMP:20260424T210217
CREATED:20251201T004011Z
LAST-MODIFIED:20260307T021133Z
UID:10024063-1918461600-1918465200@bluewaterparent.com
SUMMARY:Great Start Playgroup - Avoca
DESCRIPTION:
URL:https://bluewaterparent.com/event/great-start-playgroup-emmett/2030-10-17/
LOCATION:Avoca Elementary\, 8751 Willow St.\, Avoca\, MI\, 48006\, United States
CATEGORIES:Playgroups
END:VEVENT
BEGIN:VEVENT
DTSTART;TZID=America/New_York:20301024T100000
DTEND;TZID=America/New_York:20301024T110000
DTSTAMP:20260424T210217
CREATED:20251201T004011Z
LAST-MODIFIED:20260307T021133Z
UID:10024064-1919066400-1919070000@bluewaterparent.com
SUMMARY:Great Start Playgroup - Avoca
DESCRIPTION:
URL:https://bluewaterparent.com/event/great-start-playgroup-emmett/2030-10-24/
LOCATION:Avoca Elementary\, 8751 Willow St.\, Avoca\, MI\, 48006\, United States
CATEGORIES:Playgroups
END:VEVENT
BEGIN:VEVENT
DTSTART;TZID=America/New_York:20301031T100000
DTEND;TZID=America/New_York:20301031T110000
DTSTAMP:20260424T210217
CREATED:20251201T004011Z
LAST-MODIFIED:20260307T021133Z
UID:10024065-1919671200-1919674800@bluewaterparent.com
SUMMARY:Great Start Playgroup - Avoca
DESCRIPTION:
URL:https://bluewaterparent.com/event/great-start-playgroup-emmett/2030-10-31/
LOCATION:Avoca Elementary\, 8751 Willow St.\, Avoca\, MI\, 48006\, United States
CATEGORIES:Playgroups
END:VEVENT
BEGIN:VEVENT
DTSTART;TZID=America/New_York:20301107T100000
DTEND;TZID=America/New_York:20301107T110000
DTSTAMP:20260424T210217
CREATED:20251201T004011Z
LAST-MODIFIED:20260307T021133Z
UID:10024066-1920276000-1920279600@bluewaterparent.com
SUMMARY:Great Start Playgroup - Avoca
DESCRIPTION:
URL:https://bluewaterparent.com/event/great-start-playgroup-emmett/2030-11-07/
LOCATION:Avoca Elementary\, 8751 Willow St.\, Avoca\, MI\, 48006\, United States
CATEGORIES:Playgroups
END:VEVENT
BEGIN:VEVENT
DTSTART;TZID=America/New_York:20301114T100000
DTEND;TZID=America/New_York:20301114T110000
DTSTAMP:20260424T210217
CREATED:20251201T004011Z
LAST-MODIFIED:20260307T021133Z
UID:10024067-1920880800-1920884400@bluewaterparent.com
SUMMARY:Great Start Playgroup - Avoca
DESCRIPTION:
URL:https://bluewaterparent.com/event/great-start-playgroup-emmett/2030-11-14/
LOCATION:Avoca Elementary\, 8751 Willow St.\, Avoca\, MI\, 48006\, United States
CATEGORIES:Playgroups
END:VEVENT
BEGIN:VEVENT
DTSTART;TZID=America/New_York:20301121T100000
DTEND;TZID=America/New_York:20301121T110000
DTSTAMP:20260424T210217
CREATED:20251201T004011Z
LAST-MODIFIED:20260307T021133Z
UID:10024068-1921485600-1921489200@bluewaterparent.com
SUMMARY:Great Start Playgroup - Avoca
DESCRIPTION:
URL:https://bluewaterparent.com/event/great-start-playgroup-emmett/2030-11-21/
LOCATION:Avoca Elementary\, 8751 Willow St.\, Avoca\, MI\, 48006\, United States
CATEGORIES:Playgroups
END:VEVENT
BEGIN:VEVENT
DTSTART;TZID=America/New_York:20301128T100000
DTEND;TZID=America/New_York:20301128T110000
DTSTAMP:20260424T210217
CREATED:20251201T004011Z
LAST-MODIFIED:20260307T021133Z
UID:10024069-1922090400-1922094000@bluewaterparent.com
SUMMARY:Great Start Playgroup - Avoca
DESCRIPTION:
URL:https://bluewaterparent.com/event/great-start-playgroup-emmett/2030-11-28/
LOCATION:Avoca Elementary\, 8751 Willow St.\, Avoca\, MI\, 48006\, United States
CATEGORIES:Playgroups
END:VEVENT
BEGIN:VEVENT
DTSTART;TZID=America/New_York:20301205T100000
DTEND;TZID=America/New_York:20301205T110000
DTSTAMP:20260424T210217
CREATED:20251201T004011Z
LAST-MODIFIED:20260307T021133Z
UID:10024070-1922695200-1922698800@bluewaterparent.com
SUMMARY:Great Start Playgroup - Avoca
DESCRIPTION:
URL:https://bluewaterparent.com/event/great-start-playgroup-emmett/2030-12-05/
LOCATION:Avoca Elementary\, 8751 Willow St.\, Avoca\, MI\, 48006\, United States
CATEGORIES:Playgroups
END:VEVENT
BEGIN:VEVENT
DTSTART;TZID=America/New_York:20301212T100000
DTEND;TZID=America/New_York:20301212T110000
DTSTAMP:20260424T210217
CREATED:20251201T004011Z
LAST-MODIFIED:20260307T021133Z
UID:10024071-1923300000-1923303600@bluewaterparent.com
SUMMARY:Great Start Playgroup - Avoca
DESCRIPTION:
URL:https://bluewaterparent.com/event/great-start-playgroup-emmett/2030-12-12/
LOCATION:Avoca Elementary\, 8751 Willow St.\, Avoca\, MI\, 48006\, United States
CATEGORIES:Playgroups
END:VEVENT
BEGIN:VEVENT
DTSTART;TZID=America/New_York:20301219T100000
DTEND;TZID=America/New_York:20301219T110000
DTSTAMP:20260424T210217
CREATED:20251201T004011Z
LAST-MODIFIED:20260307T021133Z
UID:10024072-1923904800-1923908400@bluewaterparent.com
SUMMARY:Great Start Playgroup - Avoca
DESCRIPTION:
URL:https://bluewaterparent.com/event/great-start-playgroup-emmett/2030-12-19/
LOCATION:Avoca Elementary\, 8751 Willow St.\, Avoca\, MI\, 48006\, United States
CATEGORIES:Playgroups
END:VEVENT
BEGIN:VEVENT
DTSTART;TZID=America/New_York:20301226T100000
DTEND;TZID=America/New_York:20301226T110000
DTSTAMP:20260424T210217
CREATED:20251201T004011Z
LAST-MODIFIED:20260307T021133Z
UID:10024073-1924509600-1924513200@bluewaterparent.com
SUMMARY:Great Start Playgroup - Avoca
DESCRIPTION:
URL:https://bluewaterparent.com/event/great-start-playgroup-emmett/2030-12-26/
LOCATION:Avoca Elementary\, 8751 Willow St.\, Avoca\, MI\, 48006\, United States
CATEGORIES:Playgroups
END:VEVENT
BEGIN:VEVENT
DTSTART;TZID=America/New_York:20310102T100000
DTEND;TZID=America/New_York:20310102T110000
DTSTAMP:20260424T210217
CREATED:20251201T004011Z
LAST-MODIFIED:20260307T021133Z
UID:10024074-1925114400-1925118000@bluewaterparent.com
SUMMARY:Great Start Playgroup - Avoca
DESCRIPTION:
URL:https://bluewaterparent.com/event/great-start-playgroup-emmett/2031-01-02/
LOCATION:Avoca Elementary\, 8751 Willow St.\, Avoca\, MI\, 48006\, United States
CATEGORIES:Playgroups
END:VEVENT
BEGIN:VEVENT
DTSTART;TZID=America/New_York:20310109T100000
DTEND;TZID=America/New_York:20310109T110000
DTSTAMP:20260424T210217
CREATED:20251201T004011Z
LAST-MODIFIED:20260307T021133Z
UID:10024075-1925719200-1925722800@bluewaterparent.com
SUMMARY:Great Start Playgroup - Avoca
DESCRIPTION:
URL:https://bluewaterparent.com/event/great-start-playgroup-emmett/2031-01-09/
LOCATION:Avoca Elementary\, 8751 Willow St.\, Avoca\, MI\, 48006\, United States
CATEGORIES:Playgroups
END:VEVENT
BEGIN:VEVENT
DTSTART;TZID=America/New_York:20310116T100000
DTEND;TZID=America/New_York:20310116T110000
DTSTAMP:20260424T210217
CREATED:20251201T004011Z
LAST-MODIFIED:20260307T021133Z
UID:10024076-1926324000-1926327600@bluewaterparent.com
SUMMARY:Great Start Playgroup - Avoca
DESCRIPTION:
URL:https://bluewaterparent.com/event/great-start-playgroup-emmett/2031-01-16/
LOCATION:Avoca Elementary\, 8751 Willow St.\, Avoca\, MI\, 48006\, United States
CATEGORIES:Playgroups
END:VEVENT
BEGIN:VEVENT
DTSTART;TZID=America/New_York:20310123T100000
DTEND;TZID=America/New_York:20310123T110000
DTSTAMP:20260424T210217
CREATED:20251201T004011Z
LAST-MODIFIED:20260307T021133Z
UID:10024077-1926928800-1926932400@bluewaterparent.com
SUMMARY:Great Start Playgroup - Avoca
DESCRIPTION:
URL:https://bluewaterparent.com/event/great-start-playgroup-emmett/2031-01-23/
LOCATION:Avoca Elementary\, 8751 Willow St.\, Avoca\, MI\, 48006\, United States
CATEGORIES:Playgroups
END:VEVENT
BEGIN:VEVENT
DTSTART;TZID=America/New_York:20310130T100000
DTEND;TZID=America/New_York:20310130T110000
DTSTAMP:20260424T210217
CREATED:20251201T004011Z
LAST-MODIFIED:20260307T021133Z
UID:10024078-1927533600-1927537200@bluewaterparent.com
SUMMARY:Great Start Playgroup - Avoca
DESCRIPTION:
URL:https://bluewaterparent.com/event/great-start-playgroup-emmett/2031-01-30/
LOCATION:Avoca Elementary\, 8751 Willow St.\, Avoca\, MI\, 48006\, United States
CATEGORIES:Playgroups
END:VEVENT
BEGIN:VEVENT
DTSTART;TZID=America/New_York:20310206T100000
DTEND;TZID=America/New_York:20310206T110000
DTSTAMP:20260424T210217
CREATED:20251201T004011Z
LAST-MODIFIED:20260307T021133Z
UID:10024079-1928138400-1928142000@bluewaterparent.com
SUMMARY:Great Start Playgroup - Avoca
DESCRIPTION:
URL:https://bluewaterparent.com/event/great-start-playgroup-emmett/2031-02-06/
LOCATION:Avoca Elementary\, 8751 Willow St.\, Avoca\, MI\, 48006\, United States
CATEGORIES:Playgroups
END:VEVENT
BEGIN:VEVENT
DTSTART;TZID=America/New_York:20310213T100000
DTEND;TZID=America/New_York:20310213T110000
DTSTAMP:20260424T210217
CREATED:20251201T004011Z
LAST-MODIFIED:20260307T021133Z
UID:10024080-1928743200-1928746800@bluewaterparent.com
SUMMARY:Great Start Playgroup - Avoca
DESCRIPTION:
URL:https://bluewaterparent.com/event/great-start-playgroup-emmett/2031-02-13/
LOCATION:Avoca Elementary\, 8751 Willow St.\, Avoca\, MI\, 48006\, United States
CATEGORIES:Playgroups
END:VEVENT
BEGIN:VEVENT
DTSTART;TZID=America/New_York:20310220T100000
DTEND;TZID=America/New_York:20310220T110000
DTSTAMP:20260424T210217
CREATED:20251201T004011Z
LAST-MODIFIED:20260307T021133Z
UID:10024081-1929348000-1929351600@bluewaterparent.com
SUMMARY:Great Start Playgroup - Avoca
DESCRIPTION:
URL:https://bluewaterparent.com/event/great-start-playgroup-emmett/2031-02-20/
LOCATION:Avoca Elementary\, 8751 Willow St.\, Avoca\, MI\, 48006\, United States
CATEGORIES:Playgroups
END:VEVENT
BEGIN:VEVENT
DTSTART;TZID=America/New_York:20310227T100000
DTEND;TZID=America/New_York:20310227T110000
DTSTAMP:20260424T210217
CREATED:20251201T004011Z
LAST-MODIFIED:20260307T021133Z
UID:10024082-1929952800-1929956400@bluewaterparent.com
SUMMARY:Great Start Playgroup - Avoca
DESCRIPTION:
URL:https://bluewaterparent.com/event/great-start-playgroup-emmett/2031-02-27/
LOCATION:Avoca Elementary\, 8751 Willow St.\, Avoca\, MI\, 48006\, United States
CATEGORIES:Playgroups
END:VEVENT
BEGIN:VEVENT
DTSTART;TZID=America/New_York:20310306T100000
DTEND;TZID=America/New_York:20310306T110000
DTSTAMP:20260424T210217
CREATED:20251201T004011Z
LAST-MODIFIED:20260307T021133Z
UID:10024083-1930557600-1930561200@bluewaterparent.com
SUMMARY:Great Start Playgroup - Avoca
DESCRIPTION:
URL:https://bluewaterparent.com/event/great-start-playgroup-emmett/2031-03-06/
LOCATION:Avoca Elementary\, 8751 Willow St.\, Avoca\, MI\, 48006\, United States
CATEGORIES:Playgroups
END:VEVENT
END:VCALENDAR