BEGIN:VCALENDAR
VERSION:2.0
PRODID:-//BlueWaterParent.com - ECPv6.15.20//NONSGML v1.0//EN
CALSCALE:GREGORIAN
METHOD:PUBLISH
X-ORIGINAL-URL:https://bluewaterparent.com
X-WR-CALDESC:Events for BlueWaterParent.com
REFRESH-INTERVAL;VALUE=DURATION:PT1H
X-Robots-Tag:noindex
X-PUBLISHED-TTL:PT1H
BEGIN:VTIMEZONE
TZID:America/New_York
BEGIN:DAYLIGHT
TZOFFSETFROM:-0500
TZOFFSETTO:-0400
TZNAME:EDT
DTSTART:20270314T070000
END:DAYLIGHT
BEGIN:STANDARD
TZOFFSETFROM:-0400
TZOFFSETTO:-0500
TZNAME:EST
DTSTART:20271107T060000
END:STANDARD
BEGIN:DAYLIGHT
TZOFFSETFROM:-0500
TZOFFSETTO:-0400
TZNAME:EDT
DTSTART:20280312T070000
END:DAYLIGHT
BEGIN:STANDARD
TZOFFSETFROM:-0400
TZOFFSETTO:-0500
TZNAME:EST
DTSTART:20281105T060000
END:STANDARD
BEGIN:DAYLIGHT
TZOFFSETFROM:-0500
TZOFFSETTO:-0400
TZNAME:EDT
DTSTART:20290311T070000
END:DAYLIGHT
BEGIN:STANDARD
TZOFFSETFROM:-0400
TZOFFSETTO:-0500
TZNAME:EST
DTSTART:20291104T060000
END:STANDARD
END:VTIMEZONE
BEGIN:VEVENT
DTSTART;TZID=America/New_York:20280113T100000
DTEND;TZID=America/New_York:20280113T110000
DTSTAMP:20260419T183611
CREATED:20251201T004011Z
LAST-MODIFIED:20260307T021133Z
UID:10023919-1831370400-1831374000@bluewaterparent.com
SUMMARY:Great Start Playgroup - Avoca
DESCRIPTION:
URL:https://bluewaterparent.com/event/great-start-playgroup-emmett/2028-01-13/
LOCATION:Avoca Elementary\, 8751 Willow St.\, Avoca\, MI\, 48006\, United States
CATEGORIES:Playgroups
END:VEVENT
BEGIN:VEVENT
DTSTART;TZID=America/New_York:20280120T100000
DTEND;TZID=America/New_York:20280120T110000
DTSTAMP:20260419T183611
CREATED:20251201T004011Z
LAST-MODIFIED:20260307T021133Z
UID:10023920-1831975200-1831978800@bluewaterparent.com
SUMMARY:Great Start Playgroup - Avoca
DESCRIPTION:
URL:https://bluewaterparent.com/event/great-start-playgroup-emmett/2028-01-20/
LOCATION:Avoca Elementary\, 8751 Willow St.\, Avoca\, MI\, 48006\, United States
CATEGORIES:Playgroups
END:VEVENT
BEGIN:VEVENT
DTSTART;TZID=America/New_York:20280127T100000
DTEND;TZID=America/New_York:20280127T110000
DTSTAMP:20260419T183611
CREATED:20251201T004011Z
LAST-MODIFIED:20260307T021133Z
UID:10023921-1832580000-1832583600@bluewaterparent.com
SUMMARY:Great Start Playgroup - Avoca
DESCRIPTION:
URL:https://bluewaterparent.com/event/great-start-playgroup-emmett/2028-01-27/
LOCATION:Avoca Elementary\, 8751 Willow St.\, Avoca\, MI\, 48006\, United States
CATEGORIES:Playgroups
END:VEVENT
BEGIN:VEVENT
DTSTART;TZID=America/New_York:20280203T100000
DTEND;TZID=America/New_York:20280203T110000
DTSTAMP:20260419T183611
CREATED:20251201T004011Z
LAST-MODIFIED:20260307T021133Z
UID:10023922-1833184800-1833188400@bluewaterparent.com
SUMMARY:Great Start Playgroup - Avoca
DESCRIPTION:
URL:https://bluewaterparent.com/event/great-start-playgroup-emmett/2028-02-03/
LOCATION:Avoca Elementary\, 8751 Willow St.\, Avoca\, MI\, 48006\, United States
CATEGORIES:Playgroups
END:VEVENT
BEGIN:VEVENT
DTSTART;TZID=America/New_York:20280210T100000
DTEND;TZID=America/New_York:20280210T110000
DTSTAMP:20260419T183611
CREATED:20251201T004011Z
LAST-MODIFIED:20260307T021133Z
UID:10023923-1833789600-1833793200@bluewaterparent.com
SUMMARY:Great Start Playgroup - Avoca
DESCRIPTION:
URL:https://bluewaterparent.com/event/great-start-playgroup-emmett/2028-02-10/
LOCATION:Avoca Elementary\, 8751 Willow St.\, Avoca\, MI\, 48006\, United States
CATEGORIES:Playgroups
END:VEVENT
BEGIN:VEVENT
DTSTART;TZID=America/New_York:20280217T100000
DTEND;TZID=America/New_York:20280217T110000
DTSTAMP:20260419T183611
CREATED:20251201T004011Z
LAST-MODIFIED:20260307T021133Z
UID:10023924-1834394400-1834398000@bluewaterparent.com
SUMMARY:Great Start Playgroup - Avoca
DESCRIPTION:
URL:https://bluewaterparent.com/event/great-start-playgroup-emmett/2028-02-17/
LOCATION:Avoca Elementary\, 8751 Willow St.\, Avoca\, MI\, 48006\, United States
CATEGORIES:Playgroups
END:VEVENT
BEGIN:VEVENT
DTSTART;TZID=America/New_York:20280224T100000
DTEND;TZID=America/New_York:20280224T110000
DTSTAMP:20260419T183611
CREATED:20251201T004011Z
LAST-MODIFIED:20260307T021133Z
UID:10023925-1834999200-1835002800@bluewaterparent.com
SUMMARY:Great Start Playgroup - Avoca
DESCRIPTION:
URL:https://bluewaterparent.com/event/great-start-playgroup-emmett/2028-02-24/
LOCATION:Avoca Elementary\, 8751 Willow St.\, Avoca\, MI\, 48006\, United States
CATEGORIES:Playgroups
END:VEVENT
BEGIN:VEVENT
DTSTART;TZID=America/New_York:20280302T100000
DTEND;TZID=America/New_York:20280302T110000
DTSTAMP:20260419T183611
CREATED:20251201T004011Z
LAST-MODIFIED:20260307T021133Z
UID:10023926-1835604000-1835607600@bluewaterparent.com
SUMMARY:Great Start Playgroup - Avoca
DESCRIPTION:
URL:https://bluewaterparent.com/event/great-start-playgroup-emmett/2028-03-02/
LOCATION:Avoca Elementary\, 8751 Willow St.\, Avoca\, MI\, 48006\, United States
CATEGORIES:Playgroups
END:VEVENT
BEGIN:VEVENT
DTSTART;TZID=America/New_York:20280309T100000
DTEND;TZID=America/New_York:20280309T110000
DTSTAMP:20260419T183611
CREATED:20251201T004011Z
LAST-MODIFIED:20260307T021133Z
UID:10023927-1836208800-1836212400@bluewaterparent.com
SUMMARY:Great Start Playgroup - Avoca
DESCRIPTION:
URL:https://bluewaterparent.com/event/great-start-playgroup-emmett/2028-03-09/
LOCATION:Avoca Elementary\, 8751 Willow St.\, Avoca\, MI\, 48006\, United States
CATEGORIES:Playgroups
END:VEVENT
BEGIN:VEVENT
DTSTART;TZID=America/New_York:20280316T100000
DTEND;TZID=America/New_York:20280316T110000
DTSTAMP:20260419T183611
CREATED:20251201T004011Z
LAST-MODIFIED:20260307T021133Z
UID:10023928-1836813600-1836817200@bluewaterparent.com
SUMMARY:Great Start Playgroup - Avoca
DESCRIPTION:
URL:https://bluewaterparent.com/event/great-start-playgroup-emmett/2028-03-16/
LOCATION:Avoca Elementary\, 8751 Willow St.\, Avoca\, MI\, 48006\, United States
CATEGORIES:Playgroups
END:VEVENT
BEGIN:VEVENT
DTSTART;TZID=America/New_York:20280323T100000
DTEND;TZID=America/New_York:20280323T110000
DTSTAMP:20260419T183611
CREATED:20251201T004011Z
LAST-MODIFIED:20260307T021133Z
UID:10023929-1837418400-1837422000@bluewaterparent.com
SUMMARY:Great Start Playgroup - Avoca
DESCRIPTION:
URL:https://bluewaterparent.com/event/great-start-playgroup-emmett/2028-03-23/
LOCATION:Avoca Elementary\, 8751 Willow St.\, Avoca\, MI\, 48006\, United States
CATEGORIES:Playgroups
END:VEVENT
BEGIN:VEVENT
DTSTART;TZID=America/New_York:20280330T100000
DTEND;TZID=America/New_York:20280330T110000
DTSTAMP:20260419T183611
CREATED:20251201T004011Z
LAST-MODIFIED:20260307T021133Z
UID:10023930-1838023200-1838026800@bluewaterparent.com
SUMMARY:Great Start Playgroup - Avoca
DESCRIPTION:
URL:https://bluewaterparent.com/event/great-start-playgroup-emmett/2028-03-30/
LOCATION:Avoca Elementary\, 8751 Willow St.\, Avoca\, MI\, 48006\, United States
CATEGORIES:Playgroups
END:VEVENT
BEGIN:VEVENT
DTSTART;TZID=America/New_York:20280406T100000
DTEND;TZID=America/New_York:20280406T110000
DTSTAMP:20260419T183611
CREATED:20251201T004011Z
LAST-MODIFIED:20260307T021133Z
UID:10023931-1838628000-1838631600@bluewaterparent.com
SUMMARY:Great Start Playgroup - Avoca
DESCRIPTION:
URL:https://bluewaterparent.com/event/great-start-playgroup-emmett/2028-04-06/
LOCATION:Avoca Elementary\, 8751 Willow St.\, Avoca\, MI\, 48006\, United States
CATEGORIES:Playgroups
END:VEVENT
BEGIN:VEVENT
DTSTART;TZID=America/New_York:20280413T100000
DTEND;TZID=America/New_York:20280413T110000
DTSTAMP:20260419T183611
CREATED:20251201T004011Z
LAST-MODIFIED:20260307T021133Z
UID:10023932-1839232800-1839236400@bluewaterparent.com
SUMMARY:Great Start Playgroup - Avoca
DESCRIPTION:
URL:https://bluewaterparent.com/event/great-start-playgroup-emmett/2028-04-13/
LOCATION:Avoca Elementary\, 8751 Willow St.\, Avoca\, MI\, 48006\, United States
CATEGORIES:Playgroups
END:VEVENT
BEGIN:VEVENT
DTSTART;TZID=America/New_York:20280420T100000
DTEND;TZID=America/New_York:20280420T110000
DTSTAMP:20260419T183611
CREATED:20251201T004011Z
LAST-MODIFIED:20260307T021133Z
UID:10023933-1839837600-1839841200@bluewaterparent.com
SUMMARY:Great Start Playgroup - Avoca
DESCRIPTION:
URL:https://bluewaterparent.com/event/great-start-playgroup-emmett/2028-04-20/
LOCATION:Avoca Elementary\, 8751 Willow St.\, Avoca\, MI\, 48006\, United States
CATEGORIES:Playgroups
END:VEVENT
BEGIN:VEVENT
DTSTART;TZID=America/New_York:20280427T100000
DTEND;TZID=America/New_York:20280427T110000
DTSTAMP:20260419T183611
CREATED:20251201T004011Z
LAST-MODIFIED:20260307T021133Z
UID:10023934-1840442400-1840446000@bluewaterparent.com
SUMMARY:Great Start Playgroup - Avoca
DESCRIPTION:
URL:https://bluewaterparent.com/event/great-start-playgroup-emmett/2028-04-27/
LOCATION:Avoca Elementary\, 8751 Willow St.\, Avoca\, MI\, 48006\, United States
CATEGORIES:Playgroups
END:VEVENT
BEGIN:VEVENT
DTSTART;TZID=America/New_York:20280504T100000
DTEND;TZID=America/New_York:20280504T110000
DTSTAMP:20260419T183611
CREATED:20251201T004011Z
LAST-MODIFIED:20260307T021133Z
UID:10023935-1841047200-1841050800@bluewaterparent.com
SUMMARY:Great Start Playgroup - Avoca
DESCRIPTION:
URL:https://bluewaterparent.com/event/great-start-playgroup-emmett/2028-05-04/
LOCATION:Avoca Elementary\, 8751 Willow St.\, Avoca\, MI\, 48006\, United States
CATEGORIES:Playgroups
END:VEVENT
BEGIN:VEVENT
DTSTART;TZID=America/New_York:20280511T100000
DTEND;TZID=America/New_York:20280511T110000
DTSTAMP:20260419T183611
CREATED:20251201T004011Z
LAST-MODIFIED:20260307T021133Z
UID:10023936-1841652000-1841655600@bluewaterparent.com
SUMMARY:Great Start Playgroup - Avoca
DESCRIPTION:
URL:https://bluewaterparent.com/event/great-start-playgroup-emmett/2028-05-11/
LOCATION:Avoca Elementary\, 8751 Willow St.\, Avoca\, MI\, 48006\, United States
CATEGORIES:Playgroups
END:VEVENT
BEGIN:VEVENT
DTSTART;TZID=America/New_York:20280518T100000
DTEND;TZID=America/New_York:20280518T110000
DTSTAMP:20260419T183611
CREATED:20251201T004011Z
LAST-MODIFIED:20260307T021133Z
UID:10023937-1842256800-1842260400@bluewaterparent.com
SUMMARY:Great Start Playgroup - Avoca
DESCRIPTION:
URL:https://bluewaterparent.com/event/great-start-playgroup-emmett/2028-05-18/
LOCATION:Avoca Elementary\, 8751 Willow St.\, Avoca\, MI\, 48006\, United States
CATEGORIES:Playgroups
END:VEVENT
BEGIN:VEVENT
DTSTART;TZID=America/New_York:20280525T100000
DTEND;TZID=America/New_York:20280525T110000
DTSTAMP:20260419T183611
CREATED:20251201T004011Z
LAST-MODIFIED:20260307T021133Z
UID:10023938-1842861600-1842865200@bluewaterparent.com
SUMMARY:Great Start Playgroup - Avoca
DESCRIPTION:
URL:https://bluewaterparent.com/event/great-start-playgroup-emmett/2028-05-25/
LOCATION:Avoca Elementary\, 8751 Willow St.\, Avoca\, MI\, 48006\, United States
CATEGORIES:Playgroups
END:VEVENT
BEGIN:VEVENT
DTSTART;TZID=America/New_York:20280601T100000
DTEND;TZID=America/New_York:20280601T110000
DTSTAMP:20260419T183611
CREATED:20251201T004011Z
LAST-MODIFIED:20260307T021133Z
UID:10023939-1843466400-1843470000@bluewaterparent.com
SUMMARY:Great Start Playgroup - Avoca
DESCRIPTION:
URL:https://bluewaterparent.com/event/great-start-playgroup-emmett/2028-06-01/
LOCATION:Avoca Elementary\, 8751 Willow St.\, Avoca\, MI\, 48006\, United States
CATEGORIES:Playgroups
END:VEVENT
BEGIN:VEVENT
DTSTART;TZID=America/New_York:20280608T100000
DTEND;TZID=America/New_York:20280608T110000
DTSTAMP:20260419T183611
CREATED:20251201T004011Z
LAST-MODIFIED:20260307T021133Z
UID:10023940-1844071200-1844074800@bluewaterparent.com
SUMMARY:Great Start Playgroup - Avoca
DESCRIPTION:
URL:https://bluewaterparent.com/event/great-start-playgroup-emmett/2028-06-08/
LOCATION:Avoca Elementary\, 8751 Willow St.\, Avoca\, MI\, 48006\, United States
CATEGORIES:Playgroups
END:VEVENT
BEGIN:VEVENT
DTSTART;TZID=America/New_York:20280615T100000
DTEND;TZID=America/New_York:20280615T110000
DTSTAMP:20260419T183611
CREATED:20251201T004011Z
LAST-MODIFIED:20260307T021133Z
UID:10023941-1844676000-1844679600@bluewaterparent.com
SUMMARY:Great Start Playgroup - Avoca
DESCRIPTION:
URL:https://bluewaterparent.com/event/great-start-playgroup-emmett/2028-06-15/
LOCATION:Avoca Elementary\, 8751 Willow St.\, Avoca\, MI\, 48006\, United States
CATEGORIES:Playgroups
END:VEVENT
BEGIN:VEVENT
DTSTART;TZID=America/New_York:20280622T100000
DTEND;TZID=America/New_York:20280622T110000
DTSTAMP:20260419T183611
CREATED:20251201T004011Z
LAST-MODIFIED:20260307T021133Z
UID:10023942-1845280800-1845284400@bluewaterparent.com
SUMMARY:Great Start Playgroup - Avoca
DESCRIPTION:
URL:https://bluewaterparent.com/event/great-start-playgroup-emmett/2028-06-22/
LOCATION:Avoca Elementary\, 8751 Willow St.\, Avoca\, MI\, 48006\, United States
CATEGORIES:Playgroups
END:VEVENT
BEGIN:VEVENT
DTSTART;TZID=America/New_York:20280629T100000
DTEND;TZID=America/New_York:20280629T110000
DTSTAMP:20260419T183611
CREATED:20251201T004011Z
LAST-MODIFIED:20260307T021133Z
UID:10023943-1845885600-1845889200@bluewaterparent.com
SUMMARY:Great Start Playgroup - Avoca
DESCRIPTION:
URL:https://bluewaterparent.com/event/great-start-playgroup-emmett/2028-06-29/
LOCATION:Avoca Elementary\, 8751 Willow St.\, Avoca\, MI\, 48006\, United States
CATEGORIES:Playgroups
END:VEVENT
BEGIN:VEVENT
DTSTART;TZID=America/New_York:20280706T100000
DTEND;TZID=America/New_York:20280706T110000
DTSTAMP:20260419T183611
CREATED:20251201T004011Z
LAST-MODIFIED:20260307T021133Z
UID:10023944-1846490400-1846494000@bluewaterparent.com
SUMMARY:Great Start Playgroup - Avoca
DESCRIPTION:
URL:https://bluewaterparent.com/event/great-start-playgroup-emmett/2028-07-06/
LOCATION:Avoca Elementary\, 8751 Willow St.\, Avoca\, MI\, 48006\, United States
CATEGORIES:Playgroups
END:VEVENT
BEGIN:VEVENT
DTSTART;TZID=America/New_York:20280713T100000
DTEND;TZID=America/New_York:20280713T110000
DTSTAMP:20260419T183611
CREATED:20251201T004011Z
LAST-MODIFIED:20260307T021133Z
UID:10023945-1847095200-1847098800@bluewaterparent.com
SUMMARY:Great Start Playgroup - Avoca
DESCRIPTION:
URL:https://bluewaterparent.com/event/great-start-playgroup-emmett/2028-07-13/
LOCATION:Avoca Elementary\, 8751 Willow St.\, Avoca\, MI\, 48006\, United States
CATEGORIES:Playgroups
END:VEVENT
BEGIN:VEVENT
DTSTART;TZID=America/New_York:20280720T100000
DTEND;TZID=America/New_York:20280720T110000
DTSTAMP:20260419T183611
CREATED:20251201T004011Z
LAST-MODIFIED:20260307T021133Z
UID:10023946-1847700000-1847703600@bluewaterparent.com
SUMMARY:Great Start Playgroup - Avoca
DESCRIPTION:
URL:https://bluewaterparent.com/event/great-start-playgroup-emmett/2028-07-20/
LOCATION:Avoca Elementary\, 8751 Willow St.\, Avoca\, MI\, 48006\, United States
CATEGORIES:Playgroups
END:VEVENT
BEGIN:VEVENT
DTSTART;TZID=America/New_York:20280727T100000
DTEND;TZID=America/New_York:20280727T110000
DTSTAMP:20260419T183611
CREATED:20251201T004011Z
LAST-MODIFIED:20260307T021133Z
UID:10023947-1848304800-1848308400@bluewaterparent.com
SUMMARY:Great Start Playgroup - Avoca
DESCRIPTION:
URL:https://bluewaterparent.com/event/great-start-playgroup-emmett/2028-07-27/
LOCATION:Avoca Elementary\, 8751 Willow St.\, Avoca\, MI\, 48006\, United States
CATEGORIES:Playgroups
END:VEVENT
BEGIN:VEVENT
DTSTART;TZID=America/New_York:20280803T100000
DTEND;TZID=America/New_York:20280803T110000
DTSTAMP:20260419T183611
CREATED:20251201T004011Z
LAST-MODIFIED:20260307T021133Z
UID:10023948-1848909600-1848913200@bluewaterparent.com
SUMMARY:Great Start Playgroup - Avoca
DESCRIPTION:
URL:https://bluewaterparent.com/event/great-start-playgroup-emmett/2028-08-03/
LOCATION:Avoca Elementary\, 8751 Willow St.\, Avoca\, MI\, 48006\, United States
CATEGORIES:Playgroups
END:VEVENT
END:VCALENDAR