BEGIN:VCALENDAR
VERSION:2.0
PRODID:-//BlueWaterParent.com - ECPv6.15.20//NONSGML v1.0//EN
CALSCALE:GREGORIAN
METHOD:PUBLISH
X-ORIGINAL-URL:https://bluewaterparent.com
X-WR-CALDESC:Events for BlueWaterParent.com
REFRESH-INTERVAL;VALUE=DURATION:PT1H
X-Robots-Tag:noindex
X-PUBLISHED-TTL:PT1H
BEGIN:VTIMEZONE
TZID:America/New_York
BEGIN:DAYLIGHT
TZOFFSETFROM:-0500
TZOFFSETTO:-0400
TZNAME:EDT
DTSTART:20250309T070000
END:DAYLIGHT
BEGIN:STANDARD
TZOFFSETFROM:-0400
TZOFFSETTO:-0500
TZNAME:EST
DTSTART:20251102T060000
END:STANDARD
BEGIN:DAYLIGHT
TZOFFSETFROM:-0500
TZOFFSETTO:-0400
TZNAME:EDT
DTSTART:20260308T070000
END:DAYLIGHT
BEGIN:STANDARD
TZOFFSETFROM:-0400
TZOFFSETTO:-0500
TZNAME:EST
DTSTART:20261101T060000
END:STANDARD
BEGIN:DAYLIGHT
TZOFFSETFROM:-0500
TZOFFSETTO:-0400
TZNAME:EDT
DTSTART:20270314T070000
END:DAYLIGHT
BEGIN:STANDARD
TZOFFSETFROM:-0400
TZOFFSETTO:-0500
TZNAME:EST
DTSTART:20271107T060000
END:STANDARD
END:VTIMEZONE
BEGIN:VEVENT
DTSTART;TZID=America/New_York:20260422T110000
DTEND;TZID=America/New_York:20260422T120000
DTSTAMP:20260423T143804
CREATED:20260101T193603Z
LAST-MODIFIED:20260101T193640Z
UID:10019235-1776855600-1776859200@bluewaterparent.com
SUMMARY:Storytime - G. Lynn Campbell
DESCRIPTION:From SCCLS – Bring your preschool-age children for some Storytime fun! They will enjoy a reading\, an energetic activity\, and a craft.
URL:https://bluewaterparent.com/event/storytime-g-lynn-campbell-2/2026-04-22/
LOCATION:G. Lynn Campbell Library\, 1955 Allen Rd\, Kimball\, MI\, 48074\, United States
CATEGORIES:Free,Playgroups
END:VEVENT
BEGIN:VEVENT
DTSTART;TZID=America/New_York:20260421T173000
DTEND;TZID=America/New_York:20260421T190000
DTSTAMP:20260423T143804
CREATED:20260328T185706Z
LAST-MODIFIED:20260401T013913Z
UID:10024903-1776792600-1776798000@bluewaterparent.com
SUMMARY:CRAFT: Paint your own 3D printed baby dragon
DESCRIPTION:Registation requested.
URL:https://bluewaterparent.com/event/craft-paint-your-own-3d-printed-baby-dragon/
LOCATION:G. Lynn Campbell Library\, 1955 Allen Rd\, Kimball\, MI\, 48074\, United States
CATEGORIES:Free
END:VEVENT
BEGIN:VEVENT
DTSTART;TZID=America/New_York:20260416T173000
DTEND;TZID=America/New_York:20260416T190000
DTSTAMP:20260423T143804
CREATED:20260328T185703Z
LAST-MODIFIED:20260401T013205Z
UID:10024901-1776360600-1776366000@bluewaterparent.com
SUMMARY:CRAFT: Earth Day Paper Mache
DESCRIPTION:Registation requested.
URL:https://bluewaterparent.com/event/craft-earth-day-paper-mache/
LOCATION:G. Lynn Campbell Library\, 1955 Allen Rd\, Kimball\, MI\, 48074\, United States
CATEGORIES:Free
END:VEVENT
BEGIN:VEVENT
DTSTART;TZID=America/New_York:20260415T110000
DTEND;TZID=America/New_York:20260415T120000
DTSTAMP:20260423T143804
CREATED:20260101T193603Z
LAST-MODIFIED:20260101T193640Z
UID:10019234-1776250800-1776254400@bluewaterparent.com
SUMMARY:Storytime - G. Lynn Campbell
DESCRIPTION:From SCCLS – Bring your preschool-age children for some Storytime fun! They will enjoy a reading\, an energetic activity\, and a craft.
URL:https://bluewaterparent.com/event/storytime-g-lynn-campbell-2/2026-04-15/
LOCATION:G. Lynn Campbell Library\, 1955 Allen Rd\, Kimball\, MI\, 48074\, United States
CATEGORIES:Free,Playgroups
END:VEVENT
BEGIN:VEVENT
DTSTART;TZID=America/New_York:20260411T100000
DTEND;TZID=America/New_York:20260411T110000
DTSTAMP:20260423T143804
CREATED:20260328T185708Z
LAST-MODIFIED:20260401T012627Z
UID:10024904-1775901600-1775905200@bluewaterparent.com
SUMMARY:Reading with Our Therapy Dog
DESCRIPTION:Signed waiver required
URL:https://bluewaterparent.com/event/reading-with-our-therapy-dog-3/
LOCATION:G. Lynn Campbell Library\, 1955 Allen Rd\, Kimball\, MI\, 48074\, United States
CATEGORIES:Free
END:VEVENT
BEGIN:VEVENT
DTSTART;TZID=America/New_York:20260408T110000
DTEND;TZID=America/New_York:20260408T120000
DTSTAMP:20260423T143804
CREATED:20260101T193603Z
LAST-MODIFIED:20260101T193640Z
UID:10019233-1775646000-1775649600@bluewaterparent.com
SUMMARY:Storytime - G. Lynn Campbell
DESCRIPTION:From SCCLS – Bring your preschool-age children for some Storytime fun! They will enjoy a reading\, an energetic activity\, and a craft.
URL:https://bluewaterparent.com/event/storytime-g-lynn-campbell-2/2026-04-08/
LOCATION:G. Lynn Campbell Library\, 1955 Allen Rd\, Kimball\, MI\, 48074\, United States
CATEGORIES:Free,Playgroups
END:VEVENT
BEGIN:VEVENT
DTSTART;TZID=America/New_York:20260401T110000
DTEND;TZID=America/New_York:20260401T120000
DTSTAMP:20260423T143804
CREATED:20260101T193603Z
LAST-MODIFIED:20260101T193640Z
UID:10019232-1775041200-1775044800@bluewaterparent.com
SUMMARY:Storytime - G. Lynn Campbell
DESCRIPTION:From SCCLS – Bring your preschool-age children for some Storytime fun! They will enjoy a reading\, an energetic activity\, and a craft.
URL:https://bluewaterparent.com/event/storytime-g-lynn-campbell-2/2026-04-01/
LOCATION:G. Lynn Campbell Library\, 1955 Allen Rd\, Kimball\, MI\, 48074\, United States
CATEGORIES:Free,Playgroups
END:VEVENT
BEGIN:VEVENT
DTSTART;TZID=America/New_York:20260325T110000
DTEND;TZID=America/New_York:20260325T120000
DTSTAMP:20260423T143804
CREATED:20260101T193603Z
LAST-MODIFIED:20260101T193640Z
UID:10019231-1774436400-1774440000@bluewaterparent.com
SUMMARY:Storytime - G. Lynn Campbell
DESCRIPTION:From SCCLS – Bring your preschool-age children for some Storytime fun! They will enjoy a reading\, an energetic activity\, and a craft.
URL:https://bluewaterparent.com/event/storytime-g-lynn-campbell-2/2026-03-25/
LOCATION:G. Lynn Campbell Library\, 1955 Allen Rd\, Kimball\, MI\, 48074\, United States
CATEGORIES:Free,Playgroups
END:VEVENT
BEGIN:VEVENT
DTSTART;TZID=America/New_York:20260324T180000
DTEND;TZID=America/New_York:20260324T190000
DTSTAMP:20260423T143804
CREATED:20260316T011847Z
LAST-MODIFIED:20260316T011847Z
UID:10024642-1774375200-1774378800@bluewaterparent.com
SUMMARY:Snacks From Around the World
DESCRIPTION:Food allergens might be present. All participants will be asked to sign a waiver. Geared toward all ages\, from children to adults. Registration requested. \n 
URL:https://bluewaterparent.com/event/snacks-from-around-the-world/
LOCATION:G. Lynn Campbell Library\, 1955 Allen Rd\, Kimball\, MI\, 48074\, United States
CATEGORIES:Free
END:VEVENT
BEGIN:VEVENT
DTSTART;TZID=America/New_York:20260321T110000
DTEND;TZID=America/New_York:20260321T120000
DTSTAMP:20260423T143804
CREATED:20260309T004840Z
LAST-MODIFIED:20260309T004840Z
UID:10024621-1774090800-1774094400@bluewaterparent.com
SUMMARY:Easter Bunny
DESCRIPTION:From SCCL: Hunt eggs. Crafts available. Photo opportunity (Bring your own camera.) \nEvent is indoors\, so rain or shine!
URL:https://bluewaterparent.com/event/easter-bunny/
LOCATION:G. Lynn Campbell Library\, 1955 Allen Rd\, Kimball\, MI\, 48074\, United States
CATEGORIES:Free,Local Easter Events
END:VEVENT
BEGIN:VEVENT
DTSTART;TZID=America/New_York:20260318T110000
DTEND;TZID=America/New_York:20260318T120000
DTSTAMP:20260423T143804
CREATED:20260101T193603Z
LAST-MODIFIED:20260101T193640Z
UID:10019230-1773831600-1773835200@bluewaterparent.com
SUMMARY:Storytime - G. Lynn Campbell
DESCRIPTION:From SCCLS – Bring your preschool-age children for some Storytime fun! They will enjoy a reading\, an energetic activity\, and a craft.
URL:https://bluewaterparent.com/event/storytime-g-lynn-campbell-2/2026-03-18/
LOCATION:G. Lynn Campbell Library\, 1955 Allen Rd\, Kimball\, MI\, 48074\, United States
CATEGORIES:Free,Playgroups
END:VEVENT
BEGIN:VEVENT
DTSTART;TZID=America/New_York:20260313T100000
DTEND;TZID=America/New_York:20260313T110000
DTSTAMP:20260423T143804
CREATED:20260303T014027Z
LAST-MODIFIED:20260303T014027Z
UID:10023554-1773396000-1773399600@bluewaterparent.com
SUMMARY:Reading With Our Therapy Dog
DESCRIPTION:From SCCL: Your children will grow in confidence and expand their reading skills by reading aloud to one of our therapy dogs.  They will gladly and calmly listen to one of your child’s favorite books (or choose one from our large collection).
URL:https://bluewaterparent.com/event/reading-with-our-therapy-dog-2/
LOCATION:G. Lynn Campbell Library\, 1955 Allen Rd\, Kimball\, MI\, 48074\, United States
CATEGORIES:Homeschool
END:VEVENT
BEGIN:VEVENT
DTSTART;TZID=America/New_York:20260311T110000
DTEND;TZID=America/New_York:20260311T120000
DTSTAMP:20260423T143804
CREATED:20260101T193603Z
LAST-MODIFIED:20260101T193640Z
UID:10019229-1773226800-1773230400@bluewaterparent.com
SUMMARY:Storytime - G. Lynn Campbell
DESCRIPTION:From SCCLS – Bring your preschool-age children for some Storytime fun! They will enjoy a reading\, an energetic activity\, and a craft.
URL:https://bluewaterparent.com/event/storytime-g-lynn-campbell-2/2026-03-11/
LOCATION:G. Lynn Campbell Library\, 1955 Allen Rd\, Kimball\, MI\, 48074\, United States
CATEGORIES:Free,Playgroups
END:VEVENT
BEGIN:VEVENT
DTSTART;TZID=America/New_York:20260304T110000
DTEND;TZID=America/New_York:20260304T120000
DTSTAMP:20260423T143804
CREATED:20260101T193603Z
LAST-MODIFIED:20260101T193640Z
UID:10019228-1772622000-1772625600@bluewaterparent.com
SUMMARY:Storytime - G. Lynn Campbell
DESCRIPTION:From SCCLS – Bring your preschool-age children for some Storytime fun! They will enjoy a reading\, an energetic activity\, and a craft.
URL:https://bluewaterparent.com/event/storytime-g-lynn-campbell-2/2026-03-04/
LOCATION:G. Lynn Campbell Library\, 1955 Allen Rd\, Kimball\, MI\, 48074\, United States
CATEGORIES:Free,Playgroups
END:VEVENT
BEGIN:VEVENT
DTSTART;TZID=America/New_York:20260225T110000
DTEND;TZID=America/New_York:20260225T120000
DTSTAMP:20260423T143804
CREATED:20260101T193603Z
LAST-MODIFIED:20260101T193640Z
UID:10019227-1772017200-1772020800@bluewaterparent.com
SUMMARY:Storytime - G. Lynn Campbell
DESCRIPTION:From SCCLS – Bring your preschool-age children for some Storytime fun! They will enjoy a reading\, an energetic activity\, and a craft.
URL:https://bluewaterparent.com/event/storytime-g-lynn-campbell-2/2026-02-25/
LOCATION:G. Lynn Campbell Library\, 1955 Allen Rd\, Kimball\, MI\, 48074\, United States
CATEGORIES:Free,Playgroups
END:VEVENT
BEGIN:VEVENT
DTSTART;TZID=America/New_York:20260219T160000
DTEND;TZID=America/New_York:20260219T170000
DTSTAMP:20260423T143804
CREATED:20260131T170102Z
LAST-MODIFIED:20260131T170102Z
UID:10023238-1771516800-1771520400@bluewaterparent.com
SUMMARY:Hanging Cloud Lamp
DESCRIPTION:Ages 6-12. Registration Requested. \n 
URL:https://bluewaterparent.com/event/hanging-cloud-lamp/
LOCATION:G. Lynn Campbell Library\, 1955 Allen Rd\, Kimball\, MI\, 48074\, United States
END:VEVENT
BEGIN:VEVENT
DTSTART;TZID=America/New_York:20260218T110000
DTEND;TZID=America/New_York:20260218T120000
DTSTAMP:20260423T143804
CREATED:20260101T193603Z
LAST-MODIFIED:20260101T193640Z
UID:10019226-1771412400-1771416000@bluewaterparent.com
SUMMARY:Storytime - G. Lynn Campbell
DESCRIPTION:From SCCLS – Bring your preschool-age children for some Storytime fun! They will enjoy a reading\, an energetic activity\, and a craft.
URL:https://bluewaterparent.com/event/storytime-g-lynn-campbell-2/2026-02-18/
LOCATION:G. Lynn Campbell Library\, 1955 Allen Rd\, Kimball\, MI\, 48074\, United States
CATEGORIES:Free,Playgroups
END:VEVENT
BEGIN:VEVENT
DTSTART;TZID=America/New_York:20260217T173000
DTEND;TZID=America/New_York:20260217T190000
DTSTAMP:20260423T143804
CREATED:20260131T163747Z
LAST-MODIFIED:20260131T163747Z
UID:10023232-1771349400-1771354800@bluewaterparent.com
SUMMARY:3D Mini Robot
DESCRIPTION:Paint a 3D Printed Robot\, supplies included. Registration requested.
URL:https://bluewaterparent.com/event/3d-mini-robot/
LOCATION:G. Lynn Campbell Library\, 1955 Allen Rd\, Kimball\, MI\, 48074\, United States
CATEGORIES:Teens
END:VEVENT
BEGIN:VEVENT
DTSTART;TZID=America/New_York:20260213T100000
DTEND;TZID=America/New_York:20260213T110000
DTSTAMP:20260423T143804
CREATED:20260125T193944Z
LAST-MODIFIED:20260125T193944Z
UID:10022966-1770976800-1770980400@bluewaterparent.com
SUMMARY:Reading with our Therapy Dog
DESCRIPTION:  \n 
URL:https://bluewaterparent.com/event/reading-with-our-therapy-dog/
LOCATION:G. Lynn Campbell Library\, 1955 Allen Rd\, Kimball\, MI\, 48074\, United States
END:VEVENT
BEGIN:VEVENT
DTSTART;TZID=America/New_York:20260211T110000
DTEND;TZID=America/New_York:20260211T120000
DTSTAMP:20260423T143804
CREATED:20260101T193603Z
LAST-MODIFIED:20260101T193640Z
UID:10019225-1770807600-1770811200@bluewaterparent.com
SUMMARY:Storytime - G. Lynn Campbell
DESCRIPTION:From SCCLS – Bring your preschool-age children for some Storytime fun! They will enjoy a reading\, an energetic activity\, and a craft.
URL:https://bluewaterparent.com/event/storytime-g-lynn-campbell-2/2026-02-11/
LOCATION:G. Lynn Campbell Library\, 1955 Allen Rd\, Kimball\, MI\, 48074\, United States
CATEGORIES:Free,Playgroups
END:VEVENT
BEGIN:VEVENT
DTSTART;TZID=America/New_York:20260210T173000
DTEND;TZID=America/New_York:20260210T190000
DTSTAMP:20260423T143804
CREATED:20260125T185743Z
LAST-MODIFIED:20260125T185743Z
UID:10022780-1770744600-1770750000@bluewaterparent.com
SUMMARY:Valentine's Trinket Box
DESCRIPTION:Registration requested.
URL:https://bluewaterparent.com/event/valentines-trinket-box/
LOCATION:G. Lynn Campbell Library\, 1955 Allen Rd\, Kimball\, MI\, 48074\, United States
END:VEVENT
BEGIN:VEVENT
DTSTART;TZID=America/New_York:20260204T110000
DTEND;TZID=America/New_York:20260204T120000
DTSTAMP:20260423T143804
CREATED:20260101T193603Z
LAST-MODIFIED:20260101T193640Z
UID:10019224-1770202800-1770206400@bluewaterparent.com
SUMMARY:Storytime - G. Lynn Campbell
DESCRIPTION:From SCCLS – Bring your preschool-age children for some Storytime fun! They will enjoy a reading\, an energetic activity\, and a craft.
URL:https://bluewaterparent.com/event/storytime-g-lynn-campbell-2/2026-02-04/
LOCATION:G. Lynn Campbell Library\, 1955 Allen Rd\, Kimball\, MI\, 48074\, United States
CATEGORIES:Free,Playgroups
END:VEVENT
BEGIN:VEVENT
DTSTART;TZID=America/New_York:20260129T170000
DTEND;TZID=America/New_York:20260129T193000
DTSTAMP:20260423T143804
CREATED:20260125T175718Z
LAST-MODIFIED:20260125T175718Z
UID:10022704-1769706000-1769715000@bluewaterparent.com
SUMMARY:Dinner and a Movie
DESCRIPTION:From SCCL: Join us at the G. Lynn Campbell Library for dinner and a movie! Today’s feature presentation is Home Alone. Rated PG. Registration requested. \n 
URL:https://bluewaterparent.com/event/dinner-and-a-movie/
LOCATION:G. Lynn Campbell Library\, 1955 Allen Rd\, Kimball\, MI\, 48074\, United States
END:VEVENT
BEGIN:VEVENT
DTSTART;TZID=America/New_York:20260128T110000
DTEND;TZID=America/New_York:20260128T120000
DTSTAMP:20260423T143804
CREATED:20260101T193603Z
LAST-MODIFIED:20260101T193640Z
UID:10019223-1769598000-1769601600@bluewaterparent.com
SUMMARY:Storytime - G. Lynn Campbell
DESCRIPTION:From SCCLS – Bring your preschool-age children for some Storytime fun! They will enjoy a reading\, an energetic activity\, and a craft.
URL:https://bluewaterparent.com/event/storytime-g-lynn-campbell-2/2026-01-28/
LOCATION:G. Lynn Campbell Library\, 1955 Allen Rd\, Kimball\, MI\, 48074\, United States
CATEGORIES:Free,Playgroups
END:VEVENT
BEGIN:VEVENT
DTSTART;TZID=America/New_York:20260124T110000
DTEND;TZID=America/New_York:20260124T120000
DTSTAMP:20260423T143804
CREATED:20260103T031028Z
LAST-MODIFIED:20260103T031028Z
UID:10021737-1769252400-1769256000@bluewaterparent.com
SUMMARY:Teen Bingo
DESCRIPTION:Registration requested. \n 
URL:https://bluewaterparent.com/event/teen-bingo/
LOCATION:G. Lynn Campbell Library\, 1955 Allen Rd\, Kimball\, MI\, 48074\, United States
CATEGORIES:Teens
END:VEVENT
END:VCALENDAR